Workbook

Sheet Sites Assessment
F8: Summary Table
B9: East Hertfordshire Council
B10: Level 1 SFRA Local Plan Sites Assessment | F10: Fluvial Flood Zone Coverage | N10: FMfP - Surface Water Spatial Planning Present Day | V10: Risk of Flooding from Fluvial Climate Change | Z10: FMfP - Surface Water Spatial Planning Climate Change | AB10: Reservoir Flooding
B11: 46273 | F11: Flood Zone 1 | H11: Flood Zone 2 | J11: Flood Zone 3a | L11: Flood Zone 3b | N11: < 0.1% AEP event (less than 1 in 1000-year) | P11: 0.1% AEP event (1 in 1000-year) | R11: 1% AEP event (1 in 100-year) | T11: 3.3% AEP event (1 in 30-year) | V11: Flood Zones + climate change (additional risk) | X11: Functional floodplain + climate change (additional risk) | Z11: 1% AEP event plus 2070s Upper End Climate Change (additional risk) | AB11: Reservoir Flood Maps Dry Day Extent
C12: Proposed Use | D12: Number of Sites | E12: Area (ha) | F12: Area (ha) | G12: No. 100% | H12: Area (ha) | I12: No. | J12: Area (ha) | K12: No. | L12: Area (ha) | M12: No. | N12: Area (ha) | O12: No. 100% | P12: Area (ha) | Q12: No. | R12: Area (ha) | S12: No. | T12: Area (ha) | U12: No. | V12: Area (ha) | W12: No. | X12: Area (ha) | Y12: No. | Z12: Area (ha) | AA12: No. | AB12: Area (ha) | AC12: No.
C13: Residential | D13: =COUNTIF($D$32:$D$314, $C$13) -> 230 | E13: =SUMIF($D$32:$D$314, $C$13, $E$32:$E$314) -> 1618.7957 | F13: =SUMIF($D$32:$D$314, $C$13, $F$32:$F$314) -> 1488.6163 | G13: =COUNTIFS($D$32:$D$314, $C$13, $G$32:$G$314, "=100") -> 158 | H13: =SUMIF($D$32:$D$314, $C$13, $H$32:$H$314) -> 58.430617 | I13: =COUNTIFS($D$32:$D$314, $C$13, $I$32:$I$314, ">0") -> 68 | J13: =SUMIF($D$32:$D$314, $C$13, $J$32:$J$314) -> 17.513355 | K13: =COUNTIFS($D$32:$D$314, $C$13, $K$32:$K$314, ">0") -> 54 | L13: =SUMIF($D$32:$D$314, $C$13, $L$32:$L$314) -> 54.235406 | M13: =COUNTIFS($D$32:$D$314, $C$13, $M$32:$M$314, ">0") -> 57 | N13: =SUMIF($D$32:$D$314, $C$13, $N$32:$N$314) -> 1497.0255 | O13: =COUNTIFS($D$32:$D$314, $C$13, $O$32:$O$314, "=100") -> 52 | P13: =SUMIF($D$32:$D$314, $C$13, $P$32:$P$314) -> 56.575423 | Q13: =COUNTIFS($D$32:$D$314, $C$13, $Q$32:$Q$314, ">0") -> 176 | R13: =SUMIF($D$32:$D$314, $C$13, $R$32:$R$314) -> 21.871794 | S13: =COUNTIFS($D$32:$D$314, $C$13, $S$32:$S$314, ">0") -> 146 | T13: =SUMIF($D$32:$D$314, $C$13, $T$32:$T$314) -> 43.322968 | U13: =COUNTIFS($D$32:$D$314, $C$13, $U$32:$U$314, ">0") -> 131 | V13: =SUMIF($D$32:$D$314, $C$13,$V$32:$V$314) -> 3.775 | W13: =COUNTIFS($D$32:$D$314, $C$13,$W$32:$W$314, ">0") -> 36 | X13: =SUMIF($D$32:$D$314, $C$13, $X$32:$X$314) -> 5.7208272 | Y13: =COUNTIFS($D$32:$D$314, $C$13, $Y$32:$Y$314, ">0") -> 45 | Z13: =SUMIF($D$32:$D$314, $C$13, $Z$32:$Z$314) -> 33.927263 | AA13: =COUNTIFS($D$32:$D$314, $C$13, $AA$32:$AA$314, ">0") -> 159 | AB13: =SUMIF($D$32:$D$314, $C$13, $AB$32:$AB$314) -> 16.780515 | AC13: =COUNTIFS($D$32:$D$314, $C$13, $AC$32:$AC$314, ">0") -> 8
C14: Employment | D14: =COUNTIF($D$32:$D$314, $C$14) -> 19 | E14: =SUMIF($D$32:$D$314, $C$14, $E$32:$E$314) -> 159.18566 | F14: =SUMIF($D$32:$D$314, $C$14, $F$32:$F$314) -> 156.09413 | G14: =COUNTIFS($D$32:$D$314, $C$14, $G$32:$G$314, "=100") -> 17 | H14: =SUMIF($D$32:$D$314, $C$14, $H$32:$H$314) -> 2.795263 | I14: =COUNTIFS($D$32:$D$314, $C$14, $I$32:$I$314, ">0") -> 2 | J14: =SUMIF($D$32:$D$314, $C$14, $J$32:$J$314) -> 0.020466756 | K14: =COUNTIFS($D$32:$D$314, $C$14, $K$32:$K$314, ">0") -> 2 | L14: =SUMIF($D$32:$D$314, $C$14, $L$32:$L$314) -> 0.27580556 | M14: =COUNTIFS($D$32:$D$314, $C$14, $M$32:$M$314, ">0") -> 2 | N14: =SUMIF($D$32:$D$314, $C$14, $N$32:$N$314) -> 154.34064 | O14: =COUNTIFS($D$32:$D$314, $C$14, $O$32:$O$314, "=100") -> 3 | P14: =SUMIF($D$32:$D$314, $C$14, $P$32:$P$314) -> 2.6635203 | Q14: =COUNTIFS($D$32:$D$314, $C$14, $Q$32:$Q$314, ">0") -> 16 | R14: =SUMIF($D$32:$D$314, $C$14, $R$32:$R$314) -> 0.98051988 | S14: =COUNTIFS($D$32:$D$314, $C$14, $S$32:$S$314, ">0") -> 14 | T14: =SUMIF($D$32:$D$314, $C$14, $T$32:$T$314) -> 1.2009847 | U14: =COUNTIFS($D$32:$D$314, $C$14, $U$32:$U$314, ">0") -> 16 | V14: =SUMIF($D$32:$D$314, $C$14,$V$32:$V$314) -> 0.015 | W14: =COUNTIFS($D$32:$D$314, $C$14,$W$32:$W$314, ">0") -> 1 | X14: =SUMIF($D$32:$D$314, $C$14, $X$32:$X$314) -> 0.0075956685 | Y14: =COUNTIFS($D$32:$D$314, $C$14, $Y$32:$Y$314, ">0") -> 1 | Z14: =SUMIF($D$32:$D$314, $C$14, $Z$32:$Z$314) -> 1.4727752 | AA14: =COUNTIFS($D$32:$D$314, $C$14, $AA$32:$AA$314, ">0") -> 16 | AB14: =SUMIF($D$32:$D$314, $C$14, $AB$32:$AB$314) -> 0 | AC14: =COUNTIFS($D$32:$D$314, $C$14, $AC$32:$AC$314, ">0") -> 0
C15: Mixed use | D15: =COUNTIF($D$32:$D$314, $C$15) -> 14 | E15: =SUMIF($D$32:$D$314, $C$15, $E$32:$E$314) -> 260.13155 | F15: =SUMIF($D$32:$D$314, $C$15, $F$32:$F$314) -> 247.62744 | G15: =COUNTIFS($D$32:$D$314, $C$15, $G$32:$G$314, "=100") -> 9 | H15: =SUMIF($D$32:$D$314, $C$15, $H$32:$H$314) -> 3.9947451 | I15: =COUNTIFS($D$32:$D$314, $C$15, $I$32:$I$314, ">0") -> 5 | J15: =SUMIF($D$32:$D$314, $C$15, $J$32:$J$314) -> 1.8891127 | K15: =COUNTIFS($D$32:$D$314, $C$15, $K$32:$K$314, ">0") -> 4 | L15: =SUMIF($D$32:$D$314, $C$15, $L$32:$L$314) -> 6.6202514 | M15: =COUNTIFS($D$32:$D$314, $C$15, $M$32:$M$314, ">0") -> 4 | N15: =SUMIF($D$32:$D$314, $C$15, $N$32:$N$314) -> 254.31021 | O15: =COUNTIFS($D$32:$D$314, $C$15, $O$32:$O$314, "=100") -> 3 | P15: =SUMIF($D$32:$D$314, $C$15, $P$32:$P$314) -> 3.529346 | Q15: =COUNTIFS($D$32:$D$314, $C$15, $Q$32:$Q$314, ">0") -> 11 | R15: =SUMIF($D$32:$D$314, $C$15, $R$32:$R$314) -> 0.89142568 | S15: =COUNTIFS($D$32:$D$314, $C$15, $S$32:$S$314, ">0") -> 9 | T15: =SUMIF($D$32:$D$314, $C$15, $T$32:$T$314) -> 1.4005667 | U15: =COUNTIFS($D$32:$D$314, $C$15, $U$32:$U$314, ">0") -> 9 | V15: =SUMIF($D$32:$D$314, $C$15,$V$32:$V$314) -> 3.787 | W15: =COUNTIFS($D$32:$D$314, $C$15,$W$32:$W$314, ">0") -> 5 | X15: =SUMIF($D$32:$D$314, $C$15, $X$32:$X$314) -> 0.30608363 | Y15: =COUNTIFS($D$32:$D$314, $C$15, $Y$32:$Y$314, ">0") -> 3 | Z15: =SUMIF($D$32:$D$314, $C$15, $Z$32:$Z$314) -> 1.7790606 | AA15: =COUNTIFS($D$32:$D$314, $C$15, $AA$32:$AA$314, ">0") -> 10 | AB15: =SUMIF($D$32:$D$314, $C$15, $AB$32:$AB$314) -> 0 | AC15: =COUNTIFS($D$32:$D$314, $C$15, $AC$32:$AC$314, ">0") -> 0
C16: Leisure | D16: =COUNTIF($D$32:$D$314, $C$16) -> 5 | E16: =SUMIF($D$32:$D$314, $C$16, $E$32:$E$314) -> 58.522125 | F16: =SUMIF($D$32:$D$314, $C$16, $F$32:$F$314) -> 50.076859 | G16: =COUNTIFS($D$32:$D$314, $C$16, $G$32:$G$314, "=100") -> 2 | H16: =SUMIF($D$32:$D$314, $C$16, $H$32:$H$314) -> 6.4583471 | I16: =COUNTIFS($D$32:$D$314, $C$16, $I$32:$I$314, ">0") -> 3 | J16: =SUMIF($D$32:$D$314, $C$16, $J$32:$J$314) -> 0.8505106 | K16: =COUNTIFS($D$32:$D$314, $C$16, $K$32:$K$314, ">0") -> 3 | L16: =SUMIF($D$32:$D$314, $C$16, $L$32:$L$314) -> 1.1364089 | M16: =COUNTIFS($D$32:$D$314, $C$16, $M$32:$M$314, ">0") -> 3 | N16: =SUMIF($D$32:$D$314, $C$16, $N$32:$N$314) -> 56.454599 | O16: =COUNTIFS($D$32:$D$314, $C$16, $O$32:$O$314, "=100") -> 1 | P16: =SUMIF($D$32:$D$314, $C$16, $P$32:$P$314) -> 0.83358283 | Q16: =COUNTIFS($D$32:$D$314, $C$16, $Q$32:$Q$314, ">0") -> 4 | R16: =SUMIF($D$32:$D$314, $C$16, $R$32:$R$314) -> 0.28769936 | S16: =COUNTIFS($D$32:$D$314, $C$16, $S$32:$S$314, ">0") -> 4 | T16: =SUMIF($D$32:$D$314, $C$16, $T$32:$T$314) -> 0.94624438 | U16: =COUNTIFS($D$32:$D$314, $C$16, $U$32:$U$314, ">0") -> 4 | V16: =SUMIF($D$32:$D$314, $C$16,$V$32:$V$314) -> 1.647 | W16: =COUNTIFS($D$32:$D$314, $C$16,$W$32:$W$314, ">0") -> 3 | X16: =SUMIF($D$32:$D$314, $C$16, $X$32:$X$314) -> 0.77930165 | Y16: =COUNTIFS($D$32:$D$314, $C$16, $Y$32:$Y$314, ">0") -> 3 | Z16: =SUMIF($D$32:$D$314, $C$16, $Z$32:$Z$314) -> 0.36764419 | AA16: =COUNTIFS($D$32:$D$314, $C$16, $AA$32:$AA$314, ">0") -> 4 | AB16: =SUMIF($D$32:$D$314, $C$16, $AB$32:$AB$314) -> 0 | AC16: =COUNTIFS($D$32:$D$314, $C$16, $AC$32:$AC$314, ">0") -> 0
C17: Education | D17: =COUNTIF($D$32:$D$314, $C$17) -> 2 | E17: =SUMIF($D$32:$D$314, $C$17, $E$32:$E$314) -> 3.0670273 | F17: =SUMIF($D$32:$D$314, $C$17, $F$32:$F$314) -> 3.0670273 | G17: =COUNTIFS($D$32:$D$314, $C$17, $G$32:$G$314, "=100") -> 2 | H17: =SUMIF($D$32:$D$314, $C$17, $H$32:$H$314) -> 0 | I17: =COUNTIFS($D$32:$D$314, $C$17, $I$32:$I$314, ">0") -> 0 | J17: =SUMIF($D$32:$D$314, $C$17, $J$32:$J$314) -> 0 | K17: =COUNTIFS($D$32:$D$314, $C$17, $K$32:$K$314, ">0") -> 0 | L17: =SUMIF($D$32:$D$314, $C$17, $L$32:$L$314) -> 0 | M17: =COUNTIFS($D$32:$D$314, $C$17, $M$32:$M$314, ">0") -> 0 | N17: =SUMIF($D$32:$D$314, $C$17, $N$32:$N$314) -> 2.9656418 | O17: =COUNTIFS($D$32:$D$314, $C$17, $O$32:$O$314, "=100") -> 0 | P17: =SUMIF($D$32:$D$314, $C$17, $P$32:$P$314) -> 0.095387014 | Q17: =COUNTIFS($D$32:$D$314, $C$17, $Q$32:$Q$314, ">0") -> 2 | R17: =SUMIF($D$32:$D$314, $C$17, $R$32:$R$314) -> 0.0029166724 | S17: =COUNTIFS($D$32:$D$314, $C$17, $S$32:$S$314, ">0") -> 1 | T17: =SUMIF($D$32:$D$314, $C$17, $T$32:$T$314) -> 0.0030818306 | U17: =COUNTIFS($D$32:$D$314, $C$17, $U$32:$U$314, ">0") -> 1 | V17: =SUMIF($D$32:$D$314, $C$17,$V$32:$V$314) -> 0 | W17: =COUNTIFS($D$32:$D$314, $C$17,$W$32:$W$314, ">0") -> 0 | X17: =SUMIF($D$32:$D$314, $C$17, $X$32:$X$314) -> 0 | Y17: =COUNTIFS($D$32:$D$314, $C$17, $Y$32:$Y$314, ">0") -> 0 | Z17: =SUMIF($D$32:$D$314, $C$17, $Z$32:$Z$314) -> 0.031475567 | AA17: =COUNTIFS($D$32:$D$314, $C$17, $AA$32:$AA$314, ">0") -> 2 | AB17: =SUMIF($D$32:$D$314, $C$17, $AB$32:$AB$314) -> 0 | AC17: =COUNTIFS($D$32:$D$314, $C$17, $AC$32:$AC$314, ">0") -> 0
C18: Renewable energy | D18: =COUNTIF($D$32:$D$314, $C$18) -> 2 | E18: =SUMIF($D$32:$D$314, $C$18, $E$32:$E$314) -> 15.650082 | F18: =SUMIF($D$32:$D$314, $C$18, $F$32:$F$314) -> 15.650082 | G18: =COUNTIFS($D$32:$D$314, $C$18, $G$32:$G$314, "=100") -> 2 | H18: =SUMIF($D$32:$D$314, $C$18, $H$32:$H$314) -> 0 | I18: =COUNTIFS($D$32:$D$314, $C$18, $I$32:$I$314, ">0") -> 0 | J18: =SUMIF($D$32:$D$314, $C$18, $J$32:$J$314) -> 0 | K18: =COUNTIFS($D$32:$D$314, $C$18, $K$32:$K$314, ">0") -> 0 | L18: =SUMIF($D$32:$D$314, $C$18, $L$32:$L$314) -> 0 | M18: =COUNTIFS($D$32:$D$314, $C$18, $M$32:$M$314, ">0") -> 0 | N18: =SUMIF($D$32:$D$314, $C$18, $N$32:$N$314) -> 15.421913 | O18: =COUNTIFS($D$32:$D$314, $C$18, $O$32:$O$314, "=100") -> 0 | P18: =SUMIF($D$32:$D$314, $C$18, $P$32:$P$314) -> 0.18299768 | Q18: =COUNTIFS($D$32:$D$314, $C$18, $Q$32:$Q$314, ">0") -> 2 | R18: =SUMIF($D$32:$D$314, $C$18, $R$32:$R$314) -> 0.0087649417 | S18: =COUNTIFS($D$32:$D$314, $C$18, $S$32:$S$314, ">0") -> 2 | T18: =SUMIF($D$32:$D$314, $C$18, $T$32:$T$314) -> 0.03640722 | U18: =COUNTIFS($D$32:$D$314, $C$18, $U$32:$U$314, ">0") -> 2 | V18: =SUMIF($D$32:$D$314, $C$18,$V$32:$V$314) -> 0 | W18: =COUNTIFS($D$32:$D$314, $C$18,$W$32:$W$314, ">0") -> 0 | X18: =SUMIF($D$32:$D$314, $C$18, $X$32:$X$314) -> 0 | Y18: =COUNTIFS($D$32:$D$314, $C$18, $Y$32:$Y$314, ">0") -> 0 | Z18: =SUMIF($D$32:$D$314, $C$18, $Z$32:$Z$314) -> 0.041330035 | AA18: =COUNTIFS($D$32:$D$314, $C$18, $AA$32:$AA$314, ">0") -> 2 | AB18: =SUMIF($D$32:$D$314, $C$18, $AB$32:$AB$314) -> 0 | AC18: =COUNTIFS($D$32:$D$314, $C$18, $AC$32:$AC$314, ">0") -> 0
C19: Open space | D19: =COUNTIF($D$32:$D$314, $C$19) -> 5 | E19: =SUMIF($D$32:$D$314, $C$19, $E$32:$E$314) -> 408.79277 | F19: =SUMIF($D$32:$D$314, $C$19, $F$32:$F$314) -> 366.86407 | G19: =COUNTIFS($D$32:$D$314, $C$19, $G$32:$G$314, "=100") -> 4 | H19: =SUMIF($D$32:$D$314, $C$19, $H$32:$H$314) -> 20.748246 | I19: =COUNTIFS($D$32:$D$314, $C$19, $I$32:$I$314, ">0") -> 1 | J19: =SUMIF($D$32:$D$314, $C$19, $J$32:$J$314) -> 4.3093344 | K19: =COUNTIFS($D$32:$D$314, $C$19, $K$32:$K$314, ">0") -> 1 | L19: =SUMIF($D$32:$D$314, $C$19, $L$32:$L$314) -> 16.871122 | M19: =COUNTIFS($D$32:$D$314, $C$19, $M$32:$M$314, ">0") -> 1 | N19: =SUMIF($D$32:$D$314, $C$19, $N$32:$N$314) -> 394.00064 | O19: =COUNTIFS($D$32:$D$314, $C$19, $O$32:$O$314, "=100") -> 1 | P19: =SUMIF($D$32:$D$314, $C$19, $P$32:$P$314) -> 9.5928806 | Q19: =COUNTIFS($D$32:$D$314, $C$19, $Q$32:$Q$314, ">0") -> 4 | R19: =SUMIF($D$32:$D$314, $C$19, $R$32:$R$314) -> 2.5155335 | S19: =COUNTIFS($D$32:$D$314, $C$19, $S$32:$S$314, ">0") -> 3 | T19: =SUMIF($D$32:$D$314, $C$19, $T$32:$T$314) -> 2.6837214 | U19: =COUNTIFS($D$32:$D$314, $C$19, $U$32:$U$314, ">0") -> 2 | V19: =SUMIF($D$32:$D$314, $C$19,$V$32:$V$314) -> 2.041 | W19: =COUNTIFS($D$32:$D$314, $C$19,$W$32:$W$314, ">0") -> 1 | X19: =SUMIF($D$32:$D$314, $C$19, $X$32:$X$314) -> 1.4753746 | Y19: =COUNTIFS($D$32:$D$314, $C$19, $Y$32:$Y$314, ">0") -> 1 | Z19: =SUMIF($D$32:$D$314, $C$19, $Z$32:$Z$314) -> 4.9783195 | AA19: =COUNTIFS($D$32:$D$314, $C$19, $AA$32:$AA$314, ">0") -> 3 | AB19: =SUMIF($D$32:$D$314, $C$19, $AB$32:$AB$314) -> 0 | AC19: =COUNTIFS($D$32:$D$314, $C$19, $AC$32:$AC$314, ">0") -> 0
C20: Oil refinery | D20: =COUNTIF($D$32:$D$314, $C$20) -> 2 | E20: =SUMIF($D$32:$D$314, $C$20, $E$32:$E$314) -> 27.830274 | F20: =SUMIF($D$32:$D$314, $C$20, $F$32:$F$314) -> 27.557162 | G20: =COUNTIFS($D$32:$D$314, $C$20, $G$32:$G$314, "=100") -> 1 | H20: =SUMIF($D$32:$D$314, $C$20, $H$32:$H$314) -> 0.10298364 | I20: =COUNTIFS($D$32:$D$314, $C$20, $I$32:$I$314, ">0") -> 1 | J20: =SUMIF($D$32:$D$314, $C$20, $J$32:$J$314) -> 0.079541941 | K20: =COUNTIFS($D$32:$D$314, $C$20, $K$32:$K$314, ">0") -> 1 | L20: =SUMIF($D$32:$D$314, $C$20, $L$32:$L$314) -> 0.090587338 | M20: =COUNTIFS($D$32:$D$314, $C$20, $M$32:$M$314, ">0") -> 1 | N20: =SUMIF($D$32:$D$314, $C$20, $N$32:$N$314) -> 25.382291 | O20: =COUNTIFS($D$32:$D$314, $C$20, $O$32:$O$314, "=100") -> 0 | P20: =SUMIF($D$32:$D$314, $C$20, $P$32:$P$314) -> 1.5529611 | Q20: =COUNTIFS($D$32:$D$314, $C$20, $Q$32:$Q$314, ">0") -> 2 | R20: =SUMIF($D$32:$D$314, $C$20, $R$32:$R$314) -> 0.36873918 | S20: =COUNTIFS($D$32:$D$314, $C$20, $S$32:$S$314, ">0") -> 2 | T20: =SUMIF($D$32:$D$314, $C$20, $T$32:$T$314) -> 0.52628275 | U20: =COUNTIFS($D$32:$D$314, $C$20, $U$32:$U$314, ">0") -> 2 | V20: =SUMIF($D$32:$D$314, $C$20,$V$32:$V$314) -> 0.014 | W20: =COUNTIFS($D$32:$D$314, $C$20,$W$32:$W$314, ">0") -> 1 | X20: =SUMIF($D$32:$D$314, $C$20, $X$32:$X$314) -> 0.012030273 | Y20: =COUNTIFS($D$32:$D$314, $C$20, $Y$32:$Y$314, ">0") -> 1 | Z20: =SUMIF($D$32:$D$314, $C$20, $Z$32:$Z$314) -> 0.82699993 | AA20: =COUNTIFS($D$32:$D$314, $C$20, $AA$32:$AA$314, ">0") -> 2 | AB20: =SUMIF($D$32:$D$314, $C$20, $AB$32:$AB$314) -> 0 | AC20: =COUNTIFS($D$32:$D$314, $C$20, $AC$32:$AC$314, ">0") -> 0
C21: Unknown | D21: =COUNTIF($D$32:$D$314, $C$21) -> 4 | E21: =SUMIF($D$32:$D$314, $C$21, $E$32:$E$314) -> 2.9370356 | F21: =SUMIF($D$32:$D$314, $C$21, $F$32:$F$314) -> 2.6137519 | G21: =COUNTIFS($D$32:$D$314, $C$21, $G$32:$G$314, "=100") -> 3 | H21: =SUMIF($D$32:$D$314, $C$21, $H$32:$H$314) -> 0.12490807 | I21: =COUNTIFS($D$32:$D$314, $C$21, $I$32:$I$314, ">0") -> 1 | J21: =SUMIF($D$32:$D$314, $C$21, $J$32:$J$314) -> 0.14158997 | K21: =COUNTIFS($D$32:$D$314, $C$21, $K$32:$K$314, ">0") -> 1 | L21: =SUMIF($D$32:$D$314, $C$21, $L$32:$L$314) -> 0.056785699 | M21: =COUNTIFS($D$32:$D$314, $C$21, $M$32:$M$314, ">0") -> 1 | N21: =SUMIF($D$32:$D$314, $C$21, $N$32:$N$314) -> 2.9264865 | O21: =COUNTIFS($D$32:$D$314, $C$21, $O$32:$O$314, "=100") -> 2 | P21: =SUMIF($D$32:$D$314, $C$21, $P$32:$P$314) -> 0.010549074 | Q21: =COUNTIFS($D$32:$D$314, $C$21, $Q$32:$Q$314, ">0") -> 2 | R21: =SUMIF($D$32:$D$314, $C$21, $R$32:$R$314) -> 0 | S21: =COUNTIFS($D$32:$D$314, $C$21, $S$32:$S$314, ">0") -> 0 | T21: =SUMIF($D$32:$D$314, $C$21, $T$32:$T$314) -> 0 | U21: =COUNTIFS($D$32:$D$314, $C$21, $U$32:$U$314, ">0") -> 0 | V21: =SUMIF($D$32:$D$314, $C$21,$V$32:$V$314) -> 0.001 | W21: =COUNTIFS($D$32:$D$314, $C$21,$W$32:$W$314, ">0") -> 1 | X21: =SUMIF($D$32:$D$314, $C$21, $X$32:$X$314) -> 0.094671913 | Y21: =COUNTIFS($D$32:$D$314, $C$21, $Y$32:$Y$314, ">0") -> 1 | Z21: =SUMIF($D$32:$D$314, $C$21, $Z$32:$Z$314) -> 1.9708214e-06 | AA21: =COUNTIFS($D$32:$D$314, $C$21, $AA$32:$AA$314, ">0") -> 1 | AB21: =SUMIF($D$32:$D$314, $C$21, $AB$32:$AB$314) -> 0 | AC21: =COUNTIFS($D$32:$D$314, $C$21, $AC$32:$AC$314, ">0") -> 0
C22: TOTAL | D22: =SUM(D13:D21) -> 283 | E22: =SUM(E13:E21) -> 2554.9122 | F22: =SUM(F13:F21) -> 2358.1669 | G22: =SUM(G13:G21) -> 198 | H22: =SUM(H13:H21) -> 92.65511 | I22: =SUM(I13:I21) -> 81 | J22: =SUM(J13:J21) -> 24.803911 | K22: =SUM(K13:K21) -> 66 | ... AC22: =SUM(AC13:AC21) -> 8
B24: Key
B25: Flood Zone 3b | C25: The colour coding shows the highest risk element of the Flood Zone that is present on site and is not in itself an indication of whether the site should or shouldn’t be developed for flooding reason
B26: Functional floodplain plus climate change / Flood Zone 3a / Flood Zone 3a plus climate change
B27: Flood Zone 2 | F27: Main Table
B28: Flood Zone 1 + Surface Water
B29: Flood Zone 1 | F29: Fluvial Flood Zone Coverage | N29: FMfP - Surface Water Spatial Planning Present Day | V29: Risk of Flooding from Fluvial Climate Change | Z29: FMfP - Surface Water Spatial Planning Climate Change | AB29: Reservoir Flooding | AD29: Unmodelled watercourse within 10m of site in Flood Zone 1? | AE29: Risk of groundwater emergence (JBA Groundwater Map)
F30: Flood Zone 1 | H30: Flood Zone 2 | J30: Flood Zone 3a | L30: Flood Zone 3b | N30: < 0.1% AEP event (less than 1 in 1000-year) | P30: 0.1% AEP event (1 in 1000-year) | R30: 1% AEP event (1 in 100-year) | T30: 3.3% AEP event (1 in 30-year) | V30: Flood Zones + climate change (additional risk) | X30: Functional floodplain + climate change (additional risk) | Z30: 1% AEP event plus 2070s Upper End Climate Change (additional risk) | AB30: Reservoir Flood Maps Dry Day Extent
B31: Site Reference | C31: Site Name | D31: Proposed Use | E31: Area (ha) | F31: Area (ha) | G31: % | H31: Area (ha) | I31: % | J31: Area (ha) | K31: % | L31: Area (ha) | M31: % | N31: Area (ha) | O31: % | P31: Area (ha) | Q31: % | R31: Area (ha) | S31: % | T31: Area (ha) | U31: % | V31: Area (ha) | W31: % | X31: Area (ha) | Y31: % | Z31: Area (ha) | AA31: % | AB31: Area (ha) | AC31: % | AF31: Flood Risk Vulnerability Classification (NPPF) | AG31: Level 1 Strategic Recommendation (see SFRA Report) | AH31: Development Considerations | AI31: Recommended Next Steps | AJ31: Council Comments | AK31: Council's Initial Response to Inform Local Plan
B32: =Calculations!A2 -> 01/24/001 | C32: =Calculations!B2 -> Land North of Dolphin Way | D32: =Calculations!C2 -> Residential | E32: =Calculations!D2 -> 0.7310942 | F32: =Calculations!H2 -> 0.56543293 | G32: =Calculations!L2 -> 77.340639 | H32: =Calculations!G2 -> 0.061752908 | I32: =Calculations!K2 -> 8.4466417 | J32: =Calculations!F2 -> 0.021488967 | K32: =Calculations!J2 -> 2.9392884 | L32: =Calculations!E2 -> 0.082419397 | M32: =Calculations!I2 -> 11.273431 | N32: =Calculations!P2 -> 0.59733136 | O32: =Calculations!T2 -> 81.703747 | P32: =Calculations!O2 -> 0.083755912 | Q32: =Calculations!S2 -> 11.456241 | R32: =Calculations!N2 -> 0.015352635 | S32: =Calculations!R2 -> 2.0999531 | T32: =Calculations!M2 -> 0.034654295 | U32: =Calculations!Q2 -> 4.7400588 | V32: =Calculations!AA2 -> 0.019 | W32: =Calculations!AB2 -> 2.5988443 | X32: =Calculations!Y2 -> 0 | Y32: =Calculations!Z2 -> 0 | Z32: =Calculations!AC2 -> 0.054306935 | AA32: =Calculations!AD2 -> 7.428172 | AB32: =Calculations!AF2 -> 0 | AC32: =Calculations!AG2 -> 0 | AD32: N/A | AE32: There is a risk of groundwater emergence to surface and subsurface assets. There is the possibility of groundwater emerging at the surface locally. | AF32: More vulnerable | AG32: Strategic Recommendation A | AH32: Recommend for withdrawal if built development cannot avoid Flood Zone 3b. Site is at high risk of groundwater emergence. | AI32: Development not permitted in Flood Zone 3b. Check whether site boundary can be redrawn or whether it may be possible to incorporate functional floodplain into site layout and design as open greenspace. This may be possible for sites where percentage area of functional floodplain is lower. Site should be withdrawn if these criteria cannot be met. A Level 2 SFRA may be required to assess further risk to assess further riskto inform this process. | AJ32: Flood Zone 3b intersects the site from east to west, adjoining Dolphin Way, compromising the obviious access point. Area of medium flood risk (Flood Zone 2) lies along western edge of the site. There is also risk of surface water flood risk along the estern edge and in patches in the centre of the site. Significant groundwater emergence across central part of the site. | AK32: Significant floodrisk concern from Flood Zone 3b- remove site unless access can avoid area of Flood Zone 3b. If Flood Zone 3b can be avoided, and site is progressed by the Council, A Level 2 SFRA will likely be required to assess further riskdue to distribution of the fluvial and surface water flood risk.
B33: =Calculations!A3 -> 01/24/002 | C33: =Calculations!B3 -> Land at Twyford Bury Lane | D33: =Calculations!C3 -> Residential | E33: =Calculations!D3 -> 11.110868 | F33: =Calculations!H3 -> 4.4590946 | G33: =Calculations!L3 -> 40.13273 | H33: =Calculations!G3 -> 5.9271989 | I33: =Calculations!K3 -> 53.345959 | J33: =Calculations!F3 -> 0.61501996 | K33: =Calculations!J3 -> 5.5353009 | L33: =Calculations!E3 -> 0.10955426 | M33: =Calculations!I3 -> 0.98600994 | N33: =Calculations!P3 -> 10.623405 | O33: =Calculations!T3 -> 95.612742 | P33: =Calculations!O3 -> 0.3614651 | Q33: =Calculations!S3 -> 3.2532572 | R33: =Calculations!N3 -> 0.092388988 | S33: =Calculations!R3 -> 0.8315191 | T33: =Calculations!M3 -> 0.033608352 | U33: =Calculations!Q3 -> 0.30248179 | V33: =Calculations!AA3 -> 0.019 | W33: =Calculations!AB3 -> 0.17100375 | X33: =Calculations!Y3 -> 0.0034480746 | Y33: =Calculations!Z3 -> 0.031033351 | Z33: =Calculations!AC3 -> 0.14492627 | AA33: =Calculations!AD3 -> 1.304365 | AB33: =Calculations!AF3 -> 0 | AC33: =Calculations!AG3 -> 0 | AD33: N/A | AE33: No risk. | AF33: More vulnerable | AG33: Strategic Recommendation A | AH33: Recommend for withdrawal if built development cannot avoid Flood Zone 3b. | AI33: Development not permitted in Flood Zone 3b. Check whether site boundary can be redrawn or whether it may be possible to incorporate functional floodplain into site layout and design as open greenspace. This may be possible for sites where percentage area of functional floodplain is lower. Site should be withdrawn if these criteria cannot be met. A Level 2 SFRA may be required to assess further risk to assess further riskto inform this process. | AJ33: Flood Zone 3b and Flood Zone 3 runs along the north eastern edge of the site, only covering a small area of the site, Approximately 70% of the eastern site parcel is within Flood Zone 2, and there is some areas of surface water flood risk within that area, but no flood risk on the western parcel, to west of Twyford Bury Lane. | AK33: If the site is progressed by the Council for allocation, policy wording should direct buiilt development to the western parcel, away from areas of flood risk. However, given the extent of fluvial flood risk on the eastern parcel, if this area of the site is progressed a Level 2 SFRA will likely be required to assess further risk.
B34: =Calculations!A4 -> 01/24/003 | C34: =Calculations!B4 -> Stylemans Farm | D34: =Calculations!C4 -> Residential | E34: =Calculations!D4 -> 0.91191778 | F34: =Calculations!H4 -> 0.19118785 | G34: =Calculations!L4 -> 20.96547 | H34: =Calculations!G4 -> 0.72072993 | I34: =Calculations!K4 -> 79.03453 | J34: =Calculations!F4 -> 0 | K34: =Calculations!J4 -> 0 | L34: =Calculations!E4 -> 0 | M34: =Calculations!I4 -> 0 | N34: =Calculations!P4 -> 0.91191778 | O34: =Calculations!T4 -> 100 | P34: =Calculations!O4 -> 0 | Q34: =Calculations!S4 -> 0 | R34: =Calculations!N4 -> 0 | S34: =Calculations!R4 -> 0 | T34: =Calculations!M4 -> 0 | U34: =Calculations!Q4 -> 0 | V34: =Calculations!AA4 -> 0 | W34: =Calculations!AB4 -> 0 | X34: =Calculations!Y4 -> 0 | Y34: =Calculations!Z4 -> 0 | Z34: =Calculations!AC4 -> 0 | AA34: =Calculations!AD4 -> 0 | AB34: =Calculations!AF4 -> 0 | AC34: =Calculations!AG4 -> 0 | AD34: N/A | AE34: There is a risk of emergence to subsurface assets, but surface manifestation of groundwater is unlikely. | AF34: More vulnerable | AG34: Strategic Recommendation B | AH34: Level 2 SFRA required due to medium risk from fluvial sources (Flood Zone 2). | AI34: Carry out Level 2 SFRA to further assess risk. A Level 2 SFRA may not be required for sites with a small percentage of the site shown to be at risk, depending on the spatial variability of risk, with risk being addressed through policy wording. | AJ34: Most of the site falls within Flood Zone 2, and risk expands to cover nearly all of the site if the EA climate change allowance is taken into account, so a Level 2 SFRA is needed to assess risk. | AK34: If the site is progressed by the Council for allocation, a Level 2 SFRA will be required to assess further risk.
B35: =Calculations!A5 -> 01/24/004 | C35: =Calculations!B5 -> Meadowlands Development Site and Meads Greenways | D35: =Calculations!C5 -> Residential | E35: =Calculations!D5 -> 0.44035774 | F35: =Calculations!H5 -> 0.15027425 | G35: =Calculations!L5 -> 34.125494 | H35: =Calculations!G5 -> 0.21854766 | I35: =Calculations!K5 -> 49.629572 | J35: =Calculations!F5 -> 0.051468335 | K35: =Calculations!J5 -> 11.687846 | L35: =Calculations!E5 -> 0.02006749 | M35: =Calculations!I5 -> 4.557088 | N35: =Calculations!P5 -> 0.42267428 | O35: =Calculations!T5 -> 95.984297 | P35: =Calculations!O5 -> 0.011556256 | Q35: =Calculations!S5 -> 2.6242882 | R35: =Calculations!N5 -> 0.0061272043 | S35: =Calculations!R5 -> 1.3914152 | T35: =Calculations!M5 -> 0 | U35: =Calculations!Q5 -> 0 | V35: =Calculations!AA5 -> 0 | W35: =Calculations!AB5 -> 0 | X35: =Calculations!Y5 -> 0.045244147 | Y35: =Calculations!Z5 -> 10.274407 | Z35: =Calculations!AC5 -> 0.0067782894 | AA35: =Calculations!AD5 -> 1.5392688 | AB35: =Calculations!AF5 -> 0 | AC35: =Calculations!AG5 -> 0 | AD35: N/A | AE35: There is a risk of groundwater emergence to both surface and subsurface assets. Groundwater may emerge at significant rates and has the capacity to flow overland and/or pond within any topographic low spots. | AF35: More vulnerable | AG35: Strategic Recommendation A | AH35: Recommend for withdrawal if built development cannot avoid Flood Zone 3b. Site is at high risk of groundwater emergence. | AI35: Development not permitted in Flood Zone 3b. Check whether site boundary can be redrawn or whether it may be possible to incorporate functional floodplain into site layout and design as open greenspace. This may be possible for sites where percentage area of functional floodplain is lower. Site should be withdrawn if these criteria cannot be met. A Level 2 SFRA may be required to assess further risk to assess further riskto inform this process. | AJ35: Part of proposed PROW falls within Flood Zone 3b (with a larger area affected when the climate change allowance is taken into account), Flood Zone 3a and surface water flood risk (3.3% AEP event and 1% AEP event). Half of the proposed residential site falls within Flood Zone 2, but the western part of the site adjacent to Rye Street is within Flood Zone 1. | AK35: Built development should avoid Flood Zone 3b. If the remainder of the site is progressed by the Council for allocation, a Level 2 SFRA will likely be required to assess further risk due to the extent of Flood Zone 2. .
B36: =Calculations!A6 -> 01/24/005 | C36: =Calculations!B6 -> Land at Aynsworth Avenue | D36: =Calculations!C6 -> Residential | E36: =Calculations!D6 -> 1.2650579 | F36: =Calculations!H6 -> 0.053374943 | G36: =Calculations!L6 -> 4.2191699 | H36: =Calculations!G6 -> 0.28167187 | I36: =Calculations!K6 -> 22.265531 | J36: =Calculations!F6 -> 0.8971172 | K36: =Calculations!J6 -> 70.915108 | L36: =Calculations!E6 -> 0.032893917 | M36: =Calculations!I6 -> 2.6001906 | N36: =Calculations!P6 -> 0.78200462 | O36: =Calculations!T6 -> 61.815717 | P36: =Calculations!O6 -> 0.23636449 | Q36: =Calculations!S6 -> 18.684084 | R36: =Calculations!N6 -> 0.13250247 | S36: =Calculations!R6 -> 10.474024 | T36: =Calculations!M6 -> 0.11418634 | U36: =Calculations!Q6 -> 9.0261748 | V36: =Calculations!AA6 -> 0 | W36: =Calculations!AB6 -> 0 | X36: =Calculations!Y6 -> 0.00065757067 | Y36: =Calculations!Z6 -> 0.051979491 | Z36: =Calculations!AC6 -> 0.160245 | AA36: =Calculations!AD6 -> 12.667009 | AB36: =Calculations!AF6 -> 0 | AC36: =Calculations!AG6 -> 0 | AD36: N/A | AE36: There is a risk of groundwater emergence to both surface and subsurface assets. Groundwater may emerge at significant rates and has the capacity to flow overland and/or pond within any topographic low spots. | AF36: More vulnerable | AG36: Strategic Recommendation A | AH36: Recommend for withdrawal if built development cannot avoid Flood Zone 3b. Site is at high risk of groundwater emergence. | AI36: Development not permitted in Flood Zone 3b. Check whether site boundary can be redrawn or whether it may be possible to incorporate functional floodplain into site layout and design as open greenspace. This may be possible for sites where percentage area of functional floodplain is lower. Site should be withdrawn if these criteria cannot be met. A Level 2 SFRA may be required to assess further risk to assess further riskto inform this process. | AJ36: Only small area to west of the site within Flood Zone 3b, but risk across site increases when taking account of the EA climate change allowance. Majority of the site, including access is within Flood Zone 2. Ground Water emergence is high and there is a significant area of 3.3% AEP event surface water flood risk to the west of the site. | AK36: Built development should avoid Flood Zone 3b. If the remainder of the site is progressed by the Council for allocation, a Level 2 SFRA will be required to assess risk.
B37: =Calculations!A7 -> 01/24/006 | C37: =Calculations!B7 -> Apton Road Car Park | D37: =Calculations!C7 -> Residential | E37: =Calculations!D7 -> 0.21664486 | F37: =Calculations!H7 -> 0.21664486 | G37: =Calculations!L7 -> 100 | H37: =Calculations!G7 -> 0 | I37: =Calculations!K7 -> 0 | J37: =Calculations!F7 -> 0 | K37: =Calculations!J7 -> 0 | L37: =Calculations!E7 -> 0 | M37: =Calculations!I7 -> 0 | N37: =Calculations!P7 -> 0.19753643 | O37: =Calculations!T7 -> 91.179838 | P37: =Calculations!O7 -> 0.0079012065 | Q37: =Calculations!S7 -> 3.6470778 | R37: =Calculations!N7 -> 0.002726231 | S37: =Calculations!R7 -> 1.2583871 | T37: =Calculations!M7 -> 0.0084809893 | U37: =Calculations!Q7 -> 3.9146968 | V37: =Calculations!AA7 -> 0 | W37: =Calculations!AB7 -> 0 | X37: =Calculations!Y7 -> 0 | Y37: =Calculations!Z7 -> 0 | Z37: =Calculations!AC7 -> 0.0050696968 | AA37: =Calculations!AD7 -> 2.3400956 | AB37: =Calculations!AF7 -> 0 | AC37: =Calculations!AG7 -> 0 | AD37: No | AE37: There is a risk of emergence to subsurface assets, but surface manifestation of groundwater is unlikely. | AF37: More vulnerable | AG37: Strategic Recommendation B | AH37: Level 2 SFRA required due to risk from surface water sources (3.3% AEP event). | AI37: Level 2 SFRA required to further assess risk. A Level 2 SFRA may not be required depending on the spatial variation of risk, particularly for sites with a small percentage of the site shown to be at risk, and can be addressed through policy wording. | AJ37: Surface Water Flood risk (3.3% AEP event) along Apton Road, encroaching into the edge of the site, including the existing access to the car park. Small area 1% AEP event surface water flood risk to the north of the site and an area of 0.1% AEP event risk along the southern edge of the site. | AK37: Given the surface water flood risk at the potential site access, if the site is progressed by the Council for allocation, a Level 2 SFRA will likely be required to assess risk.
B38: =Calculations!A8 -> 01/24/007 | C38: =Calculations!B8 -> Land north of Plantains Wood Cottages, and east of the A120 Little Hadham Bypass | D38: =Calculations!C8 -> Employment | E38: =Calculations!D8 -> 11.52554 | F38: =Calculations!H8 -> 11.52554 | G38: =Calculations!L8 -> 100 | H38: =Calculations!G8 -> 0 | I38: =Calculations!K8 -> 0 | J38: =Calculations!F8 -> 0 | K38: =Calculations!J8 -> 0 | L38: =Calculations!E8 -> 0 | M38: =Calculations!I8 -> 0 | N38: =Calculations!P8 -> 11.345978 | O38: =Calculations!T8 -> 98.442055 | P38: =Calculations!O8 -> 0.13032155 | Q38: =Calculations!S8 -> 1.1307197 | R38: =Calculations!N8 -> 0.026905502 | S38: =Calculations!R8 -> 0.23344245 | T38: =Calculations!M8 -> 0.022334533 | U38: =Calculations!Q8 -> 0.19378296 | V38: =Calculations!AA8 -> 0 | W38: =Calculations!AB8 -> 0 | X38: =Calculations!Y8 -> 0 | Y38: =Calculations!Z8 -> 0 | Z38: =Calculations!AC8 -> 0.060737102 | AA38: =Calculations!AD8 -> 0.52697838 | AB38: =Calculations!AF8 -> 0 | AC38: =Calculations!AG8 -> 0 | AD38: Yes | AE38: Groundwater emergence is not likely. | AF38: Less vulnerable | AG38: Strategic Recommendation B | AH38: Level 2 SFRA required due to risk from surface water sources (3.3% AEP event). | AI38: Level 2 SFRA required to further assess risk. A Level 2 SFRA may not be required depending on the spatial variation of risk, particularly for sites with a small percentage of the site shown to be at risk, and can be addressed through policy wording. | AJ38: Very minimal area of 3.3% AEP event surface water flood risk on eastern boundary. Small areas of 1% and 0.1% AEP event flood risk on eastern and southern boundaries, alongside small patches in the centre of the site, which increase marginally when the EA climate change allowance is taken into account. Built development could avoid these areas. | AK38: If site is progressed by the Council for allocation, policy wording should direct built development away from areas of surface water flood risk.
B39: =Calculations!A9 -> 01/24/008 | C39: =Calculations!B9 -> Wickham Hall | D39: =Calculations!C9 -> Employment | E39: =Calculations!D9 -> 4.9379629 | F39: =Calculations!H9 -> 4.9379629 | G39: =Calculations!L9 -> 100 | H39: =Calculations!G9 -> 0 | I39: =Calculations!K9 -> 0 | J39: =Calculations!F9 -> 0 | K39: =Calculations!J9 -> 0 | L39: =Calculations!E9 -> 0 | M39: =Calculations!I9 -> 0 | N39: =Calculations!P9 -> 4.5372402 | O39: =Calculations!T9 -> 91.884859 | P39: =Calculations!O9 -> 0.13463894 | Q39: =Calculations!S9 -> 2.7266089 | R39: =Calculations!N9 -> 0.072477974 | S39: =Calculations!R9 -> 1.4677707 | T39: =Calculations!M9 -> 0.19360575 | U39: =Calculations!Q9 -> 3.9207616 | V39: =Calculations!AA9 -> 0 | W39: =Calculations!AB9 -> 0 | X39: =Calculations!Y9 -> 0 | Y39: =Calculations!Z9 -> 0 | Z39: =Calculations!AC9 -> 0.052713136 | AA39: =Calculations!AD9 -> 1.0675077 | AB39: =Calculations!AF9 -> 0 | AC39: =Calculations!AG9 -> 0 | AD39: No | AE39: No risk. | AF39: Less vulnerable | AG39: Strategic Recommendation B | AH39: Level 2 SFRA required due to risk from surface water sources (3.3% AEP event). | AI39: Level 2 SFRA required to further assess risk. A Level 2 SFRA may not be required depending on the spatial variation of risk, particularly for sites with a small percentage of the site shown to be at risk, and can be addressed through policy wording. | AJ39: Significant areas of 3.3%, 1% and 0.1% AEP event surface water flood risk in the centrral and southern part of the site, including a flow path in eastern part of the site. Risk level increases when the EA climate change allowance is taken into account. Due to scale and distribution it may be difficult for built development to avoid these areas. | AK39: If site is progressed by the Council for allocation, policy wording should direct built development away from areas of surface water flood risk.
B40: =Calculations!A10 -> 01/24/009 | C40: =Calculations!B10 -> Land east of Avanti Grange Sports Pitches, north of the A120 | D40: =Calculations!C10 -> Leisure | E40: =Calculations!D10 -> 2.5532587 | F40: =Calculations!H10 -> 1.8003268 | G40: =Calculations!L10 -> 70.510943 | H40: =Calculations!G10 -> 0.68185466 | I40: =Calculations!K10 -> 26.705272 | J40: =Calculations!F10 -> 0.00025369233 | K40: =Calculations!J10 -> 0.0099360216 | L40: =Calculations!E10 -> 0.070823552 | M40: =Calculations!I10 -> 2.7738495 | N40: =Calculations!P10 -> 2.3189063 | O40: =Calculations!T10 -> 90.821441 | P40: =Calculations!O10 -> 0.098711491 | Q40: =Calculations!S10 -> 3.8660983 | R40: =Calculations!N10 -> 0.032174708 | S40: =Calculations!R10 -> 1.2601429 | T40: =Calculations!M10 -> 0.10346615 | U40: =Calculations!Q10 -> 4.0523174 | V40: =Calculations!AA10 -> 0.004 | W40: =Calculations!AB10 -> 0.15666254 | X40: =Calculations!Y10 -> 0.00014587859 | Y40: =Calculations!Z10 -> 0.0057134279 | Z40: =Calculations!AC10 -> 0.051716153 | AA40: =Calculations!AD10 -> 2.025496 | AB40: =Calculations!AF10 -> 0 | AC40: =Calculations!AG10 -> 0 | AD40: N/A | AE40: There is a risk of groundwater emergence to both surface and subsurface assets. Groundwater may emerge at significant rates and has the capacity to flow overland and/or pond within any topographic low spots. | AF40: Less vulnerable | AG40: Strategic Recommendation A | AH40: Recommend for withdrawal if built development cannot avoid Flood Zone 3b. Site is at high risk of groundwater emergence. | AI40: Development not permitted in Flood Zone 3b. Check whether site boundary can be redrawn or whether it may be possible to incorporate functional floodplain into site layout and design as open greenspace. This may be possible for sites where percentage area of functional floodplain is lower. Site should be withdrawn if these criteria cannot be met. A Level 2 SFRA may be required to inform this process. | AJ40: Narrow strip of Flood Zone 3b along the eastern edge of the site. Flood Zone 2 extends further west covering appromimately a third of the site. There is risk of surface water flooding along the northern part of the site.High risk of groundwater emergence. Development in Flood Zone 3b could be avoided, but potential site access is likely to fall within the area of dlood zone 2, so warrants further investigation. | AK40: Given that the access potentially lies within Flood Zone 2, if the site is progressed by the Council for allocation, a Level 2 SFRA may be required.
B41: =Calculations!A11 -> 01/24/010 | C41: =Calculations!B11 -> Land North of Great Hadham Road | D41: =Calculations!C11 -> Residential | E41: =Calculations!D11 -> 3.2497802 | F41: =Calculations!H11 -> 3.2497802 | G41: =Calculations!L11 -> 100 | H41: =Calculations!G11 -> 0 | I41: =Calculations!K11 -> 0 | J41: =Calculations!F11 -> 0 | K41: =Calculations!J11 -> 0 | L41: =Calculations!E11 -> 0 | M41: =Calculations!I11 -> 0 | N41: =Calculations!P11 -> 3.095429 | O41: =Calculations!T11 -> 95.250413 | P41: =Calculations!O11 -> 0.063103202 | Q41: =Calculations!S11 -> 1.9417683 | R41: =Calculations!N11 -> 0.034502976 | S41: =Calculations!R11 -> 1.0617019 | T41: =Calculations!M11 -> 0.056744968 | U41: =Calculations!Q11 -> 1.7461171 | V41: =Calculations!AA11 -> 0 | W41: =Calculations!AB11 -> 0 | X41: =Calculations!Y11 -> 0 | Y41: =Calculations!Z11 -> 0 | Z41: =Calculations!AC11 -> 0.033356179 | AA41: =Calculations!AD11 -> 1.0264134 | AB41: =Calculations!AF11 -> 0 | AC41: =Calculations!AG11 -> 0 | AD41: No | AE41: No risk. | AF41: More vulnerable | AG41: Strategic Recommendation B | AH41: Level 2 SFRA required due to risk from surface water sources (3.3% AEP event). | AI41: Level 2 SFRA required to further assess risk. A Level 2 SFRA may not be required depending on the spatial variation of risk, particularly for sites with a small percentage of the site shown to be at risk, and can be addressed through policy wording. | AJ41: There is a corridor of 3.3% AEP event surface water flood risk along part of the southern edge of the site and in the north west part of the site. Southern boundary of the site along Hadham Road and to east of site is also at risk of 1% and 0.1% AEP event surface water flood risk. Taking account of the EA climate change allowance this risk extends further along the southern and eastern edge of the site, which is likely to impact access to the site. | AK41: Given that potential access could be affected by surface water flood risk, if the site is progressed by the Council for allocation, a Level 2 SFRA may be required to assess risk.
B42: =Calculations!A12 -> 01/24/011 | C42: =Calculations!B12 -> Land adjacent to The Rectory | D42: =Calculations!C12 -> Residential | E42: =Calculations!D12 -> 0.75246567 | F42: =Calculations!H12 -> 0.75246567 | G42: =Calculations!L12 -> 100 | H42: =Calculations!G12 -> 0 | I42: =Calculations!K12 -> 0 | J42: =Calculations!F12 -> 0 | K42: =Calculations!J12 -> 0 | L42: =Calculations!E12 -> 0 | M42: =Calculations!I12 -> 0 | N42: =Calculations!P12 -> 0.61406513 | O42: =Calculations!T12 -> 81.607063 | P42: =Calculations!O12 -> 0.03756424 | Q42: =Calculations!S12 -> 4.9921534 | R42: =Calculations!N12 -> 0.0072283472 | S42: =Calculations!R12 -> 0.96062153 | T42: =Calculations!M12 -> 0.093607952 | U42: =Calculations!Q12 -> 12.440162 | V42: =Calculations!AA12 -> 0 | W42: =Calculations!AB12 -> 0 | X42: =Calculations!Y12 -> 0 | Y42: =Calculations!Z12 -> 0 | Z42: =Calculations!AC12 -> 0.016978193 | AA42: =Calculations!AD12 -> 2.2563413 | AB42: =Calculations!AF12 -> 0 | AC42: =Calculations!AG12 -> 0 | AD42: No | AE42: No risk. | AF42: More vulnerable | AG42: Strategic Recommendation B | AH42: Level 2 SFRA required due to risk from surface water sources (3.3% AEP event). | AI42: Level 2 SFRA required to further assess risk. A Level 2 SFRA may not be required depending on the spatial variation of risk, particularly for sites with a small percentage of the site shown to be at risk, and can be addressed through policy wording. | AJ42: The is a an area of surface water flood risk along the western part of the site, which increases slightly when EA climate change allowance is included. but built development could avoid this area. However there is surface water flood risk along southern edge of site, along Thorley Lane East, which will likely affect access to the site. | AK42: Given that potential access could be affected by surface water flood risk, if the site is progressed by the Council for allocation, a Level 2 SFRA may be required to assess risk.
B43: =Calculations!A13 -> 01/24/012 | C43: =Calculations!B13 -> Land north and west of A120 | D43: =Calculations!C13 -> Residential | E43: =Calculations!D13 -> 7.2295257 | F43: =Calculations!H13 -> 7.2295257 | G43: =Calculations!L13 -> 100 | H43: =Calculations!G13 -> 0 | I43: =Calculations!K13 -> 0 | J43: =Calculations!F13 -> 0 | K43: =Calculations!J13 -> 0 | L43: =Calculations!E13 -> 0 | M43: =Calculations!I13 -> 0 | N43: =Calculations!P13 -> 6.8491363 | O43: =Calculations!T13 -> 94.73839 | P43: =Calculations!O13 -> 0.23442925 | Q43: =Calculations!S13 -> 3.2426643 | R43: =Calculations!N13 -> 0.068961879 | S43: =Calculations!R13 -> 0.95389216 | T43: =Calculations!M13 -> 0.076998301 | U43: =Calculations!Q13 -> 1.0650533 | V43: =Calculations!AA13 -> 0 | W43: =Calculations!AB13 -> 0 | X43: =Calculations!Y13 -> 0 | Y43: =Calculations!Z13 -> 0 | Z43: =Calculations!AC13 -> 0.10534482 | AA43: =Calculations!AD13 -> 1.4571471 | AB43: =Calculations!AF13 -> 0 | AC43: =Calculations!AG13 -> 0 | AD43: No | AE43: No risk. | AF43: More vulnerable | AG43: Strategic Recommendation B | AH43: Level 2 SFRA required due to risk from surface water sources (3.3% AEP event). | AI43: Level 2 SFRA required to further assess risk. A Level 2 SFRA may not be required depending on the spatial variation of risk, particularly for sites with a small percentage of the site shown to be at risk, and can be addressed through policy wording. | AJ43: Small area of surface water flooding in a very small area in the north western part of the site and along southern boundary, which uncreases to a northern area of the site when EA climate change allowance is applied. However, proposed built development and access could avoid these areas. Only need a Level 2 SFRA if the access adjoins the A120 to the south or onto the roundabout which is at risk of surface water flooding, which increases when the climate change allowance is included. | AK43: Given that potential access could be affected by surface water flood risk, if the site is progressed by the Council for allocation, a Level 2 SFRA may be required to assess risk.
... B152: =Calculations!A122 -> 20/24/002 | C152: =Calculations!B122 -> Peascroft | D152: =Calculations!C122 -> Residential | E152: =Calculations!D122 -> 12.959335 | F152: =Calculations!H122 -> 12.959335 | G152: =Calculations!L122 -> 100 | H152: =Calculations!G122 -> 0 | I152: =Calculations!K122 -> 0 | J152: =Calculations!F122 -> 0 | K152: =Calculations!J122 -> 0 | L152: =Calculations!E122 -> 0 | M152: =Calculations!I122 -> 0 | N152: =Calculations!P122 -> 12.759708 | O152: =Calculations!T122 -> 98.459589 | P152: =Calculations!O122 -> 0.19876314 | Q152: =Calculations!S122 -> 1.5337448 | R152: =Calculations!N122 -> 0.0008638857 | S152: =Calculations!R122 -> 0.0066661265 | T152: =Calculations!M122 -> 0 | U152: =Calculations!Q122 -> 0 | V152: =Calculations!AA122 -> 0 | W152: =Calculations!AB122 -> 0 | X152: =Calculations!Y122 -> 0 | Y152: =Calculations!Z122 -> 0 | Z152: =Calculations!AC122 -> 0.090089343 | AA152: =Calculations!AD122 -> 0.69516947 | AB152: =Calculations!AF122 -> 0 | AC152: =Calculations!AG122 -> 0 | AD152: No | AE152: No risk. | AF152: More vulnerable | AG152: Strategic Recommendation B | AH152: Level 2 SFRA required due to risk from surface water sources (1% AEP event). | AI152: Level 2 SFRA required to further assess risk. A Level 2 SFRA may not be required depending on the spatial variation of risk, particularly for sites with a small percentage of the site shown to be at risk, and can be addressed through policy wording. | AJ152: There is a thin strip of 0.1% AEP surface water flood risk which travels vertically through the middle of the site. When considering future climate change risk projections, the risk becomes slightly more extensive, and smaller pockets appear in other places around the site. However, built development could likely avoid. | AK152: If site is progressed by the Council for allocation, policy wording should direct built development away from areas of surface water flood risk.
B153: =Calculations!A123 -> 20/24/003 | C153: =Calculations!B123 -> Land to the East of Warren Lane, Cottered | D153: =Calculations!C123 -> Residential | E153: =Calculations!D123 -> 0.51729069 | F153: =Calculations!H123 -> 0.51729069 | G153: =Calculations!L123 -> 100 | H153: =Calculations!G123 -> 0 | I153: =Calculations!K123 -> 0 | J153: =Calculations!F123 -> 0 | K153: =Calculations!J123 -> 0 | L153: =Calculations!E123 -> 0 | M153: =Calculations!I123 -> 0 | N153: =Calculations!P123 -> 0.51729069 | O153: =Calculations!T123 -> 100 | P153: =Calculations!O123 -> 0 | Q153: =Calculations!S123 -> 0 | R153: =Calculations!N123 -> 0 | S153: =Calculations!R123 -> 0 | T153: =Calculations!M123 -> 0 | U153: =Calculations!Q123 -> 0 | V153: =Calculations!AA123 -> 0 | W153: =Calculations!AB123 -> 0 | X153: =Calculations!Y123 -> 0 | Y153: =Calculations!Z123 -> 0 | Z153: =Calculations!AC123 -> 0 | AA153: =Calculations!AD123 -> 0 | AB153: =Calculations!AF123 -> 0 | AC153: =Calculations!AG123 -> 0 | AD153: No | AE153: No risk. | AF153: More vulnerable | AG153: Strategic Recommendation D | AH153: Development could be allocated on flood risk grounds based on the evidence of this Level 1 SFRA. | AI153: LPA to make decision on allocation. | AJ153: No significant flood risk impacting the site. | AK153: 1
B154: =Calculations!A124 -> 22/24/001 | C154: =Calculations!B124 -> Fiddlers Brook Stables | D154: =Calculations!C124 -> Residential | E154: =Calculations!D124 -> 2.2352779 | F154: =Calculations!H124 -> 2.2352779 | G154: =Calculations!L124 -> 100 | H154: =Calculations!G124 -> 0 | I154: =Calculations!K124 -> 0 | J154: =Calculations!F124 -> 0 | K154: =Calculations!J124 -> 0 | L154: =Calculations!E124 -> 0 | M154: =Calculations!I124 -> 0 | N154: =Calculations!P124 -> 2.1673238 | O154: =Calculations!T124 -> 96.959926 | P154: =Calculations!O124 -> 0.034431209 | Q154: =Calculations!S124 -> 1.5403548 | R154: =Calculations!N124 -> 0.019172944 | S154: =Calculations!R124 -> 0.85774322 | T154: =Calculations!M124 -> 0.014349945 | U154: =Calculations!Q124 -> 0.64197587 | V154: =Calculations!AA124 -> 0 | W154: =Calculations!AB124 -> 0 | X154: =Calculations!Y124 -> 0 | Y154: =Calculations!Z124 -> 0 | Z154: =Calculations!AC124 -> 0.015056187 | AA154: =Calculations!AD124 -> 0.67357116 | AB154: =Calculations!AF124 -> 0 | AC154: =Calculations!AG124 -> 0 | AD154: N/A | AE154: There is a risk of groundwater emergence to both surface and subsurface assets. Groundwater may emerge at significant rates and has the capacity to flow overland and/or pond within any topographic low spots. | AF154: More vulnerable | AG154: Strategic Recommendation B | AH154: Level 2 SFRA required due to risk from surface water sources (3.3% AEP event). Site is at high risk of groundwater emergence. | AI154: Level 2 SFRA required to further assess risk. A Level 2 SFRA may not be required depending on the spatial variation of risk, particularly for sites with a small percentage of the site shown to be at risk, and can be addressed through policy wording. | AJ154: Flood Zone 3b and Flood Zone 2 runs immediately adjacent to the site, along the main road to the at the north west of the site. Access points should avoid this area. There is a small pocket of 3.3% AEP surface water flood risk in the middle of the site, which is also surrounded by 1% AEP and 0.1% AEP surface water flood risk. When considering future climate change risk projection, these risk percentages areas expand further, but concentrated in one area so built development could avoid. However there is surface water flood risk on main access road to site, in additon to the fluvial flood risk on the road to the north west of the site. Also, the site is almost entirely covered by a groundwater flooding risk, which travels through the centre of the site. | AK154: Given the flood risk at the potential site access, if the site is progressed by the Council for allocation, a Level 2 SFRA will likely be required to assess risk.
B155: =Calculations!A125 -> 22/24/002 | C155: =Calculations!B125 -> Land at Redricks, Gilston | D155: =Calculations!C125 -> Residential | E155: =Calculations!D125 -> 47.786443 | F155: =Calculations!H125 -> 18.892792 | G155: =Calculations!L125 -> 39.535883 | H155: =Calculations!G125 -> 4.4039469 | I155: =Calculations!K125 -> 9.2158917 | J155: =Calculations!F125 -> 4.2237081 | K155: =Calculations!J125 -> 8.8387163 | L155: =Calculations!E125 -> 20.265996 | M155: =Calculations!I125 -> 42.409509 | N155: =Calculations!P125 -> 21.87686 | O155: =Calculations!T125 -> 45.780473 | P155: =Calculations!O125 -> 6.9521166 | Q155: =Calculations!S125 -> 14.548303 | R155: =Calculations!N125 -> 6.379204 | S155: =Calculations!R125 -> 13.349401 | T155: =Calculations!M125 -> 12.578263 | U155: =Calculations!Q125 -> 26.321823 | V155: =Calculations!AA125 -> 0.119 | W155: =Calculations!AB125 -> 0.2490246 | X155: =Calculations!Y125 -> 1.886706 | Y155: =Calculations!Z125 -> 3.9482034 | Z155: =Calculations!AC125 -> 6.4760784 | AA155: =Calculations!AD125 -> 13.552125 | AB155: =Calculations!AF125 -> 7.9034174 | AC155: =Calculations!AG125 -> 16.539037 | AD155: N/A | AE155: There is a risk of groundwater emergence to both surface and subsurface assets. Groundwater may emerge at significant rates and has the capacity to flow overland and/or pond within any topographic low spots. | AF155: More vulnerable | AG155: Strategic Recommendation A | AH155: Recommend for withdrawal if built development cannot avoid Flood Zone 3b. Site is at high risk of groundwater emergence. Site is at risk of flooding from reservoirs. | AI155: Development not permitted in Flood Zone 3b. Check whether site boundary can be redrawn or whether it may be possible to incorporate functional floodplain into site layout and design as open greenspace. This may be possible for sites where percentage area of functional floodplain is lower. Site should be withdrawn if these criteria cannot be met. A Level 2 SFRA may be required to inform this process. | AJ155: Flood Zone 3b covers a large portion of the southern part of the site, as well as 80% of the eastern half of the site. There is also a thin band which travels through the middle of the site. Flood Zones 3a follows the same pattern. Flood Zone 2 covers a large majority of the site more definitively. Climate change risk covers the eastern part of the site. There are large areas of 3.3% AEP surface water flood risk covering the site, mainly appearing in the south-western part of the site, and the eastern half of the site. In other areas, there are large patches. Surrounding these risk areas are 1% AEP surface water flood risk, which mainly surround the larger areas, which are then also surrounded by patches of 0.1% AEP surface water flood risk. When considering future climate change risk projections, the risk expands and covers a large majority of the site. The western half of the site is almost entirely covered by a groundwater flooding risk. | AK155: If site is progressed by the Council for allocation a Level 2 SFRA will likely be required to assess further risk.
B156: =Calculations!A126 -> 22/24/003 | C156: =Calculations!B126 -> Land South of Redricks Lane | D156: =Calculations!C126 -> Residential | E156: =Calculations!D126 -> 14.27736 | F156: =Calculations!H126 -> 8.1345638 | G156: =Calculations!L126 -> 56.975267 | H156: =Calculations!G126 -> 4.3712078 | I156: =Calculations!K126 -> 30.61636 | J156: =Calculations!F126 -> 0.5964655 | K156: =Calculations!J126 -> 4.1777017 | L156: =Calculations!E126 -> 1.1751225 | M156: =Calculations!I126 -> 8.2306713 | N156: =Calculations!P126 -> 11.902071 | O156: =Calculations!T126 -> 83.363253 | P156: =Calculations!O126 -> 1.0302524 | Q156: =Calculations!S126 -> 7.2159866 | R156: =Calculations!N126 -> 0.2434372 | S156: =Calculations!R126 -> 1.7050575 | T156: =Calculations!M126 -> 1.1015986 | U156: =Calculations!Q126 -> 7.7157028 | V156: =Calculations!AA126 -> 0 | W156: =Calculations!AB126 -> 0 | X156: =Calculations!Y126 -> 0.088850604 | Y156: =Calculations!Z126 -> 0.62231818 | Z156: =Calculations!AC126 -> 0.96196933 | AA156: =Calculations!AD126 -> 6.7377257 | AB156: =Calculations!AF126 -> 0 | AC156: =Calculations!AG126 -> 0 | AD156: N/A | AE156: There is a risk of groundwater emergence to both surface and subsurface assets. Groundwater may emerge at significant rates and has the capacity to flow overland and/or pond within any topographic low spots. | AF156: More vulnerable | AG156: Strategic Recommendation A | AH156: Recommend for withdrawal if built development cannot avoid Flood Zone 3b. Site is at high risk of groundwater emergence. | AI156: Development not permitted in Flood Zone 3b. Check whether site boundary can be redrawn or whether it may be possible to incorporate functional floodplain into site layout and design as open greenspace. This may be possible for sites where percentage area of functional floodplain is lower. Site should be withdrawn if these criteria cannot be met. A Level 2 SFRA may be required to inform this process. | AJ156: Flood Zone 3b covers part of the southern area of the site. Flood Zone 3a covers the same area. Flood Zone 2 extends this risk, and covers the entire southern section of the site, extending into the middle part of the site. There are pockets of 3.3% AEP surface water flood risk which run from the southern part of the site, along the western and eastern boundaries of the site. There are pockets of 1% AEP surface water flood risk which fill the gaps between these pockets, as well as pockets of 0.1% AEP surface water flood risk. When considering future climate change risk projections, the risk expands and covers a large majority of the southern, western, and eastern parts of the site. The northern part of the site is covered by a groundwater flooding risk. | AK156: If site is progressed by the Council for allocation a Level 2 SFRA will likely be required to assess further risk.
...

Sheet Calculations
A1: SiteRef | B1: Name | C1: Proposed_Use | D1: Area_Ha | E1: FZ3b_Area | F1: FZ3a_Area | G1: FZ2_Area | H1: FZ1_Area | I1: FZ3b_pct | J1: FZ3a_pct | K1: FZ2_pct | L1: FZ1 | M1: SWSP30yr_Area | N1: SWSP100yr_Area | O1: SWSP1000yr_Area | P1: Very Low Area | Q1: SWSP30yr_pct | R1: SWSP100yr_pct | S1: SWSP1000yr_pct | T1: Very Low pct | V1: QA | W1: QA | Y1: Future_functional_floodplain_area | Z1: Future_FF_pct | AA1: Future_FZ_area | AB1: Future_FZ_pct | AC1: SWSP100_CC_Area | AD1: SWSP100_CC_Pct | AF1: Dry day reservoir area | AG1: Dry day reservoir pct
A2: 01/24/001 | B2: Land North of Dolphin Way | C2: Residential | D2: 0.7310942 | E2: 0.082419397 | F2: 0.021488967 | G2: 0.061752908 | H2: =D2-E2-F2-G2 -> 0.56543293 | I2: =E2/D2*100 -> 11.273431 | J2: =F2/D2*100 -> 2.9392884 | K2: =G2/D2*100 -> 8.4466417 | L2: =H2/D2*100 -> 77.340639 | M2: 0.034654295 | N2: 0.015352635 | O2: 0.083755912 | P2: =D2-SUM(M2,N2,O2) -> 0.59733136 | Q2: =M2/D2*100 -> 4.7400588 | R2: =N2/D2*100 -> 2.0999531 | S2: =O2/D2*100 -> 11.456241 | T2: =P2/D2*100 -> 81.703747 | V2: =SUM(I2:L2) -> 100 | W2: =SUM(Q2:R2,S2) -> 18.296253 | Y2: 0 | Z2: =Y2/D2*100 -> 0 | AA2: 0.019 | AB2: =AA2/D2*100 -> 2.5988443 | AC2: 0.054306935 | AD2: =AC2/D2*100 -> 7.428172 | AF2: 0 | AG2: =AF2/D2*100 -> 0
A3: 01/24/002 | B3: Land at Twyford Bury Lane | C3: Residential | D3: 11.110868 | E3: 0.10955426 | F3: 0.61501996 | G3: 5.9271989 | H3: =D3-E3-F3-G3 -> 4.4590946 | I3: =E3/D3*100 -> 0.98600994 | J3: =F3/D3*100 -> 5.5353009 | K3: =G3/D3*100 -> 53.345959 | L3: =H3/D3*100 -> 40.13273 | M3: 0.033608352 | N3: 0.092388988 | O3: 0.3614651 | P3: =D3-SUM(M3,N3,O3) -> 10.623405 | Q3: =M3/D3*100 -> 0.30248179 | R3: =N3/D3*100 -> 0.8315191 | S3: =O3/D3*100 -> 3.2532572 | T3: =P3/D3*100 -> 95.612742 | V3: =SUM(I3:L3) -> 100 | W3: =SUM(Q3:R3,S3) -> 4.3872581 | Y3: 0.0034480746 | Z3: =Y3/D3*100 -> 0.031033351 | AA3: 0.019 | AB3: =AA3/D3*100 -> 0.17100375 | AC3: 0.14492627 | AD3: =AC3/D3*100 -> 1.304365 | AF3: 0 | AG3: =AF3/D3*100 -> 0
A4: 01/24/003 | B4: Stylemans Farm | C4: Residential | D4: 0.91191778 | E4: 0 | F4: 0 | G4: 0.72072993 | H4: =D4-E4-F4-G4 -> 0.19118785 | I4: =E4/D4*100 -> 0 | J4: =F4/D4*100 -> 0 | K4: =G4/D4*100 -> 79.03453 | L4: =H4/D4*100 -> 20.96547 | M4: 0 | N4: 0 | O4: 0 | P4: =D4-SUM(M4,N4,O4) -> 0.91191778 | Q4: =M4/D4*100 -> 0 | R4: =N4/D4*100 -> 0 | S4: =O4/D4*100 -> 0 | T4: =P4/D4*100 -> 100 | V4: =SUM(I4:L4) -> 100 | W4: =SUM(Q4:R4,S4) -> 0 | Y4: 0 | Z4: =Y4/D4*100 -> 0 | AA4: 0 | AB4: =AA4/D4*100 -> 0 | AC4: 0 | AD4: =AC4/D4*100 -> 0 | AF4: 0 | AG4: =AF4/D4*100 -> 0
A5: 01/24/004 | B5: Meadowlands Development Site and Meads Greenways | C5: Residential | D5: 0.44035774 | E5: 0.02006749 | F5: 0.051468335 | G5: 0.21854766 | H5: =D5-E5-F5-G5 -> 0.15027425 | I5: =E5/D5*100 -> 4.557088 | J5: =F5/D5*100 -> 11.687846 | K5: =G5/D5*100 -> 49.629572 | L5: =H5/D5*100 -> 34.125494 | M5: 0 | N5: 0.0061272043 | O5: 0.011556256 | P5: =D5-SUM(M5,N5,O5) -> 0.42267428 | Q5: =M5/D5*100 -> 0 | R5: =N5/D5*100 -> 1.3914152 | S5: =O5/D5*100 -> 2.6242882 | T5: =P5/D5*100 -> 95.984297 | V5: =SUM(I5:L5) -> 100 | W5: =SUM(Q5:R5,S5) -> 4.0157033 | Y5: 0.045244147 | Z5: =Y5/D5*100 -> 10.274407 | AA5: 0 | AB5: =AA5/D5*100 -> 0 | AC5: 0.0067782894 | AD5: =AC5/D5*100 -> 1.5392688 | AF5: 0 | AG5: =AF5/D5*100 -> 0
