Workbook

Sheet Sites Assessment
F8: Summary Table
B9: East Hertfordshire Council
B10: Level 1 SFRA Local Plan Sites Assessment | F10: Fluvial Flood Zone Coverage | N10: FMfP - Surface Water Spatial Planning Present Day | V10: Risk of Flooding from Fluvial Climate Change | Z10: FMfP - Surface Water Spatial Planning Climate Change | AB10: Reservoir Flooding
B11: 46273 | F11: Flood Zone 1 | H11: Flood Zone 2 | J11: Flood Zone 3a | L11: Flood Zone 3b | N11: < 0.1% AEP event (less than 1 in 1000-year) | P11: 0.1% AEP event (1 in 1000-year) | R11: 1% AEP event (1 in 100-year) | T11: 3.3% AEP event (1 in 30-year) | V11: Flood Zones + climate change (additional risk) | X11: Functional floodplain + climate change (additional risk) | Z11: 1% AEP event plus 2070s Upper End Climate Change (additional risk) | AB11: Reservoir Flood Maps Dry Day Extent
C12: Proposed Use | D12: Number of Sites | E12: Area (ha) | F12: Area (ha) | G12: No. 100% | H12: Area (ha) | I12: No. | J12: Area (ha) | K12: No. | L12: Area (ha) | M12: No. | N12: Area (ha) | O12: No. 100% | P12: Area (ha) | Q12: No. | R12: Area (ha) | S12: No. | T12: Area (ha) | U12: No. | V12: Area (ha) | W12: No. | X12: Area (ha) | Y12: No. | Z12: Area (ha) | AA12: No. | AB12: Area (ha) | AC12: No.
C13: Residential | D13: =COUNTIF($D$32:$D$314, $C$13) -> 230 | E13: =SUMIF($D$32:$D$314, $C$13, $E$32:$E$314) -> 1618.7957 | F13: =SUMIF($D$32:$D$314, $C$13, $F$32:$F$314) -> 1488.6163 | G13: =COUNTIFS($D$32:$D$314, $C$13, $G$32:$G$314, "=100") -> 158 | H13: =SUMIF($D$32:$D$314, $C$13, $H$32:$H$314) -> 58.430617 | I13: =COUNTIFS($D$32:$D$314, $C$13, $I$32:$I$314, ">0") -> 68 | J13: =SUMIF($D$32:$D$314, $C$13, $J$32:$J$314) -> 17.513355 | K13: =COUNTIFS($D$32:$D$314, $C$13, $K$32:$K$314, ">0") -> 54 | L13: =SUMIF($D$32:$D$314, $C$13, $L$32:$L$314) -> 54.235406 | M13: =COUNTIFS($D$32:$D$314, $C$13, $M$32:$M$314, ">0") -> 57 | N13: =SUMIF($D$32:$D$314, $C$13, $N$32:$N$314) -> 1497.0255 | O13: =COUNTIFS($D$32:$D$314, $C$13, $O$32:$O$314, "=100") -> 52 | P13: =SUMIF($D$32:$D$314, $C$13, $P$32:$P$314) -> 56.575423 | Q13: =COUNTIFS($D$32:$D$314, $C$13, $Q$32:$Q$314, ">0") -> 176 | R13: =SUMIF($D$32:$D$314, $C$13, $R$32:$R$314) -> 21.871794 | S13: =COUNTIFS($D$32:$D$314, $C$13, $S$32:$S$314, ">0") -> 146 | T13: =SUMIF($D$32:$D$314, $C$13, $T$32:$T$314) -> 43.322968 | U13: =COUNTIFS($D$32:$D$314, $C$13, $U$32:$U$314, ">0") -> 131 | V13: =SUMIF($D$32:$D$314, $C$13,$V$32:$V$314) -> 3.775 | W13: =COUNTIFS($D$32:$D$314, $C$13,$W$32:$W$314, ">0") -> 36 | X13: =SUMIF($D$32:$D$314, $C$13, $X$32:$X$314) -> 5.7208272 | Y13: =COUNTIFS($D$32:$D$314, $C$13, $Y$32:$Y$314, ">0") -> 45 | Z13: =SUMIF($D$32:$D$314, $C$13, $Z$32:$Z$314) -> 33.927263 | AA13: =COUNTIFS($D$32:$D$314, $C$13, $AA$32:$AA$314, ">0") -> 159 | AB13: =SUMIF($D$32:$D$314, $C$13, $AB$32:$AB$314) -> 16.780515 | AC13: =COUNTIFS($D$32:$D$314, $C$13, $AC$32:$AC$314, ">0") -> 8
C14: Employment | D14: =COUNTIF($D$32:$D$314, $C$14) -> 19 | E14: =SUMIF($D$32:$D$314, $C$14, $E$32:$E$314) -> 159.18566 | F14: =SUMIF($D$32:$D$314, $C$14, $F$32:$F$314) -> 156.09413 | G14: =COUNTIFS($D$32:$D$314, $C$14, $G$32:$G$314, "=100") -> 17 | H14: =SUMIF($D$32:$D$314, $C$14, $H$32:$H$314) -> 2.795263 | I14: =COUNTIFS($D$32:$D$314, $C$14, $I$32:$I$314, ">0") -> 2 | J14: =SUMIF($D$32:$D$314, $C$14, $J$32:$J$314) -> 0.020466756 | K14: =COUNTIFS($D$32:$D$314, $C$14, $K$32:$K$314, ">0") -> 2 | L14: =SUMIF($D$32:$D$314, $C$14, $L$32:$L$314) -> 0.27580556 | M14: =COUNTIFS($D$32:$D$314, $C$14, $M$32:$M$314, ">0") -> 2 | N14: =SUMIF($D$32:$D$314, $C$14, $N$32:$N$314) -> 154.34064 | O14: =COUNTIFS($D$32:$D$314, $C$14, $O$32:$O$314, "=100") -> 3 | P14: =SUMIF($D$32:$D$314, $C$14, $P$32:$P$314) -> 2.6635203 | Q14: =COUNTIFS($D$32:$D$314, $C$14, $Q$32:$Q$314, ">0") -> 16 | R14: =SUMIF($D$32:$D$314, $C$14, $R$32:$R$314) -> 0.98051988 | S14: =COUNTIFS($D$32:$D$314, $C$14, $S$32:$S$314, ">0") -> 14 | T14: =SUMIF($D$32:$D$314, $C$14, $T$32:$T$314) -> 1.2009847 | U14: =COUNTIFS($D$32:$D$314, $C$14, $U$32:$U$314, ">0") -> 16 | V14: =SUMIF($D$32:$D$314, $C$14,$V$32:$V$314) -> 0.015 | W14: =COUNTIFS($D$32:$D$314, $C$14,$W$32:$W$314, ">0") -> 1 | X14: =SUMIF($D$32:$D$314, $C$14, $X$32:$X$314) -> 0.0075956685 | Y14: =COUNTIFS($D$32:$D$314, $C$14, $Y$32:$Y$314, ">0") -> 1 | Z14: =SUMIF($D$32:$D$314, $C$14, $Z$32:$Z$314) -> 1.4727752 | AA14: =COUNTIFS($D$32:$D$314, $C$14, $AA$32:$AA$314, ">0") -> 16 | AB14: =SUMIF($D$32:$D$314, $C$14, $AB$32:$AB$314) -> 0 | AC14: =COUNTIFS($D$32:$D$314, $C$14, $AC$32:$AC$314, ">0") -> 0
C15: Mixed use | D15: =COUNTIF($D$32:$D$314, $C$15) -> 14 | E15: =SUMIF($D$32:$D$314, $C$15, $E$32:$E$314) -> 260.13155 | F15: =SUMIF($D$32:$D$314, $C$15, $F$32:$F$314) -> 247.62744 | G15: =COUNTIFS($D$32:$D$314, $C$15, $G$32:$G$314, "=100") -> 9 | H15: =SUMIF($D$32:$D$314, $C$15, $H$32:$H$314) -> 3.9947451 | I15: =COUNTIFS($D$32:$D$314, $C$15, $I$32:$I$314, ">0") -> 5 | J15: =SUMIF($D$32:$D$314, $C$15, $J$32:$J$314) -> 1.8891127 | K15: =COUNTIFS($D$32:$D$314, $C$15, $K$32:$K$314, ">0") -> 4 | L15: =SUMIF($D$32:$D$314, $C$15, $L$32:$L$314) -> 6.6202514 | M15: =COUNTIFS($D$32:$D$314, $C$15, $M$32:$M$314, ">0") -> 4 | N15: =SUMIF($D$32:$D$314, $C$15, $N$32:$N$314) -> 254.31021 | O15: =COUNTIFS($D$32:$D$314, $C$15, $O$32:$O$314, "=100") -> 3 | P15: =SUMIF($D$32:$D$314, $C$15, $P$32:$P$314) -> 3.529346 | Q15: =COUNTIFS($D$32:$D$314, $C$15, $Q$32:$Q$314, ">0") -> 11 | R15: =SUMIF($D$32:$D$314, $C$15, $R$32:$R$314) -> 0.89142568 | S15: =COUNTIFS($D$32:$D$314, $C$15, $S$32:$S$314, ">0") -> 9 | T15: =SUMIF($D$32:$D$314, $C$15, $T$32:$T$314) -> 1.4005667 | U15: =COUNTIFS($D$32:$D$314, $C$15, $U$32:$U$314, ">0") -> 9 | V15: =SUMIF($D$32:$D$314, $C$15,$V$32:$V$314) -> 3.787 | W15: =COUNTIFS($D$32:$D$314, $C$15,$W$32:$W$314, ">0") -> 5 | X15: =SUMIF($D$32:$D$314, $C$15, $X$32:$X$314) -> 0.30608363 | Y15: =COUNTIFS($D$32:$D$314, $C$15, $Y$32:$Y$314, ">0") -> 3 | Z15: =SUMIF($D$32:$D$314, $C$15, $Z$32:$Z$314) -> 1.7790606 | AA15: =COUNTIFS($D$32:$D$314, $C$15, $AA$32:$AA$314, ">0") -> 10 | AB15: =SUMIF($D$32:$D$314, $C$15, $AB$32:$AB$314) -> 0 | AC15: =COUNTIFS($D$32:$D$314, $C$15, $AC$32:$AC$314, ">0") -> 0
C16: Leisure | D16: =COUNTIF($D$32:$D$314, $C$16) -> 5 | E16: =SUMIF($D$32:$D$314, $C$16, $E$32:$E$314) -> 58.522125 | F16: =SUMIF($D$32:$D$314, $C$16, $F$32:$F$314) -> 50.076859 | G16: =COUNTIFS($D$32:$D$314, $C$16, $G$32:$G$314, "=100") -> 2 | H16: =SUMIF($D$32:$D$314, $C$16, $H$32:$H$314) -> 6.4583471 | I16: =COUNTIFS($D$32:$D$314, $C$16, $I$32:$I$314, ">0") -> 3 | J16: =SUMIF($D$32:$D$314, $C$16, $J$32:$J$314) -> 0.8505106 | K16: =COUNTIFS($D$32:$D$314, $C$16, $K$32:$K$314, ">0") -> 3 | L16: =SUMIF($D$32:$D$314, $C$16, $L$32:$L$314) -> 1.1364089 | M16: =COUNTIFS($D$32:$D$314, $C$16, $M$32:$M$314, ">0") -> 3 | N16: =SUMIF($D$32:$D$314, $C$16, $N$32:$N$314) -> 56.454599 | O16: =COUNTIFS($D$32:$D$314, $C$16, $O$32:$O$314, "=100") -> 1 | P16: =SUMIF($D$32:$D$314, $C$16, $P$32:$P$314) -> 0.83358283 | Q16: =COUNTIFS($D$32:$D$314, $C$16, $Q$32:$Q$314, ">0") -> 4 | R16: =SUMIF($D$32:$D$314, $C$16, $R$32:$R$314) -> 0.28769936 | S16: =COUNTIFS($D$32:$D$314, $C$16, $S$32:$S$314, ">0") -> 4 | T16: =SUMIF($D$32:$D$314, $C$16, $T$32:$T$314) -> 0.94624438 | U16: =COUNTIFS($D$32:$D$314, $C$16, $U$32:$U$314, ">0") -> 4 | V16: =SUMIF($D$32:$D$314, $C$16,$V$32:$V$314) -> 1.647 | W16: =COUNTIFS($D$32:$D$314, $C$16,$W$32:$W$314, ">0") -> 3 | X16: =SUMIF($D$32:$D$314, $C$16, $X$32:$X$314) -> 0.77930165 | Y16: =COUNTIFS($D$32:$D$314, $C$16, $Y$32:$Y$314, ">0") -> 3 | Z16: =SUMIF($D$32:$D$314, $C$16, $Z$32:$Z$314) -> 0.36764419 | AA16: =COUNTIFS($D$32:$D$314, $C$16, $AA$32:$AA$314, ">0") -> 4 | AB16: =SUMIF($D$32:$D$314, $C$16, $AB$32:$AB$314) -> 0 | AC16: =COUNTIFS($D$32:$D$314, $C$16, $AC$32:$AC$314, ">0") -> 0
C17: Education | D17: =COUNTIF($D$32:$D$314, $C$17) -> 2 | E17: =SUMIF($D$32:$D$314, $C$17, $E$32:$E$314) -> 3.0670273 | F17: =SUMIF($D$32:$D$314, $C$17, $F$32:$F$314) -> 3.0670273 | G17: =COUNTIFS($D$32:$D$314, $C$17, $G$32:$G$314, "=100") -> 2 | H17: =SUMIF($D$32:$D$314, $C$17, $H$32:$H$314) -> 0 | I17: =COUNTIFS($D$32:$D$314, $C$17, $I$32:$I$314, ">0") -> 0 | J17: =SUMIF($D$32:$D$314, $C$17, $J$32:$J$314) -> 0 | K17: =COUNTIFS($D$32:$D$314, $C$17, $K$32:$K$314, ">0") -> 0 | L17: =SUMIF($D$32:$D$314, $C$17, $L$32:$L$314) -> 0 | M17: =COUNTIFS($D$32:$D$314, $C$17, $M$32:$M$314, ">0") -> 0 | N17: =SUMIF($D$32:$D$314, $C$17, $N$32:$N$314) -> 2.9656418 | O17: =COUNTIFS($D$32:$D$314, $C$17, $O$32:$O$314, "=100") -> 0 | P17: =SUMIF($D$32:$D$314, $C$17, $P$32:$P$314) -> 0.095387014 | Q17: =COUNTIFS($D$32:$D$314, $C$17, $Q$32:$Q$314, ">0") -> 2 | R17: =SUMIF($D$32:$D$314, $C$17, $R$32:$R$314) -> 0.0029166724 | S17: =COUNTIFS($D$32:$D$314, $C$17, $S$32:$S$314, ">0") -> 1 | T17: =SUMIF($D$32:$D$314, $C$17, $T$32:$T$314) -> 0.0030818306 | U17: =COUNTIFS($D$32:$D$314, $C$17, $U$32:$U$314, ">0") -> 1 | V17: =SUMIF($D$32:$D$314, $C$17,$V$32:$V$314) -> 0 | W17: =COUNTIFS($D$32:$D$314, $C$17,$W$32:$W$314, ">0") -> 0 | X17: =SUMIF($D$32:$D$314, $C$17, $X$32:$X$314) -> 0 | Y17: =COUNTIFS($D$32:$D$314, $C$17, $Y$32:$Y$314, ">0") -> 0 | Z17: =SUMIF($D$32:$D$314, $C$17, $Z$32:$Z$314) -> 0.031475567 | AA17: =COUNTIFS($D$32:$D$314, $C$17, $AA$32:$AA$314, ">0") -> 2 | AB17: =SUMIF($D$32:$D$314, $C$17, $AB$32:$AB$314) -> 0 | AC17: =COUNTIFS($D$32:$D$314, $C$17, $AC$32:$AC$314, ">0") -> 0
C18: Renewable energy | D18: =COUNTIF($D$32:$D$314, $C$18) -> 2 | E18: =SUMIF($D$32:$D$314, $C$18, $E$32:$E$314) -> 15.650082 | F18: =SUMIF($D$32:$D$314, $C$18, $F$32:$F$314) -> 15.650082 | G18: =COUNTIFS($D$32:$D$314, $C$18, $G$32:$G$314, "=100") -> 2 | H18: =SUMIF($D$32:$D$314, $C$18, $H$32:$H$314) -> 0 | I18: =COUNTIFS($D$32:$D$314, $C$18, $I$32:$I$314, ">0") -> 0 | J18: =SUMIF($D$32:$D$314, $C$18, $J$32:$J$314) -> 0 | K18: =COUNTIFS($D$32:$D$314, $C$18, $K$32:$K$314, ">0") -> 0 | L18: =SUMIF($D$32:$D$314, $C$18, $L$32:$L$314) -> 0 | M18: =COUNTIFS($D$32:$D$314, $C$18, $M$32:$M$314, ">0") -> 0 | N18: =SUMIF($D$32:$D$314, $C$18, $N$32:$N$314) -> 15.421913 | O18: =COUNTIFS($D$32:$D$314, $C$18, $O$32:$O$314, "=100") -> 0 | P18: =SUMIF($D$32:$D$314, $C$18, $P$32:$P$314) -> 0.18299768 | Q18: =COUNTIFS($D$32:$D$314, $C$18, $Q$32:$Q$314, ">0") -> 2 | R18: =SUMIF($D$32:$D$314, $C$18, $R$32:$R$314) -> 0.0087649417 | S18: =COUNTIFS($D$32:$D$314, $C$18, $S$32:$S$314, ">0") -> 2 | T18: =SUMIF($D$32:$D$314, $C$18, $T$32:$T$314) -> 0.03640722 | U18: =COUNTIFS($D$32:$D$314, $C$18, $U$32:$U$314, ">0") -> 2 | V18: =SUMIF($D$32:$D$314, $C$18,$V$32:$V$314) -> 0 | W18: =COUNTIFS($D$32:$D$314, $C$18,$W$32:$W$314, ">0") -> 0 | X18: =SUMIF($D$32:$D$314, $C$18, $X$32:$X$314) -> 0 | Y18: =COUNTIFS($D$32:$D$314, $C$18, $Y$32:$Y$314, ">0") -> 0 | Z18: =SUMIF($D$32:$D$314, $C$18, $Z$32:$Z$314) -> 0.041330035 | AA18: =COUNTIFS($D$32:$D$314, $C$18, $AA$32:$AA$314, ">0") -> 2 | AB18: =SUMIF($D$32:$D$314, $C$18, $AB$32:$AB$314) -> 0 | AC18: =COUNTIFS($D$32:$D$314, $C$18, $AC$32:$AC$314, ">0") -> 0
C19: Open space | D19: =COUNTIF($D$32:$D$314, $C$19) -> 5 | E19: =SUMIF($D$32:$D$314, $C$19, $E$32:$E$314) -> 408.79277 | F19: =SUMIF($D$32:$D$314, $C$19, $F$32:$F$314) -> 366.86407 | G19: =COUNTIFS($D$32:$D$314, $C$19, $G$32:$G$314, "=100") -> 4 | H19: =SUMIF($D$32:$D$314, $C$19, $H$32:$H$314) -> 20.748246 | I19: =COUNTIFS($D$32:$D$314, $C$19, $I$32:$I$314, ">0") -> 1 | J19: =SUMIF($D$32:$D$314, $C$19, $J$32:$J$314) -> 4.3093344 | K19: =COUNTIFS($D$32:$D$314, $C$19, $K$32:$K$314, ">0") -> 1 | L19: =SUMIF($D$32:$D$314, $C$19, $L$32:$L$314) -> 16.871122 | M19: =COUNTIFS($D$32:$D$314, $C$19, $M$32:$M$314, ">0") -> 1 | N19: =SUMIF($D$32:$D$314, $C$19, $N$32:$N$314) -> 394.00064 | O19: =COUNTIFS($D$32:$D$314, $C$19, $O$32:$O$314, "=100") -> 1 | P19: =SUMIF($D$32:$D$314, $C$19, $P$32:$P$314) -> 9.5928806 | Q19: =COUNTIFS($D$32:$D$314, $C$19, $Q$32:$Q$314, ">0") -> 4 | R19: =SUMIF($D$32:$D$314, $C$19, $R$32:$R$314) -> 2.5155335 | S19: =COUNTIFS($D$32:$D$314, $C$19, $S$32:$S$314, ">0") -> 3 | T19: =SUMIF($D$32:$D$314, $C$19, $T$32:$T$314) -> 2.6837214 | U19: =COUNTIFS($D$32:$D$314, $C$19, $U$32:$U$314, ">0") -> 2 | V19: =SUMIF($D$32:$D$314, $C$19,$V$32:$V$314) -> 2.041 | W19: =COUNTIFS($D$32:$D$314, $C$19,$W$32:$W$314, ">0") -> 1 | X19: =SUMIF($D$32:$D$314, $C$19, $X$32:$X$314) -> 1.4753746 | Y19: =COUNTIFS($D$32:$D$314, $C$19, $Y$32:$Y$314, ">0") -> 1 | Z19: =SUMIF($D$32:$D$314, $C$19, $Z$32:$Z$314) -> 4.9783195 | AA19: =COUNTIFS($D$32:$D$314, $C$19, $AA$32:$AA$314, ">0") -> 3 | AB19: =SUMIF($D$32:$D$314, $C$19, $AB$32:$AB$314) -> 0 | AC19: =COUNTIFS($D$32:$D$314, $C$19, $AC$32:$AC$314, ">0") -> 0
C20: Oil refinery | D20: =COUNTIF($D$32:$D$314, $C$20) -> 2 | E20: =SUMIF($D$32:$D$314, $C$20, $E$32:$E$314) -> 27.830274 | F20: =SUMIF($D$32:$D$314, $C$20, $F$32:$F$314) -> 27.557162 | G20: =COUNTIFS($D$32:$D$314, $C$20, $G$32:$G$314, "=100") -> 1 | H20: =SUMIF($D$32:$D$314, $C$20, $H$32:$H$314) -> 0.10298364 | I20: =COUNTIFS($D$32:$D$314, $C$20, $I$32:$I$314, ">0") -> 1 | J20: =SUMIF($D$32:$D$314, $C$20, $J$32:$J$314) -> 0.079541941 | K20: =COUNTIFS($D$32:$D$314, $C$20, $K$32:$K$314, ">0") -> 1 | L20: =SUMIF($D$32:$D$314, $C$20, $L$32:$L$314) -> 0.090587338 | M20: =COUNTIFS($D$32:$D$314, $C$20, $M$32:$M$314, ">0") -> 1 | N20: =SUMIF($D$32:$D$314, $C$20, $N$32:$N$314) -> 25.382291 | O20: =COUNTIFS($D$32:$D$314, $C$20, $O$32:$O$314, "=100") -> 0 | P20: =SUMIF($D$32:$D$314, $C$20, $P$32:$P$314) -> 1.5529611 | Q20: =COUNTIFS($D$32:$D$314, $C$20, $Q$32:$Q$314, ">0") -> 2 | R20: =SUMIF($D$32:$D$314, $C$20, $R$32:$R$314) -> 0.36873918 | S20: =COUNTIFS($D$32:$D$314, $C$20, $S$32:$S$314, ">0") -> 2 | T20: =SUMIF($D$32:$D$314, $C$20, $T$32:$T$314) -> 0.52628275 | U20: =COUNTIFS($D$32:$D$314, $C$20, $U$32:$U$314, ">0") -> 2 | V20: =SUMIF($D$32:$D$314, $C$20,$V$32:$V$314) -> 0.014 | W20: =COUNTIFS($D$32:$D$314, $C$20,$W$32:$W$314, ">0") -> 1 | X20: =SUMIF($D$32:$D$314, $C$20, $X$32:$X$314) -> 0.012030273 | Y20: =COUNTIFS($D$32:$D$314, $C$20, $Y$32:$Y$314, ">0") -> 1 | Z20: =SUMIF($D$32:$D$314, $C$20, $Z$32:$Z$314) -> 0.82699993 | AA20: =COUNTIFS($D$32:$D$314, $C$20, $AA$32:$AA$314, ">0") -> 2 | AB20: =SUMIF($D$32:$D$314, $C$20, $AB$32:$AB$314) -> 0 | AC20: =COUNTIFS($D$32:$D$314, $C$20, $AC$32:$AC$314, ">0") -> 0
C21: Unknown | D21: =COUNTIF($D$32:$D$314, $C$21) -> 4 | E21: =SUMIF($D$32:$D$314, $C$21, $E$32:$E$314) -> 2.9370356 | F21: =SUMIF($D$32:$D$314, $C$21, $F$32:$F$314) -> 2.6137519 | G21: =COUNTIFS($D$32:$D$314, $C$21, $G$32:$G$314, "=100") -> 3 | H21: =SUMIF($D$32:$D$314, $C$21, $H$32:$H$314) -> 0.12490807 | I21: =COUNTIFS($D$32:$D$314, $C$21, $I$32:$I$314, ">0") -> 1 | J21: =SUMIF($D$32:$D$314, $C$21, $J$32:$J$314) -> 0.14158997 | K21: =COUNTIFS($D$32:$D$314, $C$21, $K$32:$K$314, ">0") -> 1 | L21: =SUMIF($D$32:$D$314, $C$21, $L$32:$L$314) -> 0.056785699 | M21: =COUNTIFS($D$32:$D$314, $C$21, $M$32:$M$314, ">0") -> 1 | N21: =SUMIF($D$32:$D$314, $C$21, $N$32:$N$314) -> 2.9264865 | O21: =COUNTIFS($D$32:$D$314, $C$21, $O$32:$O$314, "=100") -> 2 | P21: =SUMIF($D$32:$D$314, $C$21, $P$32:$P$314) -> 0.010549074 | Q21: =COUNTIFS($D$32:$D$314, $C$21, $Q$32:$Q$314, ">0") -> 2 | R21: =SUMIF($D$32:$D$314, $C$21, $R$32:$R$314) -> 0 | S21: =COUNTIFS($D$32:$D$314, $C$21, $S$32:$S$314, ">0") -> 0 | T21: =SUMIF($D$32:$D$314, $C$21, $T$32:$T$314) -> 0 | U21: =COUNTIFS($D$32:$D$314, $C$21, $U$32:$U$314, ">0") -> 0 | V21: =SUMIF($D$32:$D$314, $C$21,$V$32:$V$314) -> 0.001 | W21: =COUNTIFS($D$32:$D$314, $C$21,$W$32:$W$314, ">0") -> 1 | X21: =SUMIF($D$32:$D$314, $C$21, $X$32:$X$314) -> 0.094671913 | Y21: =COUNTIFS($D$32:$D$314, $C$21, $Y$32:$Y$314, ">0") -> 1 | Z21: =SUMIF($D$32:$D$314, $C$21, $Z$32:$Z$314) -> 1.9708214e-06 | AA21: =COUNTIFS($D$32:$D$314, $C$21, $AA$32:$AA$314, ">0") -> 1 | AB21: =SUMIF($D$32:$D$314, $C$21, $AB$32:$AB$314) -> 0 | AC21: =COUNTIFS($D$32:$D$314, $C$21, $AC$32:$AC$314, ">0") -> 0
C22: TOTAL | D22: =SUM(D13:D21) -> 283 | E22: =SUM(E13:E21) -> 2554.9122 | F22: =SUM(F13:F21) -> 2358.1669 | G22: =SUM(G13:G21) -> 198 | H22: =SUM(H13:H21) -> 92.65511 | I22: =SUM(I13:I21) -> 81 | J22: =SUM(J13:J21) -> 24.803911 | K22: =SUM(K13:K21) -> 66 | ... AC22: =SUM(AC13:AC21) -> 8
B24: Key
B25: Flood Zone 3b | C25: The colour coding shows the highest risk element of the Flood Zone that is present on site and is not in itself an indication of whether the site should or shouldn’t be developed for flooding reason
B26: Functional floodplain plus climate change / Flood Zone 3a / Flood Zone 3a plus climate change
B27: Flood Zone 2 | F27: Main Table
B28: Flood Zone 1 + Surface Water
B29: Flood Zone 1 | F29: Fluvial Flood Zone Coverage | N29: FMfP - Surface Water Spatial Planning Present Day | V29: Risk of Flooding from Fluvial Climate Change | Z29: FMfP - Surface Water Spatial Planning Climate Change | AB29: Reservoir Flooding | AD29: Unmodelled watercourse within 10m of site in Flood Zone 1? | AE29: Risk of groundwater emergence (JBA Groundwater Map)
F30: Flood Zone 1 | H30: Flood Zone 2 | J30: Flood Zone 3a | L30: Flood Zone 3b | N30: < 0.1% AEP event (less than 1 in 1000-year) | P30: 0.1% AEP event (1 in 1000-year) | R30: 1% AEP event (1 in 100-year) | T30: 3.3% AEP event (1 in 30-year) | V30: Flood Zones + climate change (additional risk) | X30: Functional floodplain + climate change (additional risk) | Z30: 1% AEP event plus 2070s Upper End Climate Change (additional risk) | AB30: Reservoir Flood Maps Dry Day Extent
B31: Site Reference | C31: Site Name | D31: Proposed Use | E31: Area (ha) | F31: Area (ha) | G31: % | H31: Area (ha) | I31: % | J31: Area (ha) | K31: % | L31: Area (ha) | M31: % | N31: Area (ha) | O31: % | P31: Area (ha) | Q31: % | R31: Area (ha) | S31: % | T31: Area (ha) | U31: % | V31: Area (ha) | W31: % | X31: Area (ha) | Y31: % | Z31: Area (ha) | AA31: % | AB31: Area (ha) | AC31: % | AF31: Flood Risk Vulnerability Classification (NPPF) | AG31: Level 1 Strategic Recommendation (see SFRA Report) | AH31: Development Considerations | AI31: Recommended Next Steps | AJ31: Council Comments | AK31: Council's Initial Response to Inform Local Plan
B32: =Calculations!A2 -> 01/24/001 | C32: =Calculations!B2 -> Land North of Dolphin Way | D32: =Calculations!C2 -> Residential | E32: =Calculations!D2 -> 0.7310942 | F32: =Calculations!H2 -> 0.56543293 | G32: =Calculations!L2 -> 77.340639 | H32: =Calculations!G2 -> 0.061752908 | I32: =Calculations!K2 -> 8.4466417 | J32: =Calculations!F2 -> 0.021488967 | K32: =Calculations!J2 -> 2.9392884 | L32: =Calculations!E2 -> 0.082419397 | M32: =Calculations!I2 -> 11.273431 | N32: =Calculations!P2 -> 0.59733136 | O32: =Calculations!T2 -> 81.703747 | P32: =Calculations!O2 -> 0.083755912 | Q32: =Calculations!S2 -> 11.456241 | R32: =Calculations!N2 -> 0.015352635 | S32: =Calculations!R2 -> 2.0999531 | T32: =Calculations!M2 -> 0.034654295 | U32: =Calculations!Q2 -> 4.7400588 | V32: =Calculations!AA2 -> 0.019 | W32: =Calculations!AB2 -> 2.5988443 | X32: =Calculations!Y2 -> 0 | Y32: =Calculations!Z2 -> 0 | Z32: =Calculations!AC2 -> 0.054306935 | AA32: =Calculations!AD2 -> 7.428172 | AB32: =Calculations!AF2 -> 0 | AC32: =Calculations!AG2 -> 0 | AD32: N/A | AE32: There is a risk of groundwater emergence to surface and subsurface assets. There is the possibility of groundwater emerging at the surface locally. | AF32: More vulnerable | AG32: Strategic Recommendation A | AH32: Recommend for withdrawal if built development cannot avoid Flood Zone 3b. Site is at high risk of groundwater emergence. | AI32: Development not permitted in Flood Zone 3b. Check whether site boundary can be redrawn or whether it may be possible to incorporate functional floodplain into site layout and design as open greenspace. This may be possible for sites where percentage area of functional floodplain is lower. Site should be withdrawn if these criteria cannot be met. A Level 2 SFRA may be required to assess further risk to assess further riskto inform this process. | AJ32: Flood Zone 3b intersects the site from east to west, adjoining Dolphin Way, compromising the obviious access point. Area of medium flood risk (Flood Zone 2) lies along western edge of the site. There is also risk of surface water flood risk along the estern edge and in patches in the centre of the site. Significant groundwater emergence across central part of the site. | AK32: Significant floodrisk concern from Flood Zone 3b- remove site unless access can avoid area of Flood Zone 3b. If Flood Zone 3b can be avoided, and site is progressed by the Council, A Level 2 SFRA will likely be required to assess further riskdue to distribution of the fluvial and surface water flood risk.
B33: =Calculations!A3 -> 01/24/002 | C33: =Calculations!B3 -> Land at Twyford Bury Lane | D33: =Calculations!C3 -> Residential | E33: =Calculations!D3 -> 11.110868 | F33: =Calculations!H3 -> 4.4590946 | G33: =Calculations!L3 -> 40.13273 | H33: =Calculations!G3 -> 5.9271989 | I33: =Calculations!K3 -> 53.345959 | J33: =Calculations!F3 -> 0.61501996 | K33: =Calculations!J3 -> 5.5353009 | L33: =Calculations!E3 -> 0.10955426 | M33: =Calculations!I3 -> 0.98600994 | N33: =Calculations!P3 -> 10.623405 | O33: =Calculations!T3 -> 95.612742 | P33: =Calculations!O3 -> 0.3614651 | Q33: =Calculations!S3 -> 3.2532572 | R33: =Calculations!N3 -> 0.092388988 | S33: =Calculations!R3 -> 0.8315191 | T33: =Calculations!M3 -> 0.033608352 | U33: =Calculations!Q3 -> 0.30248179 | V33: =Calculations!AA3 -> 0.019 | W33: =Calculations!AB3 -> 0.17100375 | X33: =Calculations!Y3 -> 0.0034480746 | Y33: =Calculations!Z3 -> 0.031033351 | Z33: =Calculations!AC3 -> 0.14492627 | AA33: =Calculations!AD3 -> 1.304365 | AB33: =Calculations!AF3 -> 0 | AC33: =Calculations!AG3 -> 0 | AD33: N/A | AE33: No risk. | AF33: More vulnerable | AG33: Strategic Recommendation A | AH33: Recommend for withdrawal if built development cannot avoid Flood Zone 3b. | AI33: Development not permitted in Flood Zone 3b. Check whether site boundary can be redrawn or whether it may be possible to incorporate functional floodplain into site layout and design as open greenspace. This may be possible for sites where percentage area of functional floodplain is lower. Site should be withdrawn if these criteria cannot be met. A Level 2 SFRA may be required to assess further risk to assess further riskto inform this process. | AJ33: Flood Zone 3b and Flood Zone 3 runs along the north eastern edge of the site, only covering a small area of the site, Approximately 70% of the eastern site parcel is within Flood Zone 2, and there is some areas of surface water flood risk within that area, but no flood risk on the western parcel, to west of Twyford Bury Lane. | AK33: If the site is progressed by the Council for allocation, policy wording should direct buiilt development to the western parcel, away from areas of flood risk. However, given the extent of fluvial flood risk on the eastern parcel, if this area of the site is progressed a Level 2 SFRA will likely be required to assess further risk.
B34: =Calculations!A4 -> 01/24/003 | C34: =Calculations!B4 -> Stylemans Farm | D34: =Calculations!C4 -> Residential | E34: =Calculations!D4 -> 0.91191778 | F34: =Calculations!H4 -> 0.19118785 | G34: =Calculations!L4 -> 20.96547 | H34: =Calculations!G4 -> 0.72072993 | I34: =Calculations!K4 -> 79.03453 | J34: =Calculations!F4 -> 0 | K34: =Calculations!J4 -> 0 | L34: =Calculations!E4 -> 0 | M34: =Calculations!I4 -> 0 | N34: =Calculations!P4 -> 0.91191778 | O34: =Calculations!T4 -> 100 | P34: =Calculations!O4 -> 0 | Q34: =Calculations!S4 -> 0 | R34: =Calculations!N4 -> 0 | S34: =Calculations!R4 -> 0 | T34: =Calculations!M4 -> 0 | U34: =Calculations!Q4 -> 0 | V34: =Calculations!AA4 -> 0 | W34: =Calculations!AB4 -> 0 | X34: =Calculations!Y4 -> 0 | Y34: =Calculations!Z4 -> 0 | Z34: =Calculations!AC4 -> 0 | AA34: =Calculations!AD4 -> 0 | AB34: =Calculations!AF4 -> 0 | AC34: =Calculations!AG4 -> 0 | AD34: N/A | AE34: There is a risk of emergence to subsurface assets, but surface manifestation of groundwater is unlikely. | AF34: More vulnerable | AG34: Strategic Recommendation B | AH34: Level 2 SFRA required due to medium risk from fluvial sources (Flood Zone 2). | AI34: Carry out Level 2 SFRA to further assess risk. A Level 2 SFRA may not be required for sites with a small percentage of the site shown to be at risk, depending on the spatial variability of risk, with risk being addressed through policy wording. | AJ34: Most of the site falls within Flood Zone 2, and risk expands to cover nearly all of the site if the EA climate change allowance is taken into account, so a Level 2 SFRA is needed to assess risk. | AK34: If the site is progressed by the Council for allocation, a Level 2 SFRA will be required to assess further risk.
B35: =Calculations!A5 -> 01/24/004 | C35: =Calculations!B5 -> Meadowlands Development Site and Meads Greenways | D35: =Calculations!C5 -> Residential | E35: =Calculations!D5 -> 0.44035774 | F35: =Calculations!H5 -> 0.15027425 | G35: =Calculations!L5 -> 34.125494 | H35: =Calculations!G5 -> 0.21854766 | I35: =Calculations!K5 -> 49.629572 | J35: =Calculations!F5 -> 0.051468335 | K35: =Calculations!J5 -> 11.687846 | L35: =Calculations!E5 -> 0.02006749 | M35: =Calculations!I5 -> 4.557088 | N35: =Calculations!P5 -> 0.42267428 | O35: =Calculations!T5 -> 95.984297 | P35: =Calculations!O5 -> 0.011556256 | Q35: =Calculations!S5 -> 2.6242882 | R35: =Calculations!N5 -> 0.0061272043 | S35: =Calculations!R5 -> 1.3914152 | T35: =Calculations!M5 -> 0 | U35: =Calculations!Q5 -> 0 | V35: =Calculations!AA5 -> 0 | W35: =Calculations!AB5 -> 0 | X35: =Calculations!Y5 -> 0.045244147 | Y35: =Calculations!Z5 -> 10.274407 | Z35: =Calculations!AC5 -> 0.0067782894 | AA35: =Calculations!AD5 -> 1.5392688 | AB35: =Calculations!AF5 -> 0 | AC35: =Calculations!AG5 -> 0 | AD35: N/A | AE35: There is a risk of groundwater emergence to both surface and subsurface assets. Groundwater may emerge at significant rates and has the capacity to flow overland and/or pond within any topographic low spots. | AF35: More vulnerable | AG35: Strategic Recommendation A | AH35: Recommend for withdrawal if built development cannot avoid Flood Zone 3b. Site is at high risk of groundwater emergence. | AI35: Development not permitted in Flood Zone 3b. Check whether site boundary can be redrawn or whether it may be possible to incorporate functional floodplain into site layout and design as open greenspace. This may be possible for sites where percentage area of functional floodplain is lower. Site should be withdrawn if these criteria cannot be met. A Level 2 SFRA may be required to assess further risk to assess further riskto inform this process. | AJ35: Part of proposed PROW falls within Flood Zone 3b (with a larger area affected when the climate change allowance is taken into account), Flood Zone 3a and surface water flood risk (3.3% AEP event and 1% AEP event). Half of the proposed residential site falls within Flood Zone 2, but the western part of the site adjacent to Rye Street is within Flood Zone 1. | AK35: Built development should avoid Flood Zone 3b. If the remainder of the site is progressed by the Council for allocation, a Level 2 SFRA will likely be required to assess further risk due to the extent of Flood Zone 2. .
B36: =Calculations!A6 -> 01/24/005 | C36: =Calculations!B6 -> Land at Aynsworth Avenue | D36: =Calculations!C6 -> Residential | E36: =Calculations!D6 -> 1.2650579 | F36: =Calculations!H6 -> 0.053374943 | G36: =Calculations!L6 -> 4.2191699 | H36: =Calculations!G6 -> 0.28167187 | I36: =Calculations!K6 -> 22.265531 | J36: =Calculations!F6 -> 0.8971172 | K36: =Calculations!J6 -> 70.915108 | L36: =Calculations!E6 -> 0.032893917 | M36: =Calculations!I6 -> 2.6001906 | N36: =Calculations!P6 -> 0.78200462 | O36: =Calculations!T6 -> 61.815717 | P36: =Calculations!O6 -> 0.23636449 | Q36: =Calculations!S6 -> 18.684084 | R36: =Calculations!N6 -> 0.13250247 | S36: =Calculations!R6 -> 10.474024 | T36: =Calculations!M6 -> 0.11418634 | U36: =Calculations!Q6 -> 9.0261748 | V36: =Calculations!AA6 -> 0 | W36: =Calculations!AB6 -> 0 | X36: =Calculations!Y6 -> 0.00065757067 | Y36: =Calculations!Z6 -> 0.051979491 | Z36: =Calculations!AC6 -> 0.160245 | AA36: =Calculations!AD6 -> 12.667009 | AB36: =Calculations!AF6 -> 0 | AC36: =Calculations!AG6 -> 0 | AD36: N/A | AE36: There is a risk of groundwater emergence to both surface and subsurface assets. Groundwater may emerge at significant rates and has the capacity to flow overland and/or pond within any topographic low spots. | AF36: More vulnerable | AG36: Strategic Recommendation A | AH36: Recommend for withdrawal if built development cannot avoid Flood Zone 3b. Site is at high risk of groundwater emergence. | AI36: Development not permitted in Flood Zone 3b. Check whether site boundary can be redrawn or whether it may be possible to incorporate functional floodplain into site layout and design as open greenspace. This may be possible for sites where percentage area of functional floodplain is lower. Site should be withdrawn if these criteria cannot be met. A Level 2 SFRA may be required to assess further risk to assess further riskto inform this process. | AJ36: Only small area to west of the site within Flood Zone 3b, but risk across site increases when taking account of the EA climate change allowance. Majority of the site, including access is within Flood Zone 2. Ground Water emergence is high and there is a significant area of 3.3% AEP event surface water flood risk to the west of the site. | AK36: Built development should avoid Flood Zone 3b. If the remainder of the site is progressed by the Council for allocation, a Level 2 SFRA will be required to assess risk.
B37: =Calculations!A7 -> 01/24/006 | C37: =Calculations!B7 -> Apton Road Car Park | D37: =Calculations!C7 -> Residential | E37: =Calculations!D7 -> 0.21664486 | F37: =Calculations!H7 -> 0.21664486 | G37: =Calculations!L7 -> 100 | H37: =Calculations!G7 -> 0 | I37: =Calculations!K7 -> 0 | J37: =Calculations!F7 -> 0 | K37: =Calculations!J7 -> 0 | L37: =Calculations!E7 -> 0 | M37: =Calculations!I7 -> 0 | N37: =Calculations!P7 -> 0.19753643 | O37: =Calculations!T7 -> 91.179838 | P37: =Calculations!O7 -> 0.0079012065 | Q37: =Calculations!S7 -> 3.6470778 | R37: =Calculations!N7 -> 0.002726231 | S37: =Calculations!R7 -> 1.2583871 | T37: =Calculations!M7 -> 0.0084809893 | U37: =Calculations!Q7 -> 3.9146968 | V37: =Calculations!AA7 -> 0 | W37: =Calculations!AB7 -> 0 | X37: =Calculations!Y7 -> 0 | Y37: =Calculations!Z7 -> 0 | Z37: =Calculations!AC7 -> 0.0050696968 | AA37: =Calculations!AD7 -> 2.3400956 | AB37: =Calculations!AF7 -> 0 | AC37: =Calculations!AG7 -> 0 | AD37: No | AE37: There is a risk of emergence to subsurface assets, but surface manifestation of groundwater is unlikely. | AF37: More vulnerable | AG37: Strategic Recommendation B | AH37: Level 2 SFRA required due to risk from surface water sources (3.3% AEP event). | AI37: Level 2 SFRA required to further assess risk. A Level 2 SFRA may not be required depending on the spatial variation of risk, particularly for sites with a small percentage of the site shown to be at risk, and can be addressed through policy wording. | AJ37: Surface Water Flood risk (3.3% AEP event) along Apton Road, encroaching into the edge of the site, including the existing access to the car park. Small area 1% AEP event surface water flood risk to the north of the site and an area of 0.1% AEP event risk along the southern edge of the site. | AK37: Given the surface water flood risk at the potential site access, if the site is progressed by the Council for allocation, a Level 2 SFRA will likely be required to assess risk.
B38: =Calculations!A8 -> 01/24/007 | C38: =Calculations!B8 -> Land north of Plantains Wood Cottages, and east of the A120 Little Hadham Bypass | D38: =Calculations!C8 -> Employment | E38: =Calculations!D8 -> 11.52554 | F38: =Calculations!H8 -> 11.52554 | G38: =Calculations!L8 -> 100 | H38: =Calculations!G8 -> 0 | I38: =Calculations!K8 -> 0 | J38: =Calculations!F8 -> 0 | K38: =Calculations!J8 -> 0 | L38: =Calculations!E8 -> 0 | M38: =Calculations!I8 -> 0 | N38: =Calculations!P8 -> 11.345978 | O38: =Calculations!T8 -> 98.442055 | P38: =Calculations!O8 -> 0.13032155 | Q38: =Calculations!S8 -> 1.1307197 | R38: =Calculations!N8 -> 0.026905502 | S38: =Calculations!R8 -> 0.23344245 | T38: =Calculations!M8 -> 0.022334533 | U38: =Calculations!Q8 -> 0.19378296 | V38: =Calculations!AA8 -> 0 | W38: =Calculations!AB8 -> 0 | X38: =Calculations!Y8 -> 0 | Y38: =Calculations!Z8 -> 0 | Z38: =Calculations!AC8 -> 0.060737102 | AA38: =Calculations!AD8 -> 0.52697838 | AB38: =Calculations!AF8 -> 0 | AC38: =Calculations!AG8 -> 0 | AD38: Yes | AE38: Groundwater emergence is not likely. | AF38: Less vulnerable | AG38: Strategic Recommendation B | AH38: Level 2 SFRA required due to risk from surface water sources (3.3% AEP event). | AI38: Level 2 SFRA required to further assess risk. A Level 2 SFRA may not be required depending on the spatial variation of risk, particularly for sites with a small percentage of the site shown to be at risk, and can be addressed through policy wording. | AJ38: Very minimal area of 3.3% AEP event surface water flood risk on eastern boundary. Small areas of 1% and 0.1% AEP event flood risk on eastern and southern boundaries, alongside small patches in the centre of the site, which increase marginally when the EA climate change allowance is taken into account. Built development could avoid these areas. | AK38: If site is progressed by the Council for allocation, policy wording should direct built development away from areas of surface water flood risk.
B39: =Calculations!A9 -> 01/24/008 | C39: =Calculations!B9 -> Wickham Hall | D39: =Calculations!C9 -> Employment | E39: =Calculations!D9 -> 4.9379629 | F39: =Calculations!H9 -> 4.9379629 | G39: =Calculations!L9 -> 100 | H39: =Calculations!G9 -> 0 | I39: =Calculations!K9 -> 0 | J39: =Calculations!F9 -> 0 | K39: =Calculations!J9 -> 0 | L39: =Calculations!E9 -> 0 | M39: =Calculations!I9 -> 0 | N39: =Calculations!P9 -> 4.5372402 | O39: =Calculations!T9 -> 91.884859 | P39: =Calculations!O9 -> 0.13463894 | Q39: =Calculations!S9 -> 2.7266089 | R39: =Calculations!N9 -> 0.072477974 | S39: =Calculations!R9 -> 1.4677707 | T39: =Calculations!M9 -> 0.19360575 | U39: =Calculations!Q9 -> 3.9207616 | V39: =Calculations!AA9 -> 0 | W39: =Calculations!AB9 -> 0 | X39: =Calculations!Y9 -> 0 | Y39: =Calculations!Z9 -> 0 | Z39: =Calculations!AC9 -> 0.052713136 | AA39: =Calculations!AD9 -> 1.0675077 | AB39: =Calculations!AF9 -> 0 | AC39: =Calculations!AG9 -> 0 | AD39: No | AE39: No risk. | AF39: Less vulnerable | AG39: Strategic Recommendation B | AH39: Level 2 SFRA required due to risk from surface water sources (3.3% AEP event). | AI39: Level 2 SFRA required to further assess risk. A Level 2 SFRA may not be required depending on the spatial variation of risk, particularly for sites with a small percentage of the site shown to be at risk, and can be addressed through policy wording. | AJ39: Significant areas of 3.3%, 1% and 0.1% AEP event surface water flood risk in the centrral and southern part of the site, including a flow path in eastern part of the site. Risk level increases when the EA climate change allowance is taken into account. Due to scale and distribution it may be difficult for built development to avoid these areas. | AK39: If site is progressed by the Council for allocation, policy wording should direct built development away from areas of surface water flood risk.
B40: =Calculations!A10 -> 01/24/009 | C40: =Calculations!B10 -> Land east of Avanti Grange Sports Pitches, north of the A120 | D40: =Calculations!C10 -> Leisure | E40: =Calculations!D10 -> 2.5532587 | F40: =Calculations!H10 -> 1.8003268 | G40: =Calculations!L10 -> 70.510943 | H40: =Calculations!G10 -> 0.68185466 | I40: =Calculations!K10 -> 26.705272 | J40: =Calculations!F10 -> 0.00025369233 | K40: =Calculations!J10 -> 0.0099360216 | L40: =Calculations!E10 -> 0.070823552 | M40: =Calculations!I10 -> 2.7738495 | N40: =Calculations!P10 -> 2.3189063 | O40: =Calculations!T10 -> 90.821441 | P40: =Calculations!O10 -> 0.098711491 | Q40: =Calculations!S10 -> 3.8660983 | R40: =Calculations!N10 -> 0.032174708 | S40: =Calculations!R10 -> 1.2601429 | T40: =Calculations!M10 -> 0.10346615 | U40: =Calculations!Q10 -> 4.0523174 | V40: =Calculations!AA10 -> 0.004 | W40: =Calculations!AB10 -> 0.15666254 | X40: =Calculations!Y10 -> 0.00014587859 | Y40: =Calculations!Z10 -> 0.0057134279 | Z40: =Calculations!AC10 -> 0.051716153 | AA40: =Calculations!AD10 -> 2.025496 | AB40: =Calculations!AF10 -> 0 | AC40: =Calculations!AG10 -> 0 | AD40: N/A | AE40: There is a risk of groundwater emergence to both surface and subsurface assets. Groundwater may emerge at significant rates and has the capacity to flow overland and/or pond within any topographic low spots. | AF40: Less vulnerable | AG40: Strategic Recommendation A | AH40: Recommend for withdrawal if built development cannot avoid Flood Zone 3b. Site is at high risk of groundwater emergence. | AI40: Development not permitted in Flood Zone 3b. Check whether site boundary can be redrawn or whether it may be possible to incorporate functional floodplain into site layout and design as open greenspace. This may be possible for sites where percentage area of functional floodplain is lower. Site should be withdrawn if these criteria cannot be met. A Level 2 SFRA may be required to inform this process. | AJ40: Narrow strip of Flood Zone 3b along the eastern edge of the site. Flood Zone 2 extends further west covering appromimately a third of the site. There is risk of surface water flooding along the northern part of the site.High risk of groundwater emergence. Development in Flood Zone 3b could be avoided, but potential site access is likely to fall within the area of dlood zone 2, so warrants further investigation. | AK40: Given that the access potentially lies within Flood Zone 2, if the site is progressed by the Council for allocation, a Level 2 SFRA may be required.
B41: =Calculations!A11 -> 01/24/010 | C41: =Calculations!B11 -> Land North of Great Hadham Road | D41: =Calculations!C11 -> Residential | E41: =Calculations!D11 -> 3.2497802 | F41: =Calculations!H11 -> 3.2497802 | G41: =Calculations!L11 -> 100 | H41: =Calculations!G11 -> 0 | I41: =Calculations!K11 -> 0 | J41: =Calculations!F11 -> 0 | K41: =Calculations!J11 -> 0 | L41: =Calculations!E11 -> 0 | M41: =Calculations!I11 -> 0 | N41: =Calculations!P11 -> 3.095429 | O41: =Calculations!T11 -> 95.250413 | P41: =Calculations!O11 -> 0.063103202 | Q41: =Calculations!S11 -> 1.9417683 | R41: =Calculations!N11 -> 0.034502976 | S41: =Calculations!R11 -> 1.0617019 | T41: =Calculations!M11 -> 0.056744968 | U41: =Calculations!Q11 -> 1.7461171 | V41: =Calculations!AA11 -> 0 | W41: =Calculations!AB11 -> 0 | X41: =Calculations!Y11 -> 0 | Y41: =Calculations!Z11 -> 0 | Z41: =Calculations!AC11 -> 0.033356179 | AA41: =Calculations!AD11 -> 1.0264134 | AB41: =Calculations!AF11 -> 0 | AC41: =Calculations!AG11 -> 0 | AD41: No | AE41: No risk. | AF41: More vulnerable | AG41: Strategic Recommendation B | AH41: Level 2 SFRA required due to risk from surface water sources (3.3% AEP event). | AI41: Level 2 SFRA required to further assess risk. A Level 2 SFRA may not be required depending on the spatial variation of risk, particularly for sites with a small percentage of the site shown to be at risk, and can be addressed through policy wording. | AJ41: There is a corridor of 3.3% AEP event surface water flood risk along part of the southern edge of the site and in the north west part of the site. Southern boundary of the site along Hadham Road and to east of site is also at risk of 1% and 0.1% AEP event surface water flood risk. Taking account of the EA climate change allowance this risk extends further along the southern and eastern edge of the site, which is likely to impact access to the site. | AK41: Given that potential access could be affected by surface water flood risk, if the site is progressed by the Council for allocation, a Level 2 SFRA may be required to assess risk.
B42: =Calculations!A12 -> 01/24/011 | C42: =Calculations!B12 -> Land adjacent to The Rectory | D42: =Calculations!C12 -> Residential | E42: =Calculations!D12 -> 0.75246567 | F42: =Calculations!H12 -> 0.75246567 | G42: =Calculations!L12 -> 100 | H42: =Calculations!G12 -> 0 | I42: =Calculations!K12 -> 0 | J42: =Calculations!F12 -> 0 | K42: =Calculations!J12 -> 0 | L42: =Calculations!E12 -> 0 | M42: =Calculations!I12 -> 0 | N42: =Calculations!P12 -> 0.61406513 | O42: =Calculations!T12 -> 81.607063 | P42: =Calculations!O12 -> 0.03756424 | Q42: =Calculations!S12 -> 4.9921534 | R42: =Calculations!N12 -> 0.0072283472 | S42: =Calculations!R12 -> 0.96062153 | T42: =Calculations!M12 -> 0.093607952 | U42: =Calculations!Q12 -> 12.440162 | V42: =Calculations!AA12 -> 0 | W42: =Calculations!AB12 -> 0 | X42: =Calculations!Y12 -> 0 | Y42: =Calculations!Z12 -> 0 | Z42: =Calculations!AC12 -> 0.016978193 | AA42: =Calculations!AD12 -> 2.2563413 | AB42: =Calculations!AF12 -> 0 | AC42: =Calculations!AG12 -> 0 | AD42: No | AE42: No risk. | AF42: More vulnerable | AG42: Strategic Recommendation B | AH42: Level 2 SFRA required due to risk from surface water sources (3.3% AEP event). | AI42: Level 2 SFRA required to further assess risk. A Level 2 SFRA may not be required depending on the spatial variation of risk, particularly for sites with a small percentage of the site shown to be at risk, and can be addressed through policy wording. | AJ42: The is a an area of surface water flood risk along the western part of the site, which increases slightly when EA climate change allowance is included. but built development could avoid this area. However there is surface water flood risk along southern edge of site, along Thorley Lane East, which will likely affect access to the site. | AK42: Given that potential access could be affected by surface water flood risk, if the site is progressed by the Council for allocation, a Level 2 SFRA may be required to assess risk.
B43: =Calculations!A13 -> 01/24/012 | C43: =Calculations!B13 -> Land north and west of A120 | D43: =Calculations!C13 -> Residential | E43: =Calculations!D13 -> 7.2295257 | F43: =Calculations!H13 -> 7.2295257 | G43: =Calculations!L13 -> 100 | H43: =Calculations!G13 -> 0 | I43: =Calculations!K13 -> 0 | J43: =Calculations!F13 -> 0 | K43: =Calculations!J13 -> 0 | L43: =Calculations!E13 -> 0 | M43: =Calculations!I13 -> 0 | N43: =Calculations!P13 -> 6.8491363 | O43: =Calculations!T13 -> 94.73839 | P43: =Calculations!O13 -> 0.23442925 | Q43: =Calculations!S13 -> 3.2426643 | R43: =Calculations!N13 -> 0.068961879 | S43: =Calculations!R13 -> 0.95389216 | T43: =Calculations!M13 -> 0.076998301 | U43: =Calculations!Q13 -> 1.0650533 | V43: =Calculations!AA13 -> 0 | W43: =Calculations!AB13 -> 0 | X43: =Calculations!Y13 -> 0 | Y43: =Calculations!Z13 -> 0 | Z43: =Calculations!AC13 -> 0.10534482 | AA43: =Calculations!AD13 -> 1.4571471 | AB43: =Calculations!AF13 -> 0 | AC43: =Calculations!AG13 -> 0 | AD43: No | AE43: No risk. | AF43: More vulnerable | AG43: Strategic Recommendation B | AH43: Level 2 SFRA required due to risk from surface water sources (3.3% AEP event). | AI43: Level 2 SFRA required to further assess risk. A Level 2 SFRA may not be required depending on the spatial variation of risk, particularly for sites with a small percentage of the site shown to be at risk, and can be addressed through policy wording. | AJ43: Small area of surface water flooding in a very small area in the north western part of the site and along southern boundary, which uncreases to a northern area of the site when EA climate change allowance is applied. However, proposed built development and access could avoid these areas. Only need a Level 2 SFRA if the access adjoins the A120 to the south or onto the roundabout which is at risk of surface water flooding, which increases when the climate change allowance is included. | AK43: Given that potential access could be affected by surface water flood risk, if the site is progressed by the Council for allocation, a Level 2 SFRA may be required to assess risk.
... B152: =Calculations!A122 -> 20/24/002 | C152: =Calculations!B122 -> Peascroft | D152: =Calculations!C122 -> Residential | E152: =Calculations!D122 -> 12.959335 | F152: =Calculations!H122 -> 12.959335 | G152: =Calculations!L122 -> 100 | H152: =Calculations!G122 -> 0 | I152: =Calculations!K122 -> 0 | J152: =Calculations!F122 -> 0 | K152: =Calculations!J122 -> 0 | L152: =Calculations!E122 -> 0 | M152: =Calculations!I122 -> 0 | N152: =Calculations!P122 -> 12.759708 | O152: =Calculations!T122 -> 98.459589 | P152: =Calculations!O122 -> 0.19876314 | Q152: =Calculations!S122 -> 1.5337448 | R152: =Calculations!N122 -> 0.0008638857 | S152: =Calculations!R122 -> 0.0066661265 | T152: =Calculations!M122 -> 0 | U152: =Calculations!Q122 -> 0 | V152: =Calculations!AA122 -> 0 | W152: =Calculations!AB122 -> 0 | X152: =Calculations!Y122 -> 0 | Y152: =Calculations!Z122 -> 0 | Z152: =Calculations!AC122 -> 0.090089343 | AA152: =Calculations!AD122 -> 0.69516947 | AB152: =Calculations!AF122 -> 0 | AC152: =Calculations!AG122 -> 0 | AD152: No | AE152: No risk. | AF152: More vulnerable | AG152: Strategic Recommendation B | AH152: Level 2 SFRA required due to risk from surface water sources (1% AEP event). | AI152: Level 2 SFRA required to further assess risk. A Level 2 SFRA may not be required depending on the spatial variation of risk, particularly for sites with a small percentage of the site shown to be at risk, and can be addressed through policy wording. | AJ152: There is a thin strip of 0.1% AEP surface water flood risk which travels vertically through the middle of the site. When considering future climate change risk projections, the risk becomes slightly more extensive, and smaller pockets appear in other places around the site. However, built development could likely avoid. | AK152: If site is progressed by the Council for allocation, policy wording should direct built development away from areas of surface water flood risk.
B153: =Calculations!A123 -> 20/24/003 | C153: =Calculations!B123 -> Land to the East of Warren Lane, Cottered | D153: =Calculations!C123 -> Residential | E153: =Calculations!D123 -> 0.51729069 | F153: =Calculations!H123 -> 0.51729069 | G153: =Calculations!L123 -> 100 | H153: =Calculations!G123 -> 0 | I153: =Calculations!K123 -> 0 | J153: =Calculations!F123 -> 0 | K153: =Calculations!J123 -> 0 | L153: =Calculations!E123 -> 0 | M153: =Calculations!I123 -> 0 | N153: =Calculations!P123 -> 0.51729069 | O153: =Calculations!T123 -> 100 | P153: =Calculations!O123 -> 0 | Q153: =Calculations!S123 -> 0 | R153: =Calculations!N123 -> 0 | S153: =Calculations!R123 -> 0 | T153: =Calculations!M123 -> 0 | U153: =Calculations!Q123 -> 0 | V153: =Calculations!AA123 -> 0 | W153: =Calculations!AB123 -> 0 | X153: =Calculations!Y123 -> 0 | Y153: =Calculations!Z123 -> 0 | Z153: =Calculations!AC123 -> 0 | AA153: =Calculations!AD123 -> 0 | AB153: =Calculations!AF123 -> 0 | AC153: =Calculations!AG123 -> 0 | AD153: No | AE153: No risk. | AF153: More vulnerable | AG153: Strategic Recommendation D | AH153: Development could be allocated on flood risk grounds based on the evidence of this Level 1 SFRA. | AI153: LPA to make decision on allocation. | AJ153: No significant flood risk impacting the site. | AK153: 1
B154: =Calculations!A124 -> 22/24/001 | C154: =Calculations!B124 -> Fiddlers Brook Stables | D154: =Calculations!C124 -> Residential | E154: =Calculations!D124 -> 2.2352779 | F154: =Calculations!H124 -> 2.2352779 | G154: =Calculations!L124 -> 100 | H154: =Calculations!G124 -> 0 | I154: =Calculations!K124 -> 0 | J154: =Calculations!F124 -> 0 | K154: =Calculations!J124 -> 0 | L154: =Calculations!E124 -> 0 | M154: =Calculations!I124 -> 0 | N154: =Calculations!P124 -> 2.1673238 | O154: =Calculations!T124 -> 96.959926 | P154: =Calculations!O124 -> 0.034431209 | Q154: =Calculations!S124 -> 1.5403548 | R154: =Calculations!N124 -> 0.019172944 | S154: =Calculations!R124 -> 0.85774322 | T154: =Calculations!M124 -> 0.014349945 | U154: =Calculations!Q124 -> 0.64197587 | V154: =Calculations!AA124 -> 0 | W154: =Calculations!AB124 -> 0 | X154: =Calculations!Y124 -> 0 | Y154: =Calculations!Z124 -> 0 | Z154: =Calculations!AC124 -> 0.015056187 | AA154: =Calculations!AD124 -> 0.67357116 | AB154: =Calculations!AF124 -> 0 | AC154: =Calculations!AG124 -> 0 | AD154: N/A | AE154: There is a risk of groundwater emergence to both surface and subsurface assets. Groundwater may emerge at significant rates and has the capacity to flow overland and/or pond within any topographic low spots. | AF154: More vulnerable | AG154: Strategic Recommendation B | AH154: Level 2 SFRA required due to risk from surface water sources (3.3% AEP event). Site is at high risk of groundwater emergence. | AI154: Level 2 SFRA required to further assess risk. A Level 2 SFRA may not be required depending on the spatial variation of risk, particularly for sites with a small percentage of the site shown to be at risk, and can be addressed through policy wording. | AJ154: Flood Zone 3b and Flood Zone 2 runs immediately adjacent to the site, along the main road to the at the north west of the site. Access points should avoid this area. There is a small pocket of 3.3% AEP surface water flood risk in the middle of the site, which is also surrounded by 1% AEP and 0.1% AEP surface water flood risk. When considering future climate change risk projection, these risk percentages areas expand further, but concentrated in one area so built development could avoid. However there is surface water flood risk on main access road to site, in additon to the fluvial flood risk on the road to the north west of the site. Also, the site is almost entirely covered by a groundwater flooding risk, which travels through the centre of the site. | AK154: Given the flood risk at the potential site access, if the site is progressed by the Council for allocation, a Level 2 SFRA will likely be required to assess risk.
B155: =Calculations!A125 -> 22/24/002 | C155: =Calculations!B125 -> Land at Redricks, Gilston | D155: =Calculations!C125 -> Residential | E155: =Calculations!D125 -> 47.786443 | F155: =Calculations!H125 -> 18.892792 | G155: =Calculations!L125 -> 39.535883 | H155: =Calculations!G125 -> 4.4039469 | I155: =Calculations!K125 -> 9.2158917 | J155: =Calculations!F125 -> 4.2237081 | K155: =Calculations!J125 -> 8.8387163 | L155: =Calculations!E125 -> 20.265996 | M155: =Calculations!I125 -> 42.409509 | N155: =Calculations!P125 -> 21.87686 | O155: =Calculations!T125 -> 45.780473 | P155: =Calculations!O125 -> 6.9521166 | Q155: =Calculations!S125 -> 14.548303 | R155: =Calculations!N125 -> 6.379204 | S155: =Calculations!R125 -> 13.349401 | T155: =Calculations!M125 -> 12.578263 | U155: =Calculations!Q125 -> 26.321823 | V155: =Calculations!AA125 -> 0.119 | W155: =Calculations!AB125 -> 0.2490246 | X155: =Calculations!Y125 -> 1.886706 | Y155: =Calculations!Z125 -> 3.9482034 | Z155: =Calculations!AC125 -> 6.4760784 | AA155: =Calculations!AD125 -> 13.552125 | AB155: =Calculations!AF125 -> 7.9034174 | AC155: =Calculations!AG125 -> 16.539037 | AD155: N/A | AE155: There is a risk of groundwater emergence to both surface and subsurface assets. Groundwater may emerge at significant rates and has the capacity to flow overland and/or pond within any topographic low spots. | AF155: More vulnerable | AG155: Strategic Recommendation A | AH155: Recommend for withdrawal if built development cannot avoid Flood Zone 3b. Site is at high risk of groundwater emergence. Site is at risk of flooding from reservoirs. | AI155: Development not permitted in Flood Zone 3b. Check whether site boundary can be redrawn or whether it may be possible to incorporate functional floodplain into site layout and design as open greenspace. This may be possible for sites where percentage area of functional floodplain is lower. Site should be withdrawn if these criteria cannot be met. A Level 2 SFRA may be required to inform this process. | AJ155: Flood Zone 3b covers a large portion of the southern part of the site, as well as 80% of the eastern half of the site. There is also a thin band which travels through the middle of the site. Flood Zones 3a follows the same pattern. Flood Zone 2 covers a large majority of the site more definitively. Climate change risk covers the eastern part of the site. There are large areas of 3.3% AEP surface water flood risk covering the site, mainly appearing in the south-western part of the site, and the eastern half of the site. In other areas, there are large patches. Surrounding these risk areas are 1% AEP surface water flood risk, which mainly surround the larger areas, which are then also surrounded by patches of 0.1% AEP surface water flood risk. When considering future climate change risk projections, the risk expands and covers a large majority of the site. The western half of the site is almost entirely covered by a groundwater flooding risk. | AK155: If site is progressed by the Council for allocation a Level 2 SFRA will likely be required to assess further risk.
B156: =Calculations!A126 -> 22/24/003 | C156: =Calculations!B126 -> Land South of Redricks Lane | D156: =Calculations!C126 -> Residential | E156: =Calculations!D126 -> 14.27736 | F156: =Calculations!H126 -> 8.1345638 | G156: =Calculations!L126 -> 56.975267 | H156: =Calculations!G126 -> 4.3712078 | I156: =Calculations!K126 -> 30.61636 | J156: =Calculations!F126 -> 0.5964655 | K156: =Calculations!J126 -> 4.1777017 | L156: =Calculations!E126 -> 1.1751225 | M156: =Calculations!I126 -> 8.2306713 | N156: =Calculations!P126 -> 11.902071 | O156: =Calculations!T126 -> 83.363253 | P156: =Calculations!O126 -> 1.0302524 | Q156: =Calculations!S126 -> 7.2159866 | R156: =Calculations!N126 -> 0.2434372 | S156: =Calculations!R126 -> 1.7050575 | T156: =Calculations!M126 -> 1.1015986 | U156: =Calculations!Q126 -> 7.7157028 | V156: =Calculations!AA126 -> 0 | W156: =Calculations!AB126 -> 0 | X156: =Calculations!Y126 -> 0.088850604 | Y156: =Calculations!Z126 -> 0.62231818 | Z156: =Calculations!AC126 -> 0.96196933 | AA156: =Calculations!AD126 -> 6.7377257 | AB156: =Calculations!AF126 -> 0 | AC156: =Calculations!AG126 -> 0 | AD156: N/A | AE156: There is a risk of groundwater emergence to both surface and subsurface assets. Groundwater may emerge at significant rates and has the capacity to flow overland and/or pond within any topographic low spots. | AF156: More vulnerable | AG156: Strategic Recommendation A | AH156: Recommend for withdrawal if built development cannot avoid Flood Zone 3b. Site is at high risk of groundwater emergence. | AI156: Development not permitted in Flood Zone 3b. Check whether site boundary can be redrawn or whether it may be possible to incorporate functional floodplain into site layout and design as open greenspace. This may be possible for sites where percentage area of functional floodplain is lower. Site should be withdrawn if these criteria cannot be met. A Level 2 SFRA may be required to inform this process. | AJ156: Flood Zone 3b covers part of the southern area of the site. Flood Zone 3a covers the same area. Flood Zone 2 extends this risk, and covers the entire southern section of the site, extending into the middle part of the site. There are pockets of 3.3% AEP surface water flood risk which run from the southern part of the site, along the western and eastern boundaries of the site. There are pockets of 1% AEP surface water flood risk which fill the gaps between these pockets, as well as pockets of 0.1% AEP surface water flood risk. When considering future climate change risk projections, the risk expands and covers a large majority of the southern, western, and eastern parts of the site. The northern part of the site is covered by a groundwater flooding risk. | AK156: If site is progressed by the Council for allocation a Level 2 SFRA will likely be required to assess further risk.
B157: =Calculations!A127 -> 22/24/004 | C157: =Calculations!B127 -> Grazing Land at Eastwick | D157: =Calculations!C127 -> Unknown | E157: =Calculations!D127 -> 0.42494357 | F157: =Calculations!H127 -> 0.10165983 | G157: =Calculations!L127 -> 23.923137 | H157: =Calculations!G127 -> 0.12490807 | I157: =Calculations!K127 -> 29.394037 | J157: =Calculations!F127 -> 0.14158997 | K157: =Calculations!J127 -> 33.31971 | L157: =Calculations!E127 -> 0.056785699 | M157: =Calculations!I127 -> 13.363115 | N157: =Calculations!P127 -> 0.42494357 | O157: =Calculations!T127 -> 100 | P157: =Calculations!O127 -> 0 | Q157: =Calculations!S127 -> 0 | R157: =Calculations!N127 -> 0 | S157: =Calculations!R127 -> 0 | T157: =Calculations!M127 -> 0 | U157: =Calculations!Q127 -> 0 | V157: =Calculations!AA127 -> 0.001 | W157: =Calculations!AB127 -> 0.23532536 | X157: =Calculations!Y127 -> 0.094671913 | Y157: =Calculations!Z127 -> 22.278702 | Z157: =Calculations!AC127 -> 0 | AA157: =Calculations!AD127 -> 0 | AB157: =Calculations!AF127 -> 0 | AC157: =Calculations!AG127 -> 0 | AD157: N/A | AE157: No risk. | AF157: More vulnerable | AG157: Strategic Recommendation A | AH157: Recommend for withdrawal if built development cannot avoid Flood Zone 3b. | AI157: Development not permitted in Flood Zone 3b. Check whether site boundary can be redrawn or whether it may be possible to incorporate functional floodplain into site layout and design as open greenspace. This may be possible for sites where percentage area of functional floodplain is lower. Site should be withdrawn if these criteria cannot be met. A Level 2 SFRA may be required to inform this process. | AJ157: Flood Zone 3b runs along the western boundary of the site, and directly intersects with the site boundary- it could be avoided.. Flood Zone 3a follows the same pattern, but is accompanied by further risk in the middle of the site. Flood Zone 2 goes further and covers around 90% of the site, leaving only a small area at the north of the site uncovered. | AK157: If site is progressed by the Council for allocation a Level 2 SFRA will likely be required to assess further risk,
B158: =Calculations!A128 -> 22/24/005 | C158: =Calculations!B128 -> Land to the west and south of the Dusty Miller within title number HD336731 | D158: =Calculations!C128 -> Residential | E158: =Calculations!D128 -> 0.8255913 | F158: =Calculations!H128 -> 0.82217511 | G158: =Calculations!L128 -> 99.586214 | H158: =Calculations!G128 -> 0.0034161844 | I158: =Calculations!K128 -> 0.41378639 | J158: =Calculations!F128 -> 0 | K158: =Calculations!J128 -> 0 | L158: =Calculations!E128 -> 0 | M158: =Calculations!I128 -> 0 | N158: =Calculations!P128 -> 0.82408299 | O158: =Calculations!T128 -> 99.817306 | P158: =Calculations!O128 -> 0 | Q158: =Calculations!S128 -> 0 | R158: =Calculations!N128 -> 0 | S158: =Calculations!R128 -> 0 | T158: =Calculations!M128 -> 0.0015083029 | U158: =Calculations!Q128 -> 0.18269366 | V158: =Calculations!AA128 -> 0 | W158: =Calculations!AB128 -> 0 | X158: =Calculations!Y128 -> 0 | Y158: =Calculations!Z128 -> 0 | Z158: =Calculations!AC128 -> 0 | AA158: =Calculations!AD128 -> 0 | AB158: =Calculations!AF128 -> 0 | AC158: =Calculations!AG128 -> 0 | AD158: N/A | AE158: No risk. | AF158: More vulnerable | AG158: Strategic Recommendation B | AH158: Level 2 SFRA required due to medium risk from fluvial sources (Flood Zone 2). | AI158: Carry out Level 2 SFRA to further assess risk. A Level 2 SFRA may not be required for sites with a small percentage of the site shown to be at risk, depending on the spatial variability of risk, with risk being addressed through policy wording. | AJ158: A very small section of the south-western corner is covered by Flood Zone 2. There is some surface water flooding risk which sits just outside of the boundary at the south-eastern corner, but does not intersect with the site itself. There is no other flooding risk on-site. | AK158: If site is progressed by the Council for allocation, policy wording should direct built development away from areas of surface water flood risk.
B159: =Calculations!A129 -> 23/24/001 | C159: =Calculations!B129 -> Land between Wych Elm and Barleycroft Works | D159: =Calculations!C129 -> Residential | E159: =Calculations!D129 -> 0.32778955 | F159: =Calculations!H129 -> 0.32778955 | G159: =Calculations!L129 -> 100 | H159: =Calculations!G129 -> 0 | I159: =Calculations!K129 -> 0 | J159: =Calculations!F129 -> 0 | K159: =Calculations!J129 -> 0 | L159: =Calculations!E129 -> 0 | M159: =Calculations!I129 -> 0 | N159: =Calculations!P129 -> 0.32778955 | O159: =Calculations!T129 -> 100 | P159: =Calculations!O129 -> 0 | Q159: =Calculations!S129 -> 0 | R159: =Calculations!N129 -> 0 | S159: =Calculations!R129 -> 0 | T159: =Calculations!M129 -> 0 | U159: =Calculations!Q129 -> 0 | V159: =Calculations!AA129 -> 0 | W159: =Calculations!AB129 -> 0 | X159: =Calculations!Y129 -> 0 | Y159: =Calculations!Z129 -> 0 | Z159: =Calculations!AC129 -> 0 | AA159: =Calculations!AD129 -> 0 | AB159: =Calculations!AF129 -> 0 | AC159: =Calculations!AG129 -> 0 | AD159: No | AE159: There is a risk of groundwater emergence to both surface and subsurface assets. Groundwater may emerge at significant rates and has the capacity to flow overland and/or pond within any topographic low spots. | AF159: More vulnerable | AG159: Strategic Recommendation C | AH159: Progress to developer-led FRA. Site is at high risk of groundwater emergence. | AI159: Site appropriate to allocate. Developer-led FRA required. Planning permission subject to FRA. | AJ159: The site is at risk from ground water emergence. There are no other significant flood risk intersections on site. | AK159: The site could be allocated on flood risk grounds. Developer-led FRA will be required at planning application stage due to risk of groundwater flooding.
B160: =Calculations!A130 -> 23/24/002 | C160: =Calculations!B130 -> Whitebarns | D160: =Calculations!C130 -> Residential | E160: =Calculations!D130 -> 0.58482928 | F160: =Calculations!H130 -> 0.58482928 | G160: =Calculations!L130 -> 100 | H160: =Calculations!G130 -> 0 | I160: =Calculations!K130 -> 0 | J160: =Calculations!F130 -> 0 | K160: =Calculations!J130 -> 0 | L160: =Calculations!E130 -> 0 | M160: =Calculations!I130 -> 0 | N160: =Calculations!P130 -> 0.58482928 | O160: =Calculations!T130 -> 100 | P160: =Calculations!O130 -> 0 | Q160: =Calculations!S130 -> 0 | R160: =Calculations!N130 -> 0 | S160: =Calculations!R130 -> 0 | T160: =Calculations!M130 -> 0 | U160: =Calculations!Q130 -> 0 | V160: =Calculations!AA130 -> 0 | W160: =Calculations!AB130 -> 0 | X160: =Calculations!Y130 -> 0 | Y160: =Calculations!Z130 -> 0 | Z160: =Calculations!AC130 -> 0 | AA160: =Calculations!AD130 -> 0 | AB160: =Calculations!AF130 -> 0 | AC160: =Calculations!AG130 -> 0 | AD160: No | AE160: There is a risk of emergence to subsurface assets, but surface manifestation of groundwater is unlikely. | AF160: More vulnerable | AG160: Strategic Recommendation D | AH160: Development could be allocated on flood risk grounds based on the evidence of this Level 1 SFRA. | AI160: LPA to make decision on allocation. | AJ160: No significant flood risk impacting the site. | AK160: The site could be allocated on flood risk grounds.
B161: =Calculations!A131 -> 23/24/003 | C161: =Calculations!B131 -> BARLEYCROFT WORKS | D161: =Calculations!C131 -> Employment | E161: =Calculations!D131 -> 1.9037291 | F161: =Calculations!H131 -> 1.9037291 | G161: =Calculations!L131 -> 100 | H161: =Calculations!G131 -> 0 | I161: =Calculations!K131 -> 0 | J161: =Calculations!F131 -> 0 | K161: =Calculations!J131 -> 0 | L161: =Calculations!E131 -> 0 | M161: =Calculations!I131 -> 0 | N161: =Calculations!P131 -> 1.799301 | O161: =Calculations!T131 -> 94.514552 | P161: =Calculations!O131 -> 0.056814266 | Q161: =Calculations!S131 -> 2.9843672 | R161: =Calculations!N131 -> 0.008802551 | S161: =Calculations!R131 -> 0.46238464 | T161: =Calculations!M131 -> 0.038811246 | U161: =Calculations!Q131 -> 2.0386958 | V161: =Calculations!AA131 -> 0 | W161: =Calculations!AB131 -> 0 | X161: =Calculations!Y131 -> 0 | Y161: =Calculations!Z131 -> 0 | Z161: =Calculations!AC131 -> 0.033209624 | AA161: =Calculations!AD131 -> 1.7444511 | AB161: =Calculations!AF131 -> 0 | AC161: =Calculations!AG131 -> 0 | AD161: N/A | AE161: There is a risk of groundwater emergence to both surface and subsurface assets. Groundwater may emerge at significant rates and has the capacity to flow overland and/or pond within any topographic low spots. | AF161: Less vulnerable | AG161: Strategic Recommendation B | AH161: Level 2 SFRA required due to risk from surface water sources (3.3% AEP event). Site is at high risk of groundwater emergence. | AI161: Level 2 SFRA required to further assess risk. A Level 2 SFRA may not be required depending on the spatial variation of risk, particularly for sites with a small percentage of the site shown to be at risk, and can be addressed through policy wording. | AJ161: There is a pocket of 3.3% AEP surface water flood risk in the southern section of the site, covering a small pond on-site. This risk is surrounded by further 1% AEP surface water flood risk, and further 0.1% AEP surface water flood risk. When considering future climate change risk projections, the risk increases but stays concentrated in a relatively small area around the pond. There is also risk of ground water emergence. | AK161: If site is progressed by the Council for allocation, policy wording should direct built development away from areas of surface water flood risk.
B162: =Calculations!A132 -> 23/24/004 | C162: =Calculations!B132 -> Land at Whitebarns Lane | D162: =Calculations!C132 -> Residential | E162: =Calculations!D132 -> 0.16374278 | F162: =Calculations!H132 -> 0.16374278 | G162: =Calculations!L132 -> 100 | H162: =Calculations!G132 -> 0 | I162: =Calculations!K132 -> 0 | J162: =Calculations!F132 -> 0 | K162: =Calculations!J132 -> 0 | L162: =Calculations!E132 -> 0 | M162: =Calculations!I132 -> 0 | N162: =Calculations!P132 -> 0.16374278 | O162: =Calculations!T132 -> 100 | P162: =Calculations!O132 -> 0 | Q162: =Calculations!S132 -> 0 | R162: =Calculations!N132 -> 0 | S162: =Calculations!R132 -> 0 | T162: =Calculations!M132 -> 0 | U162: =Calculations!Q132 -> 0 | V162: =Calculations!AA132 -> 0 | W162: =Calculations!AB132 -> 0 | X162: =Calculations!Y132 -> 0 | Y162: =Calculations!Z132 -> 0 | Z162: =Calculations!AC132 -> 0 | AA162: =Calculations!AD132 -> 0 | AB162: =Calculations!AF132 -> 0 | AC162: =Calculations!AG132 -> 0 | AD162: No | AE162: There is a risk of emergence to subsurface assets, but surface manifestation of groundwater is unlikely. | AF162: More vulnerable | AG162: Strategic Recommendation D | AH162: Development could be allocated on flood risk grounds based on the evidence of this Level 1 SFRA. | AI162: LPA to make decision on allocation. | AJ162: No significant flood risk impacting the site. | AK162: The site could be allocated on flood risk grounds.
B163: =Calculations!A133 -> 23/24/005 | C163: =Calculations!B133 -> Land East of Barleycroft Works | D163: =Calculations!C133 -> Residential | E163: =Calculations!D133 -> 11.61932 | F163: =Calculations!H133 -> 11.61932 | G163: =Calculations!L133 -> 100 | H163: =Calculations!G133 -> 0 | I163: =Calculations!K133 -> 0 | J163: =Calculations!F133 -> 0 | K163: =Calculations!J133 -> 0 | L163: =Calculations!E133 -> 0 | M163: =Calculations!I133 -> 0 | N163: =Calculations!P133 -> 11.594512 | O163: =Calculations!T133 -> 99.786487 | P163: =Calculations!O133 -> 0.024808812 | Q163: =Calculations!S133 -> 0.21351345 | R163: =Calculations!N133 -> 0 | S163: =Calculations!R133 -> 0 | T163: =Calculations!M133 -> 0 | U163: =Calculations!Q133 -> 0 | V163: =Calculations!AA133 -> 0 | W163: =Calculations!AB133 -> 0 | X163: =Calculations!Y133 -> 0 | Y163: =Calculations!Z133 -> 0 | Z163: =Calculations!AC133 -> 0 | AA163: =Calculations!AD133 -> 0 | AB163: =Calculations!AF133 -> 0 | AC163: =Calculations!AG133 -> 0 | AD163: No | AE163: There is a risk of emergence to subsurface assets, but surface manifestation of groundwater is unlikely. | AF163: More vulnerable | AG163: Strategic Recommendation B | AH163: Level 2 SFRA required due to risk from surface water sources (0.1% AEP event). | AI163: Level 2 SFRA required to further assess risk. A Level 2 SFRA may not be required depending on the spatial variation of risk, particularly for sites with a small percentage of the site shown to be at risk, and can be addressed through policy wording. | AJ163: There is a small pocket of 0.1% AEP surface water flood risk at the northern part of the site. When considering future climate change risk projections, the risk area becomes slightly bigger. Built development could avoid areas of flood risk. | AK163: If site is progressed by the Council for allocation, policy wording should direct built development away from the areas of flood risk.
B164: =Calculations!A134 -> 23/24/006 | C164: =Calculations!B134 -> Land East of Willows Farm | D164: =Calculations!C134 -> Residential | E164: =Calculations!D134 -> 0.75689022 | F164: =Calculations!H134 -> 0.75472065 | G164: =Calculations!L134 -> 99.713357 | H164: =Calculations!G134 -> 0.0021695714 | I164: =Calculations!K134 -> 0.28664281 | J164: =Calculations!F134 -> 0 | K164: =Calculations!J134 -> 0 | L164: =Calculations!E134 -> 0 | M164: =Calculations!I134 -> 0 | N164: =Calculations!P134 -> 0.7568785 | O164: =Calculations!T134 -> 99.998452 | P164: =Calculations!O134 -> 1.1716976e-05 | Q164: =Calculations!S134 -> 0.0015480417 | R164: =Calculations!N134 -> 0 | S164: =Calculations!R134 -> 0 | T164: =Calculations!M134 -> 0 | U164: =Calculations!Q134 -> 0 | V164: =Calculations!AA134 -> 0 | W164: =Calculations!AB134 -> 0 | X164: =Calculations!Y134 -> 0 | Y164: =Calculations!Z134 -> 0 | Z164: =Calculations!AC134 -> 0 | AA164: =Calculations!AD134 -> 0 | AB164: =Calculations!AF134 -> 0 | AC164: =Calculations!AG134 -> 0 | AD164: N/A | AE164: No risk. | AF164: More vulnerable | AG164: Strategic Recommendation B | AH164: Level 2 SFRA required due to medium risk from fluvial sources (Flood Zone 2). | AI164: Carry out Level 2 SFRA to further assess risk. A Level 2 SFRA may not be required for sites with a small percentage of the site shown to be at risk, depending on the spatial variability of risk, with risk being addressed through policy wording. | AJ164: Overlap between site and Flood Zone 2 is very minimal, limited to the northern corner. However, the adjacent access road (Ginns Road), bordering the site's western edge, is almost entirely within Flood Zone 3b, alongside surface water flood risk (3.3%, 1% and 0.1%). | AK164: Given the flood risk at the potential site access, if the site is progressed by the Council for allocation, a Level 2 SFRA will likely be required to assess risk.
B165: =Calculations!A135 -> 23/24/007 | C165: =Calculations!B135 -> Land South of Stocking Pelham | D165: =Calculations!C135 -> Residential | E165: =Calculations!D135 -> 3.6321945 | F165: =Calculations!H135 -> 3.6094961 | G165: =Calculations!L135 -> 99.375077 | H165: =Calculations!G135 -> 0.020702864 | I165: =Calculations!K135 -> 0.56998227 | J165: =Calculations!F135 -> 0 | K165: =Calculations!J135 -> 0 | L165: =Calculations!E135 -> 0.0019955428 | M165: =Calculations!I135 -> 0.054940416 | N165: =Calculations!P135 -> 3.5582796 | O165: =Calculations!T135 -> 97.965009 | P165: =Calculations!O135 -> 0.073914821 | Q165: =Calculations!S135 -> 2.0349908 | R165: =Calculations!N135 -> 0 | S165: =Calculations!R135 -> 0 | T165: =Calculations!M135 -> 0 | U165: =Calculations!Q135 -> 0 | V165: =Calculations!AA135 -> 0 | W165: =Calculations!AB135 -> 0 | X165: =Calculations!Y135 -> 0 | Y165: =Calculations!Z135 -> 0 | Z165: =Calculations!AC135 -> 0.0089921621 | AA165: =Calculations!AD135 -> 0.2475683 | AB165: =Calculations!AF135 -> 0 | AC165: =Calculations!AG135 -> 0 | AD165: N/A | AE165: No risk. | AF165: More vulnerable | AG165: Strategic Recommendation A | AH165: Recommend for withdrawal if built development cannot avoid Flood Zone 3b. | AI165: Development not permitted in Flood Zone 3b. Check whether site boundary can be redrawn or whether it may be possible to incorporate functional floodplain into site layout and design as open greenspace. This may be possible for sites where percentage area of functional floodplain is lower. Site should be withdrawn if these criteria cannot be met. A Level 2 SFRA may be required to inform this process. | AJ165: Flood Zone 3b runs along Ginns Road, including very minimal overlap with the site's western border, triggering Recommendation A. Similarly, there is a small overlap on the western edge of the site with Flood Zone 2. Additionally, there is a patch of surface water flood risk (0.1% AEP) around the south-western corner of the site. So built development could easily avoid areas of flood risk on site, but further investigation is needed given the fluvial flood risk potentially affecting access. | AK165: Given the flood risk at the potential site access, if the site is progressed by the Council for allocation, a Level 2 SFRA will likely be required to assess risk.
... B193: =Calculations!A163 -> 30/24/001 | C193: =Calculations!B163 -> Land at St Marys Lane | D193: =Calculations!C163 -> Residential | E193: =Calculations!D163 -> 1.6114666 | F193: =Calculations!H163 -> 1.6114666 | G193: =Calculations!L163 -> 100 | H193: =Calculations!G163 -> 0 | I193: =Calculations!K163 -> 0 | J193: =Calculations!F163 -> 0 | K193: =Calculations!J163 -> 0 | L193: =Calculations!E163 -> 0 | M193: =Calculations!I163 -> 0 | N193: =Calculations!P163 -> 1.6114666 | O193: =Calculations!T163 -> 100 | P193: =Calculations!O163 -> 0 | Q193: =Calculations!S163 -> 0 | R193: =Calculations!N163 -> 0 | S193: =Calculations!R163 -> 0 | T193: =Calculations!M163 -> 0 | U193: =Calculations!Q163 -> 0 | V193: =Calculations!AA163 -> 0 | W193: =Calculations!AB163 -> 0 | X193: =Calculations!Y163 -> 0 | Y193: =Calculations!Z163 -> 0 | Z193: =Calculations!AC163 -> 0 | AA193: =Calculations!AD163 -> 0 | AB193: =Calculations!AF163 -> 0 | AC193: =Calculations!AG163 -> 0 | AD193: No | AE193: There is a risk of emergence to subsurface assets, but surface manifestation of groundwater is unlikely. | AF193: More vulnerable | AG193: Strategic Recommendation C | AH193: Progress to developer-led FRA. | AI193: Site appropriate to allocate. Developer-led FRA required. Planning permission subject to FRA. | AJ193: No significant flood risk impacting the site. | AK193: The site could be allocated on flood risk grounds. A developer-led FRA will be required at planning application stage due to site size.
B194: =Calculations!A164 -> 30/24/002 | C194: =Calculations!B164 -> Terrace Wood Nursey | D194: =Calculations!C164 -> Residential | E194: =Calculations!D164 -> 0.92186011 | F194: =Calculations!H164 -> 0.92186011 | G194: =Calculations!L164 -> 100 | H194: =Calculations!G164 -> 0 | I194: =Calculations!K164 -> 0 | J194: =Calculations!F164 -> 0 | K194: =Calculations!J164 -> 0 | L194: =Calculations!E164 -> 0 | M194: =Calculations!I164 -> 0 | N194: =Calculations!P164 -> 0.74654607 | O194: =Calculations!T164 -> 80.982577 | P194: =Calculations!O164 -> 0.07751829 | Q194: =Calculations!S164 -> 8.4088995 | R194: =Calculations!N164 -> 0.075382897 | S194: =Calculations!R164 -> 8.1772599 | T194: =Calculations!M164 -> 0.022412847 | U194: =Calculations!Q164 -> 2.4312634 | V194: =Calculations!AA164 -> 0 | W194: =Calculations!AB164 -> 0 | X194: =Calculations!Y164 -> 0 | Y194: =Calculations!Z164 -> 0 | Z194: =Calculations!AC164 -> 0.042209026 | AA194: =Calculations!AD164 -> 4.5786802 | AB194: =Calculations!AF164 -> 0 | AC194: =Calculations!AG164 -> 0 | AD194: No | AE194: There is a risk of emergence to subsurface assets, but surface manifestation of groundwater is unlikely. | AF194: More vulnerable | AG194: Strategic Recommendation B | AH194: Level 2 SFRA required due to risk from surface water sources (3.3% AEP event). | AI194: Level 2 SFRA required to further assess risk. A Level 2 SFRA may not be required depending on the spatial variation of risk, particularly for sites with a small percentage of the site shown to be at risk, and can be addressed through policy wording.
B195: =Calculations!A165 -> 31/24/001 | C195: =Calculations!B165 -> Land to the east of Canterbury Park (T8) | D195: =Calculations!C165 -> Residential | E195: =Calculations!D165 -> 0.83367185 | F195: =Calculations!H165 -> 0.83367185 | G195: =Calculations!L165 -> 100 | H195: =Calculations!G165 -> 0 | I195: =Calculations!K165 -> 0 | J195: =Calculations!F165 -> 0 | K195: =Calculations!J165 -> 0 | L195: =Calculations!E165 -> 0 | M195: =Calculations!I165 -> 0 | N195: =Calculations!P165 -> 0.82348897 | O195: =Calculations!T165 -> 98.77855 | P195: =Calculations!O165 -> 0.010182881 | Q195: =Calculations!S165 -> 1.2214496 | R195: =Calculations!N165 -> 0 | S195: =Calculations!R165 -> 0 | T195: =Calculations!M165 -> 0 | U195: =Calculations!Q165 -> 0 | V195: =Calculations!AA165 -> 0 | W195: =Calculations!AB165 -> 0 | X195: =Calculations!Y165 -> 0 | Y195: =Calculations!Z165 -> 0 | Z195: =Calculations!AC165 -> 0.0096032635 | AA195: =Calculations!AD165 -> 1.1519237 | AB195: =Calculations!AF165 -> 0 | AC195: =Calculations!AG165 -> 0 | AD195: No | AE195: No risk. | AF195: More vulnerable | AG195: Strategic Recommendation B | AH195: Level 2 SFRA required due to future surface water risk (1% AEP event plus 2070s upper end climate change allowance). | AI195: Level 2 SFRA required to further assess risk. A Level 2 SFRA may not be required depending on the spatial variation of risk, particularly for sites with a small percentage of the site shown to be at risk, and can be addressed through policy wording. | AJ195: There is a small pocket of 0.1% AEP surface water flood risk at the north-eastern corner of the site. When considering future climate change risk projections, the risk area covers the same area, but moves to the 1% AEP surface water flood risk category. | AK195: If site is progressed by the Council for allocation, policy wording should direct built development away from area of surface water flood risk.
B196: =Calculations!A166 -> 31/24/002 | C196: =Calculations!B166 -> Land west of High Road, High Cross | D196: =Calculations!C166 -> Residential | E196: =Calculations!D166 -> 2.1771571 | F196: =Calculations!H166 -> 2.1771571 | G196: =Calculations!L166 -> 100 | H196: =Calculations!G166 -> 0 | I196: =Calculations!K166 -> 0 | J196: =Calculations!F166 -> 0 | K196: =Calculations!J166 -> 0 | L196: =Calculations!E166 -> 0 | M196: =Calculations!I166 -> 0 | N196: =Calculations!P166 -> 1.6078514 | O196: =Calculations!T166 -> 73.850959 | P196: =Calculations!O166 -> 0.19955402 | Q196: =Calculations!S166 -> 9.165807 | R196: =Calculations!N166 -> 0.045518005 | S196: =Calculations!R166 -> 2.0907083 | T196: =Calculations!M166 -> 0.32423368 | U196: =Calculations!Q166 -> 14.892526 | V196: =Calculations!AA166 -> 0 | W196: =Calculations!AB166 -> 0 | X196: =Calculations!Y166 -> 0 | Y196: =Calculations!Z166 -> 0 | Z196: =Calculations!AC166 -> 0.11861327 | AA196: =Calculations!AD166 -> 5.4480805 | AB196: =Calculations!AF166 -> 0 | AC196: =Calculations!AG166 -> 0 | AD196: No | AE196: No risk. | AF196: More vulnerable | AG196: Strategic Recommendation B | AH196: Level 2 SFRA required due to risk from surface water sources (3.3% AEP event). | AI196: Level 2 SFRA required to further assess risk. A Level 2 SFRA may not be required depending on the spatial variation of risk, particularly for sites with a small percentage of the site shown to be at risk, and can be addressed through policy wording. | AJ196: There is extensive 3.3% AEP surface water flood risk at the southern part of the site, in the centre, and a small pocket at the northern edge of the site. This risk is surrounded by further 1% AEP surface water flood risk, and further extensive 0.1% AEP surface water flood risk. When considering future climate change risk projections, the risk becomes slightly more extensive in the 0.1% AEP surface water flood risk category. When combining all of these risk percentages together, the site is extensively covered by surface water flood risk, so it would be difficult for built development to avoid so risk should be investigated. | AK196: Resolution to grant permission agreed at committee in 2026 for residential development (3/24/0284/OUT). If planning permission does not come forward and the site is progressed by the Council for allocation, a Level 2 SFRA will likely be required to assess risk.
B197: =Calculations!A167 -> 31/24/003 | C197: =Calculations!B167 -> Land to the East of High Road | D197: =Calculations!C167 -> Residential | E197: =Calculations!D167 -> 13.373112 | F197: =Calculations!H167 -> 13.373112 | G197: =Calculations!L167 -> 100 | H197: =Calculations!G167 -> 0 | I197: =Calculations!K167 -> 0 | J197: =Calculations!F167 -> 0 | K197: =Calculations!J167 -> 0 | L197: =Calculations!E167 -> 0 | M197: =Calculations!I167 -> 0 | N197: =Calculations!P167 -> 12.922025 | O197: =Calculations!T167 -> 96.62691 | P197: =Calculations!O167 -> 0.26271685 | Q197: =Calculations!S167 -> 1.9645155 | R197: =Calculations!N167 -> 0.075629309 | S197: =Calculations!R167 -> 0.5655326 | T197: =Calculations!M167 -> 0.11274097 | U197: =Calculations!Q167 -> 0.84304212 | V197: =Calculations!AA167 -> 0 | W197: =Calculations!AB167 -> 0 | X197: =Calculations!Y167 -> 0 | Y197: =Calculations!Z167 -> 0 | Z197: =Calculations!AC167 -> 0.1315115 | AA197: =Calculations!AD167 -> 0.98340237 | AB197: =Calculations!AF167 -> 0 | AC197: =Calculations!AG167 -> 0 | AD197: Yes | AE197: No risk. | AF197: More vulnerable | AG197: Strategic Recommendation B | AH197: Level 2 SFRA required due to risk from surface water sources (3.3% AEP event). | AI197: Level 2 SFRA required to further assess risk. A Level 2 SFRA may not be required depending on the spatial variation of risk, particularly for sites with a small percentage of the site shown to be at risk, and can be addressed through policy wording. | AJ197: There are several small pockets of 3.3% AEP surface water flood risk across the site. These pockets are surrounded by small pockets of 1% AEP surface water flood risk, and further slightly more extensive 0.1% AEP surface water flood risk. When considering future climate change risk projections, the risk becomes slightly more extensive, however built development could easily avoid these areas. | AK197: Resolution to grant permission agreed at committee in 2026 for residential development (3/24/0091/OUT). If planning permission does not come forward and if site is progressed by the Council for allocation, policy wording should direct built development away from area of surface water flood risk.
B198: =Calculations!A168 -> 31/24/004 | C198: =Calculations!B168 -> Land south of Oakley Coachworks referenced as T6 | D198: =Calculations!C168 -> Mixed use | E198: =Calculations!D168 -> 1.2700433 | F198: =Calculations!H168 -> 1.2700433 | G198: =Calculations!L168 -> 100 | H198: =Calculations!G168 -> 0 | I198: =Calculations!K168 -> 0 | J198: =Calculations!F168 -> 0 | K198: =Calculations!J168 -> 0 | L198: =Calculations!E168 -> 0 | M198: =Calculations!I168 -> 0 | N198: =Calculations!P168 -> 1.1216181 | O198: =Calculations!T168 -> 88.313376 | P198: =Calculations!O168 -> 0.066158487 | Q198: =Calculations!S168 -> 5.2091521 | R198: =Calculations!N168 -> 0.026100264 | S198: =Calculations!R168 -> 2.0550688 | T198: =Calculations!M168 -> 0.056166429 | U198: =Calculations!Q168 -> 4.4224027 | V198: =Calculations!AA168 -> 0 | W198: =Calculations!AB168 -> 0 | X198: =Calculations!Y168 -> 0 | Y198: =Calculations!Z168 -> 0 | Z198: =Calculations!AC168 -> 0.033550428 | AA198: =Calculations!AD168 -> 2.6416759 | AB198: =Calculations!AF168 -> 0 | AC198: =Calculations!AG168 -> 0 | AD198: No | AE198: Groundwater emergence is not likely. | AF198: More vulnerable | AG198: Strategic Recommendation B | AH198: Level 2 SFRA required due to risk from surface water sources (3.3% AEP event). | AI198: Level 2 SFRA required to further assess risk. A Level 2 SFRA may not be required depending on the spatial variation of risk, particularly for sites with a small percentage of the site shown to be at risk, and can be addressed through policy wording. | AJ198: There is a thin path of 3.3% AEP surface water flood risk travelling vertically through the western half of the site. This path is surrounded by 1% AEP surface water flood risk, as well as more extensive 0.1% AEP surface water flood risk. When considering future climate change risk projections, the risk increases and the area becomes more extensive. It is concentrated to the western corner of the site, but looks like access would be affected, so needs further investigation. | AK198: Given the flood risk at the potential site access, if the site is progressed by the Council for allocation, a Level 2 SFRA will likely be required to assess risk.
B199: =Calculations!A169 -> 31/24/005 | C199: =Calculations!B169 -> Sutes Farm, High Cross | D199: =Calculations!C169 -> Employment | E199: =Calculations!D169 -> 2.0626846 | F199: =Calculations!H169 -> 2.0626846 | G199: =Calculations!L169 -> 100 | H199: =Calculations!G169 -> 0 | I199: =Calculations!K169 -> 0 | J199: =Calculations!F169 -> 0 | K199: =Calculations!J169 -> 0 | L199: =Calculations!E169 -> 0 | M199: =Calculations!I169 -> 0 | N199: =Calculations!P169 -> 2.0263792 | O199: =Calculations!T169 -> 98.239896 | P199: =Calculations!O169 -> 0.026809079 | Q199: =Calculations!S169 -> 1.2997178 | R199: =Calculations!N169 -> 0 | S199: =Calculations!R169 -> 0 | T199: =Calculations!M169 -> 0.0094963189 | U199: =Calculations!Q169 -> 0.46038638 | V199: =Calculations!AA169 -> 0 | W199: =Calculations!AB169 -> 0 | X199: =Calculations!Y169 -> 0 | Y199: =Calculations!Z169 -> 0 | Z199: =Calculations!AC169 -> 0.011603932 | AA199: =Calculations!AD169 -> 0.56256453 | AB199: =Calculations!AF169 -> 0 | AC199: =Calculations!AG169 -> 0 | AD199: Yes | AE199: No risk. | AF199: Less vulnerable | AG199: Strategic Recommendation B | AH199: Level 2 SFRA required due to risk from surface water sources (3.3% AEP event). | AI199: Level 2 SFRA required to further assess risk. A Level 2 SFRA may not be required depending on the spatial variation of risk, particularly for sites with a small percentage of the site shown to be at risk, and can be addressed through policy wording. | AJ199: There is 3.3% AEP surface water flood risk at the southern part of the site. There are also pockets of 0.1% AEP surface water flood risk nearby, as well as two larger pockets of the same risk. When considering future climate change projections, 1% and 0.1% AEP surface water flood risk becomes more extensive, however built development could likely avoid areas of risk. | AK199: If site is progressed by the Council for allocation, policy wording should direct built development away from area of surface water flood risk.
B200: =Calculations!A170 -> 31/24/006 | C200: =Calculations!B170 -> Land on North Drive | D200: =Calculations!C170 -> Residential | E200: =Calculations!D170 -> 0.90738002 | F200: =Calculations!H170 -> 0.90738002 | G200: =Calculations!L170 -> 100 | H200: =Calculations!G170 -> 0 | I200: =Calculations!K170 -> 0 | J200: =Calculations!F170 -> 0 | K200: =Calculations!J170 -> 0 | L200: =Calculations!E170 -> 0 | M200: =Calculations!I170 -> 0 | N200: =Calculations!P170 -> 0.90738002 | O200: =Calculations!T170 -> 100 | P200: =Calculations!O170 -> 0 | Q200: =Calculations!S170 -> 0 | R200: =Calculations!N170 -> 0 | S200: =Calculations!R170 -> 0 | T200: =Calculations!M170 -> 0 | U200: =Calculations!Q170 -> 0 | V200: =Calculations!AA170 -> 0 | W200: =Calculations!AB170 -> 0 | X200: =Calculations!Y170 -> 0 | Y200: =Calculations!Z170 -> 0 | Z200: =Calculations!AC170 -> 0 | AA200: =Calculations!AD170 -> 0 | AB200: =Calculations!AF170 -> 0 | AC200: =Calculations!AG170 -> 0 | AD200: No | AE200: No risk. | AF200: More vulnerable | AG200: Strategic Recommendation D | AH200: Development could be allocated on flood risk grounds based on the evidence of this Level 1 SFRA. | AI200: LPA to make decision on allocation. | AJ200: No significant flood risk impacting the site. | AK200: The site could be allocated on flood risk grounds.
B201: =Calculations!A171 -> 31/24/007 | C201: =Calculations!B171 -> Land east of Oakley Coachworks referenced as T7 | D201: =Calculations!C171 -> Residential | E201: =Calculations!D171 -> 0.57485607 | F201: =Calculations!H171 -> 0.57485607 | G201: =Calculations!L171 -> 100 | H201: =Calculations!G171 -> 0 | I201: =Calculations!K171 -> 0 | J201: =Calculations!F171 -> 0 | K201: =Calculations!J171 -> 0 | L201: =Calculations!E171 -> 0 | M201: =Calculations!I171 -> 0 | N201: =Calculations!P171 -> 0.57485607 | O201: =Calculations!T171 -> 100 | P201: =Calculations!O171 -> 0 | Q201: =Calculations!S171 -> 0 | R201: =Calculations!N171 -> 0 | S201: =Calculations!R171 -> 0 | T201: =Calculations!M171 -> 0 | U201: =Calculations!Q171 -> 0 | V201: =Calculations!AA171 -> 0 | W201: =Calculations!AB171 -> 0 | X201: =Calculations!Y171 -> 0 | Y201: =Calculations!Z171 -> 0 | Z201: =Calculations!AC171 -> 0 | AA201: =Calculations!AD171 -> 0 | AB201: =Calculations!AF171 -> 0 | AC201: =Calculations!AG171 -> 0 | AD201: No | AE201: Groundwater emergence is not likely. | AF201: More vulnerable | AG201: Strategic Recommendation D | AH201: Development could be allocated on flood risk grounds based on the evidence of this Level 1 SFRA. | AI201: LPA to make decision on allocation. | AJ201: No significant flood risk impacting the site. | AK201: The site could be allocated on flood risk grounds.
B202: =Calculations!A172 -> 32/24/001 | C202: =Calculations!B172 -> LAND SOUTH OF LAUDEN LODGE | D202: =Calculations!C172 -> Mixed use | E202: =Calculations!D172 -> 34.832481 | F202: =Calculations!H172 -> 34.832481 | G202: =Calculations!L172 -> 100 | H202: =Calculations!G172 -> 0 | I202: =Calculations!K172 -> 0 | J202: =Calculations!F172 -> 0 | K202: =Calculations!J172 -> 0 | L202: =Calculations!E172 -> 0 | M202: =Calculations!I172 -> 0 | N202: =Calculations!P172 -> 33.975737 | O202: =Calculations!T172 -> 97.540386 | P202: =Calculations!O172 -> 0.53048651 | Q202: =Calculations!S172 -> 1.522965 | R202: =Calculations!N172 -> 0.2391195 | S202: =Calculations!R172 -> 0.68648426 | T202: =Calculations!M172 -> 0.087138495 | U202: =Calculations!Q172 -> 0.25016448 | V202: =Calculations!AA172 -> 0 | W202: =Calculations!AB172 -> 0 | X202: =Calculations!Y172 -> 0 | Y202: =Calculations!Z172 -> 0 | Z202: =Calculations!AC172 -> 0.29480213 | AA202: =Calculations!AD172 -> 0.8463426 | AB202: =Calculations!AF172 -> 0 | AC202: =Calculations!AG172 -> 0 | AD202: Yes | AE202: There is a risk of groundwater emergence to both surface and subsurface assets. Groundwater may emerge at significant rates and has the capacity to flow overland and/or pond within any topographic low spots. | AF202: More vulnerable | AG202: Strategic Recommendation B | AH202: Level 2 SFRA required due to risk from surface water sources (3.3% AEP event). Site is at high risk of groundwater emergence. | AI202: Level 2 SFRA required to further assess risk. A Level 2 SFRA may not be required depending on the spatial variation of risk, particularly for sites with a small percentage of the site shown to be at risk, and can be addressed through policy wording. | AJ202: There are small patches of 3.3% AEP surface water flood risk at the southern part of the site, which is extended by 1% AEP surface water flood risk, and made more extensive by 0.1% AEP surface water flood risk. When accounting for future climate change risk projections, the area of surface water flood risk expands slightly in the southern part of the site, and risk increases. However, built development could avoid areas of risk. Site is at risk of ground water emergence. | AK202: If site is progressed by the Council for allocation, policy wording should direct built development away from area of surface water flood risk.
B203: =Calculations!A173 -> 32/24/002 | C203: =Calculations!B173 -> LAND NORTH HIGH WYCH PRIMARY SCHOOL | D203: =Calculations!C173 -> Residential | E203: =Calculations!D173 -> 28.331922 | F203: =Calculations!H173 -> 27.282869 | G203: =Calculations!L173 -> 96.297278 | H203: =Calculations!G173 -> 0.20985085 | I203: =Calculations!K173 -> 0.74068698 | J203: =Calculations!F173 -> 0.080201834 | K203: =Calculations!J173 -> 0.2830794 | L203: =Calculations!E173 -> 0.75899955 | M203: =Calculations!I173 -> 2.6789554 | N203: =Calculations!P173 -> 26.602702 | O203: =Calculations!T173 -> 93.896566 | P203: =Calculations!O173 -> 1.0244314 | Q203: =Calculations!S173 -> 3.6158205 | R203: =Calculations!N173 -> 0.29982447 | S203: =Calculations!R173 -> 1.0582567 | T203: =Calculations!M173 -> 0.40496422 | U203: =Calculations!Q173 -> 1.4293567 | V203: =Calculations!AA173 -> 0.041 | W203: =Calculations!AB173 -> 0.14471309 | X203: =Calculations!Y173 -> 0.023420493 | Y203: =Calculations!Z173 -> 0.082664682 | Z203: =Calculations!AC173 -> 0.63718075 | AA203: =Calculations!AD173 -> 2.2489853 | AB203: =Calculations!AF173 -> 0 | AC203: =Calculations!AG173 -> 0 | AD203: N/A | AE203: No risk. | AF203: More vulnerable | AG203: Strategic Recommendation A | AH203: Recommend for withdrawal if built development cannot avoid Flood Zone 3b. | AI203: Development not permitted in Flood Zone 3b. Check whether site boundary can be redrawn or whether it may be possible to incorporate functional floodplain into site layout and design as open greenspace. This may be possible for sites where percentage area of functional floodplain is lower. Site should be withdrawn if these criteria cannot be met. A Level 2 SFRA may be required to inform this process. | AJ203: Flood Zone 3b runs almost entirely along the western boundary of the site. The same area is accompanied by Flood Zone 3a which follows an almost identical pattern. There are two paths of 3.3% AEP surface water flood risk which both run vertically through the middle of the site. There is also a small lone blob at the north-eastern corner of the site. These paths are accompanied by further 1% AEP surface water flood risk, and 0.1% AEP surface water flood risk. Whilist fluvial flood risk could be avoided the surface water flow paths segregate the site so should be assessed further. | AK203: If the site is progressed by the Council for allocation, a Level 2 SFRA will likely be required to assess risk.
B204: =Calculations!A174 -> 32/24/003 | C204: =Calculations!B174 -> Land East Sayes Park Farm | D204: =Calculations!C174 -> Residential | E204: =Calculations!D174 -> 45.187071 | F204: =Calculations!H174 -> 43.133058 | G204: =Calculations!L174 -> 95.454424 | H204: =Calculations!G174 -> 0.27713912 | I204: =Calculations!K174 -> 0.61331508 | J204: =Calculations!F174 -> 0.11688017 | K204: =Calculations!J174 -> 0.25865843 | L204: =Calculations!E174 -> 1.6599932 | M204: =Calculations!I174 -> 3.6736022 | N204: =Calculations!P174 -> 43.47078 | O204: =Calculations!T174 -> 96.201809 | P204: =Calculations!O174 -> 0.94154038 | Q204: =Calculations!S174 -> 2.08365 | R204: =Calculations!N174 -> 0.26407604 | S204: =Calculations!R174 -> 0.58440618 | T204: =Calculations!M174 -> 0.51067462 | U204: =Calculations!Q174 -> 1.1301344 | V204: =Calculations!AA174 -> 0.048 | W204: =Calculations!AB174 -> 0.10622508 | X204: =Calculations!Y174 -> 0.055814401 | Y204: =Calculations!Z174 -> 0.12351852 | Z204: =Calculations!AC174 -> 0.46333654 | AA204: =Calculations!AD174 -> 1.0253742 | AB204: =Calculations!AF174 -> 0 | AC204: =Calculations!AG174 -> 0 | AD204: N/A | AE204: No risk. | AF204: More vulnerable | AG204: Strategic Recommendation A | AH204: Recommend for withdrawal if built development cannot avoid Flood Zone 3b. | AI204: Development not permitted in Flood Zone 3b. Check whether site boundary can be redrawn or whether it may be possible to incorporate functional floodplain into site layout and design as open greenspace. This may be possible for sites where percentage area of functional floodplain is lower. Site should be withdrawn if these criteria cannot be met. A Level 2 SFRA may be required to inform this process. | AJ204: Flood Zone 3b runs along the eastern and southern boundary of the site, potentially restricting access from the south. The same area is accompanied by Flood Zone 3a and 2, which both follow an almost identical pattern. There is a thin strip of 3.3% AEP surface water flood risk along the eastern boundary, and another thin strip which travels horizontally across the middle of the site. There are also several pockets of 1% AEP surface water flood risk across the site, as well as 0.1% AEP surface water flood risk, which is slightly more extensive. When considering future climate change risk projections, the areas of surface water flood risk expand, and become more prominent. Given the distribution of flood risk further investigation is likely required. | AK204: If the site is progressed by the Council for allocation, a Level 2 SFRA will likely be required to assess risk.
B205: =Calculations!A175 -> 32/24/004 | C205: =Calculations!B175 -> Land West of Sayes Park Farm | D205: =Calculations!C175 -> Residential | E205: =Calculations!D175 -> 53.857864 | F205: =Calculations!H175 -> 52.686159 | G205: =Calculations!L175 -> 97.824449 | H205: =Calculations!G175 -> 0.2019685 | I205: =Calculations!K175 -> 0.37500281 | J205: =Calculations!F175 -> 0.11116747 | K205: =Calculations!J175 -> 0.20640899 | L205: =Calculations!E175 -> 0.8585693 | M205: =Calculations!I175 -> 1.5941392 | N205: =Calculations!P175 -> 51.952334 | O205: =Calculations!T175 -> 96.461929 | P205: =Calculations!O175 -> 1.2965478 | Q205: =Calculations!S175 -> 2.4073509 | R205: =Calculations!N175 -> 0.32372957 | S205: =Calculations!R175 -> 0.60108134 | T205: =Calculations!M175 -> 0.28525231 | U205: =Calculations!Q175 -> 0.52963911 | V205: =Calculations!AA175 -> 0.025 | W205: =Calculations!AB175 -> 0.046418477 | X205: =Calculations!Y175 -> 0.042615667 | Y205: =Calculations!Z175 -> 0.079126174 | Z205: =Calculations!AC175 -> 0.67865334 | AA205: =Calculations!AD175 -> 1.2600822 | AB205: =Calculations!AF175 -> 0 | AC205: =Calculations!AG175 -> 0 | AD205: N/A | AE205: There is a risk of groundwater emergence to both surface and subsurface assets. Groundwater may emerge at significant rates and has the capacity to flow overland and/or pond within any topographic low spots. | AF205: More vulnerable | AG205: Strategic Recommendation A | AH205: Recommend for withdrawal if built development cannot avoid Flood Zone 3b. Site is at high risk of groundwater emergence. | AI205: Development not permitted in Flood Zone 3b. Check whether site boundary can be redrawn or whether it may be possible to incorporate functional floodplain into site layout and design as open greenspace. This may be possible for sites where percentage area of functional floodplain is lower. Site should be withdrawn if these criteria cannot be met. A Level 2 SFRA may be required to inform this process. | AJ205: Flood Zones 3b, 3a nd 2 intersects the site along the southern boundary, but does not intrude into the site, but potentially restricting access to the south. Access need to be secured via adjoing site There are thin cirridors of 3.3% AEP surface water flood risk in the eastern corner of the site, which are .surrounded by 1% AEP surface water flood risk, and 0.1% AEP surface water flood which is slightly more extensive. When accounting for future climate change risk projections, surface water flood risk expands and become more prominent. There is a large patch of groundwater flooding risk at the southern part of the site. | AK205: If the site is progressed by the Council for allocation, a Level 2 SFRA will likely be required to assess risk.
B206: =Calculations!A176 -> 32/24/005 | C206: =Calculations!B176 -> Land East Sayes Park Farm | D206: =Calculations!C176 -> Residential | E206: =Calculations!D176 -> 45.490038 | F206: =Calculations!H176 -> 43.518771 | G206: =Calculations!L176 -> 95.666596 | H206: =Calculations!G176 -> 0.27750579 | I206: =Calculations!K176 -> 0.61003641 | J206: =Calculations!F176 -> 0.11735358 | K206: =Calculations!J176 -> 0.25797645 | L206: =Calculations!E176 -> 1.5764075 | M206: =Calculations!I176 -> 3.4653907 | N206: =Calculations!P176 -> 43.777747 | O206: =Calculations!T176 -> 96.235901 | P206: =Calculations!O176 -> 0.94085531 | Q206: =Calculations!S176 -> 2.0682667 | R206: =Calculations!N176 -> 0.26319851 | S206: =Calculations!R176 -> 0.57858494 | T206: =Calculations!M176 -> 0.50823642 | U206: =Calculations!Q176 -> 1.1172477 | V206: =Calculations!AA176 -> 0.048 | W206: =Calculations!AB176 -> 0.10551761 | X206: =Calculations!Y176 -> 0.056287817 | Y206: =Calculations!Z176 -> 0.12373658 | Z206: =Calculations!AC176 -> 0.46278944 | AA206: =Calculations!AD176 -> 1.0173424 | AB206: =Calculations!AF176 -> 0 | AC206: =Calculations!AG176 -> 0 | AD206: N/A | AE206: No risk. | AF206: More vulnerable | AG206: Strategic Recommendation A | AH206: Recommend for withdrawal if built development cannot avoid Flood Zone 3b. | AI206: Development not permitted in Flood Zone 3b. Check whether site boundary can be redrawn or whether it may be possible to incorporate functional floodplain into site layout and design as open greenspace. This may be possible for sites where percentage area of functional floodplain is lower. Site should be withdrawn if these criteria cannot be met. A Level 2 SFRA may be required to inform this process. | AJ206: N/A | AK206: No comment- duplicate site, assessed under 32/24/003
... B255: =Calculations!A225 -> 41/24/004 | C255: =Calculations!B225 -> Standon Business Park | D255: =Calculations!C225 -> Residential | E255: =Calculations!D225 -> 0.97598976 | F255: =Calculations!H225 -> -2.2598822e-09 | G255: =Calculations!L225 -> -2.3154773e-07 | H255: =Calculations!G225 -> 0.81300381 | I255: =Calculations!K225 -> 83.300445 | J255: =Calculations!F225 -> 0.042360454 | K255: =Calculations!J225 -> 4.3402559 | L255: =Calculations!E225 -> 0.1206255 | M255: =Calculations!I225 -> 12.3593 | N255: =Calculations!P225 -> 0.96034006 | O255: =Calculations!T225 -> 98.39653 | P255: =Calculations!O225 -> 0.0014879138 | Q255: =Calculations!S225 -> 0.15245178 | R255: =Calculations!N225 -> 0.0029582098 | S255: =Calculations!R225 -> 0.30309845 | T255: =Calculations!M225 -> 0.011203581 | U255: =Calculations!Q225 -> 1.1479199 | V255: =Calculations!AA225 -> 0 | W255: =Calculations!AB225 -> 0 | X255: =Calculations!Y225 -> 0.0007777349 | Y255: =Calculations!Z225 -> 0.079686788 | Z255: =Calculations!AC225 -> 0.00068765767 | AA255: =Calculations!AD225 -> 0.070457467 | AB255: =Calculations!AF225 -> 0 | AC255: =Calculations!AG225 -> 0 | AD255: N/A | AE255: There is a risk of groundwater emergence to both surface and subsurface assets. Groundwater may emerge at significant rates and has the capacity to flow overland and/or pond within any topographic low spots. | AF255: More vulnerable | AG255: Strategic Recommendation A | AH255: Recommend for withdrawal if built development cannot avoid Flood Zone 3b. Site is at high risk of groundwater emergence. | AI255: Development not permitted in Flood Zone 3b. Check whether site boundary can be redrawn or whether it may be possible to incorporate functional floodplain into site layout and design as open greenspace. This may be possible for sites where percentage area of functional floodplain is lower. Site should be withdrawn if these criteria cannot be met. A Level 2 SFRA may be required to inform this process. | AJ255: The entire eastern edge of the site overlaps slightly with Flood Zone 3b, but policy wording could direct development away to avoid this. However, the entire site is within Flood Zone 2 and a signififcant portion, including the access, is also at risk of flooding from fluvial climate change. Furthermore, surface water flood risk is present along the eastern edge (3.3% AEP) and across the entire site (1%AEP, and 0.1% AEP events). Site is entirely at risk of groundwater flooding. | AK255: If the site is progressed by the Council for allocation, a Level 2 SFRA will likely be required to assess risk.
B256: =Calculations!A226 -> 42/24/001 | C256: =Calculations!B226 -> Land to North of Springle House | D256: =Calculations!C226 -> Residential | E256: =Calculations!D226 -> 17.877277 | F256: =Calculations!H226 -> 17.877277 | G256: =Calculations!L226 -> 100 | H256: =Calculations!G226 -> 0 | I256: =Calculations!K226 -> 0 | J256: =Calculations!F226 -> 0 | K256: =Calculations!J226 -> 0 | L256: =Calculations!E226 -> 0 | M256: =Calculations!I226 -> 0 | N256: =Calculations!P226 -> 17.203498 | O256: =Calculations!T226 -> 96.231088 | P256: =Calculations!O226 -> 0.42265108 | Q256: =Calculations!S226 -> 2.3641804 | R256: =Calculations!N226 -> 0.13134386 | S256: =Calculations!R226 -> 0.73469721 | T256: =Calculations!M226 -> 0.1197839 | U256: =Calculations!Q226 -> 0.67003436 | V256: =Calculations!AA226 -> 0 | W256: =Calculations!AB226 -> 0 | X256: =Calculations!Y226 -> 0 | Y256: =Calculations!Z226 -> 0 | Z256: =Calculations!AC226 -> 0.27338041 | AA256: =Calculations!AD226 -> 1.5292061 | AB256: =Calculations!AF226 -> 0 | AC256: =Calculations!AG226 -> 0 | AD256: No | AE256: There is a risk of groundwater emergence to surface and subsurface assets. There is the possibility of groundwater emerging at the surface locally. | AF256: More vulnerable | AG256: Strategic Recommendation B | AH256: Level 2 SFRA required due to risk from surface water sources (3.3% AEP event). Site is at high risk of groundwater emergence. | AJ256: Small patch if 3.3% AEP Event surface water flood risk to south east of the site, surrounded by small areas of 1% AEP event flood risk. There are also small, narrow corridors of 0.1% AEP event surface water flood risk in south east and north east of sites. EA climate change allowance increases the risk in the north eastern corner of the site. Scale and distribution of flood risk suggests built development could avoid unless access to the site is proposed from existing roundabout and needs to cross area of surface water flood risk | AK256: If site is progressed by the Council for allocation, policy wording should direct built development away from area of surface water flood risk. If the location of the access means built development is located in area of surface water flood risk, a Level 2 SFRA will likely be required.
B257: =Calculations!A227 -> 42/24/002 | C257: =Calculations!B227 -> Land to the east of Netherfield Lane, Stanstead Abbotts. | D257: =Calculations!C227 -> Residential | E257: =Calculations!D227 -> 3.3361647 | F257: =Calculations!H227 -> 3.330422 | G257: =Calculations!L227 -> 99.827865 | H257: =Calculations!G227 -> 0.0048821355 | I257: =Calculations!K227 -> 0.14633976 | J257: =Calculations!F227 -> 0 | K257: =Calculations!J227 -> 0 | L257: =Calculations!E227 -> 0.00086055846 | M257: =Calculations!I227 -> 0.025794844 | N257: =Calculations!P227 -> 3.3069392 | O257: =Calculations!T227 -> 99.123981 | P257: =Calculations!O227 -> 0.028140535 | Q257: =Calculations!S227 -> 0.84349958 | R257: =Calculations!N227 -> 0.00094059372 | S257: =Calculations!R227 -> 0.028193864 | T257: =Calculations!M227 -> 0.00014429683 | U257: =Calculations!Q227 -> 0.004325231 | V257: =Calculations!AA227 -> 0 | W257: =Calculations!AB227 -> 0 | X257: =Calculations!Y227 -> 0 | Y257: =Calculations!Z227 -> 0 | Z257: =Calculations!AC227 -> 0.0037440053 | AA257: =Calculations!AD227 -> 0.11222483 | AB257: =Calculations!AF227 -> 0 | AC257: =Calculations!AG227 -> 0 | AD257: N/A | AE257: There is a risk of groundwater emergence to surface and subsurface assets. There is the possibility of groundwater emerging at the surface locally. | AF257: More vulnerable | AG257: Strategic Recommendation A | AH257: Recommend for withdrawal if built development cannot avoid Flood Zone 3b. Site is at high risk of groundwater emergence. | AI257: Development not permitted in Flood Zone 3b. Check whether site boundary can be redrawn or whether it may be possible to incorporate functional floodplain into site layout and design as open greenspace. This may be possible for sites where percentage area of functional floodplain is lower. Site should be withdrawn if these criteria cannot be met. A Level 2 SFRA may be required to inform this process. | AJ257: A tiny area of the new Flood Zone 3b extends into western boundary of the site and this increases marginly if the EA fluvial climate change risk is considered, but built development could easily avoid. Small area of 0.1% AEP event in eastern part of the site. | AK257: No further action- site allocated for mixed-use development in Stanstead Abbotts and St Margarets Neighbourhood Plan. (SASM H3)
B258: =Calculations!A228 -> 42/24/003 | C258: =Calculations!B228 -> Kitten Lane East | D258: =Calculations!C228 -> Residential | E258: =Calculations!D228 -> 3.3394496 | F258: =Calculations!H228 -> 3.3394496 | G258: =Calculations!L228 -> 100 | H258: =Calculations!G228 -> 0 | I258: =Calculations!K228 -> 0 | J258: =Calculations!F228 -> 0 | K258: =Calculations!J228 -> 0 | L258: =Calculations!E228 -> 0 | M258: =Calculations!I228 -> 0 | N258: =Calculations!P228 -> 3.3188327 | O258: =Calculations!T228 -> 99.382626 | P258: =Calculations!O228 -> 0.020616732 | Q258: =Calculations!S228 -> 0.61736917 | R258: =Calculations!N228 -> 1.6017467e-07 | S258: =Calculations!R228 -> 4.7964392e-06 | T258: =Calculations!M228 -> 0 | U258: =Calculations!Q228 -> 0 | V258: =Calculations!AA228 -> 0 | W258: =Calculations!AB228 -> 0 | X258: =Calculations!Y228 -> 0 | Y258: =Calculations!Z228 -> 0 | Z258: =Calculations!AC228 -> 0.00030310879 | AA258: =Calculations!AD228 -> 0.0090766095 | AB258: =Calculations!AF228 -> 0 | AC258: =Calculations!AG228 -> 0 | AD258: No | AE258: There is a risk of emergence to subsurface assets, but surface manifestation of groundwater is unlikely. | AF258: More vulnerable | AG258: Strategic Recommendation B | AH258: Level 2 SFRA required due to future surface water risk (1% AEP event plus 2070s upper end climate change allowance). | AI258: Level 2 SFRA required to further assess risk. A Level 2 SFRA may not be required depending on the spatial variation of risk, particularly for sites with a small percentage of the site shown to be at risk, and can be addressed through policy wording. | AJ258: Small area of 0.1% AEP event surface water flood risk in centre of the site. When climate change allowance is considered a tiny area on the north west boundary is at risk of 1% AEP event surface water flood risk. Built development could easily avoid areas of current and future flood risk. | AK258: If site is progressed by the Council for allocation, policy wording should direct built development away from area of surface water flood risk.
B259: =Calculations!A229 -> 42/24/004 | C259: =Calculations!B229 -> East of A10 North of Hailey Lane | D259: =Calculations!C229 -> Open space | E259: =Calculations!D229 -> 5.4255946 | F259: =Calculations!H229 -> 5.4255946 | G259: =Calculations!L229 -> 100 | H259: =Calculations!G229 -> 0 | I259: =Calculations!K229 -> 0 | J259: =Calculations!F229 -> 0 | K259: =Calculations!J229 -> 0 | L259: =Calculations!E229 -> 0 | M259: =Calculations!I229 -> 0 | N259: =Calculations!P229 -> 5.3605449 | O259: =Calculations!T229 -> 98.801059 | P259: =Calculations!O229 -> 0.051239496 | Q259: =Calculations!S229 -> 0.94440333 | R259: =Calculations!N229 -> 0.013810171 | S259: =Calculations!R229 -> 0.25453746 | T259: =Calculations!M229 -> 0 | U259: =Calculations!Q229 -> 0 | V259: =Calculations!AA229 -> 0 | W259: =Calculations!AB229 -> 0 | X259: =Calculations!Y229 -> 0 | Y259: =Calculations!Z229 -> 0 | Z259: =Calculations!AC229 -> 0.019581968 | AA259: =Calculations!AD229 -> 0.36091837 | AB259: =Calculations!AF229 -> 0 | AC259: =Calculations!AG229 -> 0 | AD259: No | AE259: Groundwater emergence is not likely. | AF259: Water compatible | AG259: Strategic Recommendation C | AH259: Progress to developer-led FRA. | AI259: Site appropriate to allocate. Developer-led FRA required. Planning permission subject to FRA. | AJ259: Small areas of 1% and 0.1% of surface water flood risk in southern part of the site. Risk increases in a small areas in south east and along the north eastern site edge when climate change is taken into account. | AK259: The water compatible site could be allocated on flood risk grounds. Developer-led FRA will be required at planning application stage due to site size.
B260: =Calculations!A230 -> 42/24/005 | C260: =Calculations!B230 -> East of A10 South of Hailey Lane | D260: =Calculations!C230 -> Residential | E260: =Calculations!D230 -> 6.9679252 | F260: =Calculations!H230 -> 6.9679252 | G260: =Calculations!L230 -> 100 | H260: =Calculations!G230 -> 0 | I260: =Calculations!K230 -> 0 | J260: =Calculations!F230 -> 0 | K260: =Calculations!J230 -> 0 | L260: =Calculations!E230 -> 0 | M260: =Calculations!I230 -> 0 | N260: =Calculations!P230 -> 6.9035751 | O260: =Calculations!T230 -> 99.076481 | P260: =Calculations!O230 -> 0.060791415 | Q260: =Calculations!S230 -> 0.87244643 | R260: =Calculations!N230 -> 0.0024934645 | S260: =Calculations!R230 -> 0.035784892 | T260: =Calculations!M230 -> 0.0010652619 | U260: =Calculations!Q230 -> 0.015288078 | V260: =Calculations!AA230 -> 0 | W260: =Calculations!AB230 -> 0 | X260: =Calculations!Y230 -> 0 | Y260: =Calculations!Z230 -> 0 | Z260: =Calculations!AC230 -> 0.017805781 | AA260: =Calculations!AD230 -> 0.25553921 | AB260: =Calculations!AF230 -> 0 | AC260: =Calculations!AG230 -> 0 | AD260: Yes | AE260: There is a risk of emergence to subsurface assets, but surface manifestation of groundwater is unlikely. | AF260: More vulnerable | AG260: Strategic Recommendation B | AH260: Level 2 SFRA required due to risk from surface water sources (3.3% AEP event). | AI260: Level 2 SFRA required to further assess risk. A Level 2 SFRA may not be required depending on the spatial variation of risk, particularly for sites with a small percentage of the site shown to be at risk, and can be addressed through policy wording. | AJ260: Tiny areas of 3.3% AEP event and 1% AEP event surface water flood risk are located on the northern boundary of the site. A narrow finger of 0.1% AEP event flood risk extends into the north eastern area of the site and part of this area increases to 1% AEP risk if the EA climate change allowance is taken into account. Built development can easliy avoid this area of flood risk. | AK260: If site is progressed by the Council for allocation, policy wording should direct built development away from area of surface water flood risk.
B261: =Calculations!A231 -> 42/24/006 | C261: =Calculations!B231 -> Briggens Park, Stanstead Abbotts, Ware | D261: =Calculations!C231 -> Residential | E261: =Calculations!D231 -> 4.170235 | F261: =Calculations!H231 -> 4.0369847 | G261: =Calculations!L231 -> 96.804731 | H261: =Calculations!G231 -> 0.071563199 | I261: =Calculations!K231 -> 1.7160472 | J261: =Calculations!F231 -> 0.032397991 | K261: =Calculations!J231 -> 0.77688646 | L261: =Calculations!E231 -> 0.029289038 | M261: =Calculations!I231 -> 0.70233544 | N261: =Calculations!P231 -> 4.1618025 | O261: =Calculations!T231 -> 99.797794 | P261: =Calculations!O231 -> 0.0084324502 | Q261: =Calculations!S231 -> 0.20220564 | R261: =Calculations!N231 -> 0 | S261: =Calculations!R231 -> 0 | T261: =Calculations!M231 -> 0 | U261: =Calculations!Q231 -> 0 | V261: =Calculations!AA231 -> 0.009 | W261: =Calculations!AB231 -> 0.21581518 | X261: =Calculations!Y231 -> 0.021508663 | Y261: =Calculations!Z231 -> 0.51576621 | Z261: =Calculations!AC231 -> 0 | AA261: =Calculations!AD231 -> 0 | AB261: =Calculations!AF231 -> 0.22989034 | AC261: =Calculations!AG231 -> 5.5126471 | AD261: N/A | AE261: There is a risk of emergence to subsurface assets, but surface manifestation of groundwater is unlikely. | AF261: More vulnerable | AG261: Strategic Recommendation A | AH261: Recommend for withdrawal if built development cannot avoid Flood Zone 3b. Site is at risk of flooding from reservoirs. | AI261: Development not permitted in Flood Zone 3b. Check whether site boundary can be redrawn or whether it may be possible to incorporate functional floodplain into site layout and design as open greenspace. This may be possible for sites where percentage area of functional floodplain is lower. Site should be withdrawn if these criteria cannot be met. A Level 2 SFRA may be required to inform this process. | AJ261: Flood Zone 3b runs along the western boundary of the site and a tiny area encroaches into the site. Likewise small area of Flood Zone 3a and 2 encroach into the south western boundary of the site and the area in the western part of the site increases slightly if the EA climate change allowance is taken into account. There is also a very small area of 0.1% AEP event surface water flood risk in the centre of the site, on the eastern boundary. Given the scale and distribution of the areas of fluvial and surface water flood risk, built development should be able to avoid. As only 5% of site is at risk of reservoir flooding it should also be possible to avoid that area. | AK261: If site is progressed by the Council for allocation, policy wording should direct development away from areas of flood risk.
B262: =Calculations!A232 -> 42/24/007 | C262: =Calculations!B232 -> Land south of Hillside Farm, adjacent to Stanstead Abbots, title number HD503974 | D262: =Calculations!C232 -> Residential | E262: =Calculations!D232 -> 4.5930093 | F262: =Calculations!H232 -> 4.5930093 | G262: =Calculations!L232 -> 100 | H262: =Calculations!G232 -> 0 | I262: =Calculations!K232 -> 0 | J262: =Calculations!F232 -> 0 | K262: =Calculations!J232 -> 0 | L262: =Calculations!E232 -> 0 | M262: =Calculations!I232 -> 0 | N262: =Calculations!P232 -> 4.5317281 | O262: =Calculations!T232 -> 98.665773 | P262: =Calculations!O232 -> 0.025812072 | Q262: =Calculations!S232 -> 0.56198605 | R262: =Calculations!N232 -> 0.007597447 | S262: =Calculations!R232 -> 0.16541327 | T262: =Calculations!M232 -> 0.02787164 | U262: =Calculations!Q232 -> 0.60682742 | V262: =Calculations!AA232 -> 0 | W262: =Calculations!AB232 -> 0 | X262: =Calculations!Y232 -> 0 | Y262: =Calculations!Z232 -> 0 | Z262: =Calculations!AC232 -> 0.012929477 | AA262: =Calculations!AD232 -> 0.2815034 | AB262: =Calculations!AF232 -> 0 | AC262: =Calculations!AG232 -> 0 | AD262: No | AE262: There is a risk of emergence to subsurface assets, but surface manifestation of groundwater is unlikely. | AF262: More vulnerable | AG262: Strategic Recommendation B | AH262: Level 2 SFRA required due to risk from surface water sources (3.3% AEP event). | AI262: Level 2 SFRA required to further assess risk. A Level 2 SFRA may not be required depending on the spatial variation of risk, particularly for sites with a small percentage of the site shown to be at risk, and can be addressed through policy wording. | AJ262: Small area of 3.3% AEP event surface water flood risk on the south western cormer of the site, alongside small patches of 1% and 0.1% AEP events in the same area. The area extents slightly along the western site boundary when EA climate change allowances are taken into account. Built development could easiliy avoid this small area of risk. | AK262: If site is progressed by the Council for allocation, policy wording should direct built development away from area of surface water flood risk.
B263: =Calculations!A233 -> 42/24/008 | C263: =Calculations!B233 -> Land South of High Street, Standstead St. Margarets | D263: =Calculations!C233 -> Residential | E263: =Calculations!D233 -> 9.9440428 | F263: =Calculations!H233 -> 9.9440428 | G263: =Calculations!L233 -> 100 | H263: =Calculations!G233 -> 0 | I263: =Calculations!K233 -> 0 | J263: =Calculations!F233 -> 0 | K263: =Calculations!J233 -> 0 | L263: =Calculations!E233 -> 0 | M263: =Calculations!I233 -> 0 | N263: =Calculations!P233 -> 9.8577836 | O263: =Calculations!T233 -> 99.132555 | P263: =Calculations!O233 -> 0.053939278 | Q263: =Calculations!S233 -> 0.54242806 | R263: =Calculations!N233 -> 0.0075173289 | S263: =Calculations!R233 -> 0.075596305 | T263: =Calculations!M233 -> 0.024802537 | U263: =Calculations!Q233 -> 0.24942106 | V263: =Calculations!AA233 -> 0 | W263: =Calculations!AB233 -> 0 | X263: =Calculations!Y233 -> 0 | Y263: =Calculations!Z233 -> 0 | Z263: =Calculations!AC233 -> 0.026576845 | AA263: =Calculations!AD233 -> 0.26726399 | AB263: =Calculations!AF233 -> 0 | AC263: =Calculations!AG233 -> 0 | AD263: No | AE263: There is a risk of groundwater emergence to surface and subsurface assets. There is the possibility of groundwater emerging at the surface locally. | AF263: More vulnerable | AG263: Strategic Recommendation B | AH263: Level 2 SFRA required due to risk from surface water sources (3.3% AEP event). Site is at high risk of groundwater emergence. | AI263: Level 2 SFRA required to further assess risk. A Level 2 SFRA may not be required depending on the spatial variation of risk, particularly for sites with a small percentage of the site shown to be at risk, and can be addressed through policy wording. | AJ263: Tiny patches of 3.3%, 1% and 0.1% AEP event surface water flood risk along the southern site boundary and adjacent to the track on the site. If the EA climate change allowance is taken into account, the risk increases, but the spatial pattern remains the same. Built development should easily be able to avoid the small area of flood risk. | AK263: If site is progressed by the Council for allocation, policy wording should direct built development away from area of surface water flood risk.
B264: =Calculations!A234 -> 42/24/009 | C264: =Calculations!B234 -> Briggens House Estate | D264: =Calculations!C234 -> Residential | E264: =Calculations!D234 -> 31.154709 | F264: =Calculations!H234 -> 22.691357 | G264: =Calculations!L234 -> 72.834435 | H264: =Calculations!G234 -> 6.7433712 | I264: =Calculations!K234 -> 21.644789 | J264: =Calculations!F234 -> 0.14656513 | K264: =Calculations!J234 -> 0.47044294 | L264: =Calculations!E234 -> 1.5734164 | M264: =Calculations!I234 -> 5.0503324 | N264: =Calculations!P234 -> 28.108047 | O264: =Calculations!T234 -> 90.220862 | P264: =Calculations!O234 -> 0.10413513 | Q264: =Calculations!S234 -> 0.33425166 | R264: =Calculations!N234 -> 0.64639171 | S264: =Calculations!R234 -> 2.0747801 | T264: =Calculations!M234 -> 2.2961353 | U264: =Calculations!Q234 -> 7.3701066 | V264: =Calculations!AA234 -> 0.014 | W264: =Calculations!AB234 -> 0.044937026 | X264: =Calculations!Y234 -> 0.098572086 | Y264: =Calculations!Z234 -> 0.31639546 | Z264: =Calculations!AC234 -> 0.022561962 | AA264: =Calculations!AD234 -> 0.072419107 | AB264: =Calculations!AF234 -> 1.155542 | AC264: =Calculations!AG234 -> 3.7090445 | AD264: N/A | AE264: There is a risk of groundwater emergence to both surface and subsurface assets. Groundwater may emerge at significant rates and has the capacity to flow overland and/or pond within any topographic low spots. | AF264: More vulnerable | AG264: Strategic Recommendation A | AH264: Recommend for withdrawal if built development cannot avoid Flood Zone 3b. Site is at high risk of groundwater emergence. Site is at risk of flooding from reservoirs. | AI264: Development not permitted in Flood Zone 3b. Check whether site boundary can be redrawn or whether it may be possible to incorporate functional floodplain into site layout and design as open greenspace. This may be possible for sites where percentage area of functional floodplain is lower. Site should be withdrawn if these criteria cannot be met. A Level 2 SFRA may be required to inform this process. | AJ264: Flood Zone 3b runs along the eastern and the south western edges of the site. Flood Zone 3 follows the same pattern but extends across the southern tip of the site. Approximately a quarter of the western part of the site lies within Flood Zone 2 and there is also 3.3% AEP event surface water flood risk within the same area as the fluvial flood risk. In the centre of the site there are small patches of 1% and 0.1% AEP event risk, which increase to 3.3% AEP event flood risk when the EA climate change allowance is considered. However, there is a signifcant area without flood risk. However, access would not be possible to south of the site via Roydon, as it is located within Flood Zone 3b. However, if access is secured to the north via the A414, it is recommended that further investigation is undertaken given the extent of flood risk on the site. There is also a risk of ground water emergence on the site. | AK264: Only if access can be secured from north (A414) not via Flood Zone 3b. If the site is progressed by the Council for allocation, a Level 2 SFRA will likely be required to assess risk.
B265: =Calculations!A235 -> 42/24/010 | C265: =Calculations!B235 -> 414 Fencing | D265: =Calculations!C235 -> Residential | E265: =Calculations!D235 -> 3.0706622 | F265: =Calculations!H235 -> 1.8992717 | G265: =Calculations!L235 -> 61.852186 | H265: =Calculations!G235 -> 0.47379195 | I265: =Calculations!K235 -> 15.429634 | J265: =Calculations!F235 -> 0.18902449 | K265: =Calculations!J235 -> 6.1558217 | L265: =Calculations!E235 -> 0.50857408 | M265: =Calculations!I235 -> 16.562358 | N265: =Calculations!P235 -> 2.6514154 | O265: =Calculations!T235 -> 86.346698 | P265: =Calculations!O235 -> 0.30071813 | Q265: =Calculations!S235 -> 9.7932662 | R265: =Calculations!N235 -> 0.034085972 | S265: =Calculations!R235 -> 1.1100528 | T265: =Calculations!M235 -> 0.084442697 | U265: =Calculations!Q235 -> 2.7499832 | V265: =Calculations!AA235 -> 0.001 | W265: =Calculations!AB235 -> 0.032566265 | X265: =Calculations!Y235 -> 0.1621347 | Y265: =Calculations!Z235 -> 5.2801217 | Z265: =Calculations!AC235 -> 0.15470595 | AA265: =Calculations!AD235 -> 5.038195 | AB265: =Calculations!AF235 -> 0.7484806 | AC265: =Calculations!AG235 -> 24.375218 | AD265: N/A | AE265: There is a risk of emergence to subsurface assets, but surface manifestation of groundwater is unlikely. | AF265: More vulnerable | AG265: Strategic Recommendation A | AH265: Recommend for withdrawal if built development cannot avoid Flood Zone 3b. Site is at risk of flooding from reservoirs. | AI265: Development not permitted in Flood Zone 3b. Check whether site boundary can be redrawn or whether it may be possible to incorporate functional floodplain into site layout and design as open greenspace. This may be possible for sites where percentage area of functional floodplain is lower. Site should be withdrawn if these criteria cannot be met. A Level 2 SFRA may be required to inform this process. | AJ265: Site intersected by a corridor of Flood Zone 3b and 3a, which runs across the centre of the site (north to south) and means the west of the site is likely undevelopable as access will need to cross Flood Zone 3b. Flood Zone 2 and the future climate change fluvial risk projections also extend into the western part of the site. Small patches of 1% and 0.1% AEP event surface water flood risk are located in eastern part of the site, with risk expanding notably when the EA climate change allowance is considered. Nearly a quarter of the site is also at risk from reservoir flooding. Due to the scale and disribution of flood risk on the site a Level 2 SFRA is likely to be required. | AK265: If the site is progressed by the Council for allocation, a Level 2 SFRA will likely be required to assess risk.
B266: =Calculations!A236 -> 42/24/011 | C266: =Calculations!B236 -> Rye Gate | D266: =Calculations!C236 -> Residential | E266: =Calculations!D236 -> 34.15173 | F266: =Calculations!H236 -> 34.15173 | G266: =Calculations!L236 -> 100 | H266: =Calculations!G236 -> 0 | I266: =Calculations!K236 -> 0 | J266: =Calculations!F236 -> 0 | K266: =Calculations!J236 -> 0 | L266: =Calculations!E236 -> 0 | M266: =Calculations!I236 -> 0 | N266: =Calculations!P236 -> 29.087362 | O266: =Calculations!T236 -> 85.170978 | P266: =Calculations!O236 -> 1.7731446 | Q266: =Calculations!S236 -> 5.1919615 | R266: =Calculations!N236 -> 1.1296229 | S266: =Calculations!R236 -> 3.3076593 | T266: =Calculations!M236 -> 2.1616001 | U266: =Calculations!Q236 -> 6.3294015 | V266: =Calculations!AA236 -> 0 | W266: =Calculations!AB236 -> 0 | X266: =Calculations!Y236 -> 0 | Y266: =Calculations!Z236 -> 0 | Z266: =Calculations!AC236 -> 0.97857449 | AA266: =Calculations!AD236 -> 2.8653731 | AB266: =Calculations!AF236 -> 0 | AC266: =Calculations!AG236 -> 0 | AD266: Yes | AE266: There is a risk of groundwater emergence to both surface and subsurface assets. Groundwater may emerge at significant rates and has the capacity to flow overland and/or pond within any topographic low spots. | AF266: More vulnerable | AG266: Strategic Recommendation B | AH266: Level 2 SFRA required due to risk from surface water sources (3.3% AEP event). Site is at high risk of groundwater emergence. | AI266: Level 2 SFRA required to further assess risk. A Level 2 SFRA may not be required depending on the spatial variation of risk, particularly for sites with a small percentage of the site shown to be at risk, and can be addressed through policy wording. | AJ266: There is a flow path of 3.3% AEP event surface water flood risk across the northern part of the site, following the watercourse, and a significant patch of flood risk in the eastern part of the site. The 1% and 0.1% AEP surface water flood risk follow the same pattern, but expand the area at risk. Likewise the area and risk increases when the EA climate change allowance is taken into account. The scale and distribution of the surface water flood risk along the northern and eastern part of the site means built development (including potential access) could be difficult to avoid. There is also risk of ground water emergence. | AK266: If site is progressed by the Council for allocation, policy wording should direct built development away from area of surface water flood risk. If the location of the access means built development is located in area of surface water flood risk, a Level 2 SFRA will be required.
B267: =Calculations!A237 -> 42/24/012 | C267: =Calculations!B237 -> Hillside Nursery | D267: =Calculations!C237 -> Residential | E267: =Calculations!D237 -> 1.9463257 | F267: =Calculations!H237 -> 1.9463257 | G267: =Calculations!L237 -> 100 | H267: =Calculations!G237 -> 0 | I267: =Calculations!K237 -> 0 | J267: =Calculations!F237 -> 0 | K267: =Calculations!J237 -> 0 | L267: =Calculations!E237 -> 0 | M267: =Calculations!I237 -> 0 | N267: =Calculations!P237 -> 1.9073129 | O267: =Calculations!T237 -> 97.995565 | P267: =Calculations!O237 -> 0.038432367 | Q267: =Calculations!S237 -> 1.9746113 | R267: =Calculations!N237 -> 0.00034494858 | S267: =Calculations!R237 -> 0.017723066 | T267: =Calculations!M237 -> 0.00023551363 | U267: =Calculations!Q237 -> 0.012100422 | V267: =Calculations!AA237 -> 0 | W267: =Calculations!AB237 -> 0 | X267: =Calculations!Y237 -> 0 | Y267: =Calculations!Z237 -> 0 | Z267: =Calculations!AC237 -> 0.013116923 | AA267: =Calculations!AD237 -> 0.67393257 | AB267: =Calculations!AF237 -> 0 | AC267: =Calculations!AG237 -> 0 | AD267: Yes | AE267: There is a risk of emergence to subsurface assets, but surface manifestation of groundwater is unlikely. | AF267: More vulnerable | AG267: Strategic Recommendation B | AH267: Level 2 SFRA required due to risk from surface water sources (3.3% AEP event). | AI267: Level 2 SFRA required to further assess risk. A Level 2 SFRA may not be required depending on the spatial variation of risk, particularly for sites with a small percentage of the site shown to be at risk, and can be addressed through policy wording. | AJ267: Tiny area of 3.3% AEP and 1% AEP surface water flood risk in the south east corner of the site. There is a larger area of 0.1% AEP flood risk adjacent to the northern site boundary, part of which increases in risk to 1% AEP event if the EA climate change allowance is applied. Built development should be able to avoid small areas of surface water flood risk. | AK267: If site is progressed by the Council for allocation, policy wording should direct built development away from the area of surface water flood risk.
B268: =Calculations!A238 -> 43/24/001 | C268: =Calculations!B238 -> Land north of Stapleford | D268: =Calculations!C238 -> Residential | E268: =Calculations!D238 -> 4.063124 | F268: =Calculations!H238 -> 4.063124 | G268: =Calculations!L238 -> 100 | H268: =Calculations!G238 -> 0 | I268: =Calculations!K238 -> 0 | J268: =Calculations!F238 -> 0 | K268: =Calculations!J238 -> 0 | L268: =Calculations!E238 -> 0 | M268: =Calculations!I238 -> 0 | N268: =Calculations!P238 -> 4.0577371 | O268: =Calculations!T238 -> 99.86742 | P268: =Calculations!O238 -> 0.0039279663 | Q268: =Calculations!S238 -> 0.096673553 | R268: =Calculations!N238 -> 0.0011704046 | S268: =Calculations!R238 -> 0.028805534 | T268: =Calculations!M238 -> 0.00028850362 | U268: =Calculations!Q238 -> 0.0071005369 | V268: =Calculations!AA238 -> 0 | W268: =Calculations!AB238 -> 0 | X268: =Calculations!Y238 -> 0 | Y268: =Calculations!Z238 -> 0 | Z268: =Calculations!AC238 -> 0.0011809185 | AA268: =Calculations!AD238 -> 0.029064298 | AB268: =Calculations!AF238 -> 0 | AC268: =Calculations!AG238 -> 0 | AD268: No | AE268: There is a risk of emergence to subsurface assets, but surface manifestation of groundwater is unlikely. | AF268: More vulnerable | AG268: Strategic Recommendation B | AH268: Level 2 SFRA required due to risk from surface water sources (3.3% AEP event). | AI268: Level 2 SFRA required to further assess risk. A Level 2 SFRA may not be required depending on the spatial variation of risk, particularly for sites with a small percentage of the site shown to be at risk, and can be addressed through policy wording. | AJ268: There is a corridor of 3.3%, 1% and 0.1% surface water flood risk to the north of the site, which marginally insects into the edge of the site, but will not affect development of the site. | AK268: If site is progressed by the Council for allocation, policy wording should direct built development away from the area of surface water flood risk.
... B314: =Calculations!A284 -> 03/24/019 | C314: =Calculations!B284 -> County Hall | D314: =Calculations!C284 -> Residential | E314: =Calculations!D284 -> 10.369849 | F314: =Calculations!H284 -> 10.369849 | G314: =Calculations!L284 -> 100 | H314: =Calculations!G284 -> 0 | I314: =Calculations!K284 -> 0 | J314: =Calculations!F284 -> 0 | K314: =Calculations!J284 -> 0 | L314: =Calculations!E284 -> 0 | M314: =Calculations!I284 -> 0 | N314: =Calculations!P284 -> 9.9478485 | O314: =Calculations!T284 -> 95.93051 | P314: =Calculations!O284 -> 0.365 | Q314: =Calculations!S284 -> 3.51982 | R314: =Calculations!N284 -> 0.047 | S314: =Calculations!R284 -> 0.45323709 | T314: =Calculations!M284 -> 0.01 | U314: =Calculations!Q284 -> 0.096433424 | V314: =Calculations!AA284 -> 0 | W314: =Calculations!AB284 -> 0 | X314: =Calculations!Y284 -> 0 | Y314: =Calculations!Z284 -> 0 | Z314: =Calculations!AC284 -> 0 | AA314: =Calculations!AD284 -> 0 | AB314: =Calculations!AF284 -> 0 | AC314: =Calculations!AG284 -> 0 | AD314: No | AE314: There is a risk of emergence to subsurface assets, but surface manifestation of groundwater is unlikely. | AF314: More vulnerable | AG314: Strategic Recommendation B | AH314: Level 2 SFRA required due to risk from surface water sources (3.3% AEP event). | AI314: Level 2 SFRA required to further assess risk. A Level 2 SFRA may not be required depending on the spatial variation of risk, particularly for sites with a small percentage of the site shown to be at risk, and can be addressed through policy wording. | AJ314: There is a small area of 3.3% AEP surface water flood risk at the south-eastern part of the site adjacent to the existing building. This is surrounded by 1% and 0.1% AEP surface water flood risk. Risk increases if the EA climate change allowance is taken into account, but is largely concentrated in the south eastern part of the site. | AK314: If the site is progressed by the Council for site allocation, policy wording should direct built development away from the areas of flood risk.

Sheet Calculations
A1: SiteRef | B1: Name | C1: Proposed_Use | D1: Area_Ha | E1: FZ3b_Area | F1: FZ3a_Area | G1: FZ2_Area | H1: FZ1_Area | I1: FZ3b_pct | J1: FZ3a_pct | K1: FZ2_pct | L1: FZ1 | M1: SWSP30yr_Area | N1: SWSP100yr_Area | O1: SWSP1000yr_Area | P1: Very Low Area | Q1: SWSP30yr_pct | R1: SWSP100yr_pct | S1: SWSP1000yr_pct | T1: Very Low pct | V1: QA | W1: QA | Y1: Future_functional_floodplain_area | Z1: Future_FF_pct | AA1: Future_FZ_area | AB1: Future_FZ_pct | AC1: SWSP100_CC_Area | AD1: SWSP100_CC_Pct | AF1: Dry day reservoir area | AG1: Dry day reservoir pct
A2: 01/24/001 | B2: Land North of Dolphin Way | C2: Residential | D2: 0.7310942 | E2: 0.082419397 | F2: 0.021488967 | G2: 0.061752908 | H2: =D2-E2-F2-G2 -> 0.56543293 | I2: =E2/D2*100 -> 11.273431 | J2: =F2/D2*100 -> 2.9392884 | K2: =G2/D2*100 -> 8.4466417 | L2: =H2/D2*100 -> 77.340639 | M2: 0.034654295 | N2: 0.015352635 | O2: 0.083755912 | P2: =D2-SUM(M2,N2,O2) -> 0.59733136 | Q2: =M2/D2*100 -> 4.7400588 | R2: =N2/D2*100 -> 2.0999531 | S2: =O2/D2*100 -> 11.456241 | T2: =P2/D2*100 -> 81.703747 | V2: =SUM(I2:L2) -> 100 | W2: =SUM(Q2:R2,S2) -> 18.296253 | Y2: 0 | Z2: =Y2/D2*100 -> 0 | AA2: 0.019 | AB2: =AA2/D2*100 -> 2.5988443 | AC2: 0.054306935 | AD2: =AC2/D2*100 -> 7.428172 | AF2: 0 | AG2: =AF2/D2*100 -> 0
A3: 01/24/002 | B3: Land at Twyford Bury Lane | C3: Residential | D3: 11.110868 | E3: 0.10955426 | F3: 0.61501996 | G3: 5.9271989 | H3: =D3-E3-F3-G3 -> 4.4590946 | I3: =E3/D3*100 -> 0.98600994 | J3: =F3/D3*100 -> 5.5353009 | K3: =G3/D3*100 -> 53.345959 | L3: =H3/D3*100 -> 40.13273 | M3: 0.033608352 | N3: 0.092388988 | O3: 0.3614651 | P3: =D3-SUM(M3,N3,O3) -> 10.623405 | Q3: =M3/D3*100 -> 0.30248179 | R3: =N3/D3*100 -> 0.8315191 | S3: =O3/D3*100 -> 3.2532572 | T3: =P3/D3*100 -> 95.612742 | V3: =SUM(I3:L3) -> 100 | W3: =SUM(Q3:R3,S3) -> 4.3872581 | Y3: 0.0034480746 | Z3: =Y3/D3*100 -> 0.031033351 | AA3: 0.019 | AB3: =AA3/D3*100 -> 0.17100375 | AC3: 0.14492627 | AD3: =AC3/D3*100 -> 1.304365 | AF3: 0 | AG3: =AF3/D3*100 -> 0
A4: 01/24/003 | B4: Stylemans Farm | C4: Residential | D4: 0.91191778 | E4: 0 | F4: 0 | G4: 0.72072993 | H4: =D4-E4-F4-G4 -> 0.19118785 | I4: =E4/D4*100 -> 0 | J4: =F4/D4*100 -> 0 | K4: =G4/D4*100 -> 79.03453 | L4: =H4/D4*100 -> 20.96547 | M4: 0 | N4: 0 | O4: 0 | P4: =D4-SUM(M4,N4,O4) -> 0.91191778 | Q4: =M4/D4*100 -> 0 | R4: =N4/D4*100 -> 0 | S4: =O4/D4*100 -> 0 | T4: =P4/D4*100 -> 100 | V4: =SUM(I4:L4) -> 100 | W4: =SUM(Q4:R4,S4) -> 0 | Y4: 0 | Z4: =Y4/D4*100 -> 0 | AA4: 0 | AB4: =AA4/D4*100 -> 0 | AC4: 0 | AD4: =AC4/D4*100 -> 0 | AF4: 0 | AG4: =AF4/D4*100 -> 0
A5: 01/24/004 | B5: Meadowlands Development Site and Meads Greenways | C5: Residential | D5: 0.44035774 | E5: 0.02006749 | F5: 0.051468335 | G5: 0.21854766 | H5: =D5-E5-F5-G5 -> 0.15027425 | I5: =E5/D5*100 -> 4.557088 | J5: =F5/D5*100 -> 11.687846 | K5: =G5/D5*100 -> 49.629572 | L5: =H5/D5*100 -> 34.125494 | M5: 0 | N5: 0.0061272043 | O5: 0.011556256 | P5: =D5-SUM(M5,N5,O5) -> 0.42267428 | Q5: =M5/D5*100 -> 0 | R5: =N5/D5*100 -> 1.3914152 | S5: =O5/D5*100 -> 2.6242882 | T5: =P5/D5*100 -> 95.984297 | V5: =SUM(I5:L5) -> 100 | W5: =SUM(Q5:R5,S5) -> 4.0157033 | Y5: 0.045244147 | Z5: =Y5/D5*100 -> 10.274407 | AA5: 0 | AB5: =AA5/D5*100 -> 0 | AC5: 0.0067782894 | AD5: =AC5/D5*100 -> 1.5392688 | AF5: 0 | AG5: =AF5/D5*100 -> 0
A6: 01/24/005 | B6: Land at Aynsworth Avenue | C6: Residential | D6: 1.2650579 | E6: 0.032893917 | F6: 0.8971172 | G6: 0.28167187 | H6: =D6-E6-F6-G6 -> 0.053374943 | I6: =E6/D6*100 -> 2.6001906 | J6: =F6/D6*100 -> 70.915108 | K6: =G6/D6*100 -> 22.265531 | L6: =H6/D6*100 -> 4.2191699 | M6: 0.11418634 | N6: 0.13250247 | O6: 0.23636449 | P6: =D6-SUM(M6,N6,O6) -> 0.78200462 | Q6: =M6/D6*100 -> 9.0261748 | R6: =N6/D6*100 -> 10.474024 | S6: =O6/D6*100 -> 18.684084 | T6: =P6/D6*100 -> 61.815717 | V6: =SUM(I6:L6) -> 100 | W6: =SUM(Q6:R6,S6) -> 38.184283 | Y6: 0.00065757067 | Z6: =Y6/D6*100 -> 0.051979491 | AA6: 0 | AB6: =AA6/D6*100 -> 0 | AC6: 0.160245 | AD6: =AC6/D6*100 -> 12.667009 | AF6: 0 | AG6: =AF6/D6*100 -> 0
A7: 01/24/006 | B7: Apton Road Car Park | C7: Residential | D7: 0.21664486 | E7: 0 | F7: 0 | G7: 0 | H7: =D7-E7-F7-G7 -> 0.21664486 | I7: =E7/D7*100 -> 0 | J7: =F7/D7*100 -> 0 | K7: =G7/D7*100 -> 0 | L7: =H7/D7*100 -> 100 | M7: 0.0084809893 | N7: 0.002726231 | O7: 0.0079012065 | P7: =D7-SUM(M7,N7,O7) -> 0.19753643 | Q7: =M7/D7*100 -> 3.9146968 | R7: =N7/D7*100 -> 1.2583871 | S7: =O7/D7*100 -> 3.6470778 | T7: =P7/D7*100 -> 91.179838 | V7: =SUM(I7:L7) -> 100 | W7: =SUM(Q7:R7,S7) -> 8.8201617 | Y7: 0 | Z7: =Y7/D7*100 -> 0 | AA7: 0 | AB7: =AA7/D7*100 -> 0 | AC7: 0.0050696968 | AD7: =AC7/D7*100 -> 2.3400956 | AF7: 0 | AG7: =AF7/D7*100 -> 0
A8: 01/24/007 | B8: Land north of Plantains Wood Cottages, and east of the A120 Little Hadham Bypass | C8: Employment | D8: 11.52554 | E8: 0 | F8: 0 | G8: 0 | H8: =D8-E8-F8-G8 -> 11.52554 | I8: =E8/D8*100 -> 0 | J8: =F8/D8*100 -> 0 | K8: =G8/D8*100 -> 0 | L8: =H8/D8*100 -> 100 | M8: 0.022334533 | N8: 0.026905502 | O8: 0.13032155 | P8: =D8-SUM(M8,N8,O8) -> 11.345978 | Q8: =M8/D8*100 -> 0.19378296 | R8: =N8/D8*100 -> 0.23344245 | S8: =O8/D8*100 -> 1.1307197 | T8: =P8/D8*100 -> 98.442055 | V8: =SUM(I8:L8) -> 100 | W8: =SUM(Q8:R8,S8) -> 1.5579451 | Y8: 0 | Z8: =Y8/D8*100 -> 0 | AA8: 0 | AB8: =AA8/D8*100 -> 0 | AC8: 0.060737102 | AD8: =AC8/D8*100 -> 0.52697838 | AF8: 0 | AG8: =AF8/D8*100 -> 0
A9: 01/24/008 | B9: Wickham Hall | C9: Employment | D9: 4.9379629 | E9: 0 | F9: 0 | G9: 0 | H9: =D9-E9-F9-G9 -> 4.9379629 | I9: =E9/D9*100 -> 0 | J9: =F9/D9*100 -> 0 | K9: =G9/D9*100 -> 0 | L9: =H9/D9*100 -> 100 | M9: 0.19360575 | N9: 0.072477974 | O9: 0.13463894 | P9: =D9-SUM(M9,N9,O9) -> 4.5372402 | Q9: =M9/D9*100 -> 3.9207616 | R9: =N9/D9*100 -> 1.4677707 | S9: =O9/D9*100 -> 2.7266089 | T9: =P9/D9*100 -> 91.884859 | V9: =SUM(I9:L9) -> 100 | W9: =SUM(Q9:R9,S9) -> 8.1151412 | Y9: 0 | Z9: =Y9/D9*100 -> 0 | AA9: 0 | AB9: =AA9/D9*100 -> 0 | AC9: 0.052713136 | AD9: =AC9/D9*100 -> 1.0675077 | AF9: 0 | AG9: =AF9/D9*100 -> 0
A10: 01/24/009 | B10: Land east of Avanti Grange Sports Pitches, north of the A120 | C10: Leisure | D10: 2.5532587 | E10: 0.070823552 | F10: 0.00025369233 | G10: 0.68185466 | H10: =D10-E10-F10-G10 -> 1.8003268 | I10: =E10/D10*100 -> 2.7738495 | J10: =F10/D10*100 -> 0.0099360216 | K10: =G10/D10*100 -> 26.705272 | L10: =H10/D10*100 -> 70.510943 | M10: 0.10346615 | N10: 0.032174708 | O10: 0.098711491 | P10: =D10-SUM(M10,N10,O10) -> 2.3189063 | Q10: =M10/D10*100 -> 4.0523174 | R10: =N10/D10*100 -> 1.2601429 | S10: =O10/D10*100 -> 3.8660983 | T10: =P10/D10*100 -> 90.821441 | V10: =SUM(I10:L10) -> 100 | W10: =SUM(Q10:R10,S10) -> 9.1785587 | Y10: 0.00014587859 | Z10: =Y10/D10*100 -> 0.0057134279 | AA10: 0.004 | AB10: =AA10/D10*100 -> 0.15666254 | AC10: 0.051716153 | AD10: =AC10/D10*100 -> 2.025496 | AF10: 0 | AG10: =AF10/D10*100 -> 0
A11: 01/24/010 | B11: Land North of Great Hadham Road | C11: Residential | D11: 3.2497802 | E11: 0 | F11: 0 | G11: 0 | H11: =D11-E11-F11-G11 -> 3.2497802 | I11: =E11/D11*100 -> 0 | J11: =F11/D11*100 -> 0 | K11: =G11/D11*100 -> 0 | L11: =H11/D11*100 -> 100 | M11: 0.056744968 | N11: 0.034502976 | O11: 0.063103202 | P11: =D11-SUM(M11,N11,O11) -> 3.095429 | Q11: =M11/D11*100 -> 1.7461171 | R11: =N11/D11*100 -> 1.0617019 | S11: =O11/D11*100 -> 1.9417683 | T11: =P11/D11*100 -> 95.250413 | V11: =SUM(I11:L11) -> 100 | W11: =SUM(Q11:R11,S11) -> 4.7495873 | Y11: 0 | Z11: =Y11/D11*100 -> 0 | AA11: 0 | AB11: =AA11/D11*100 -> 0 | AC11: 0.033356179 | AD11: =AC11/D11*100 -> 1.0264134 | AF11: 0 | AG11: =AF11/D11*100 -> 0
A12: 01/24/011 | B12: Land adjacent to The Rectory | C12: Residential | D12: 0.75246567 | E12: 0 | F12: 0 | G12: 0 | H12: =D12-E12-F12-G12 -> 0.75246567 | I12: =E12/D12*100 -> 0 | J12: =F12/D12*100 -> 0 | K12: =G12/D12*100 -> 0 | L12: =H12/D12*100 -> 100 | M12: 0.093607952 | N12: 0.0072283472 | O12: 0.03756424 | P12: =D12-SUM(M12,N12,O12) -> 0.61406513 | Q12: =M12/D12*100 -> 12.440162 | R12: =N12/D12*100 -> 0.96062153 | S12: =O12/D12*100 -> 4.9921534 | T12: =P12/D12*100 -> 81.607063 | V12: =SUM(I12:L12) -> 100 | W12: =SUM(Q12:R12,S12) -> 18.392937 | Y12: 0 | Z12: =Y12/D12*100 -> 0 | AA12: 0 | AB12: =AA12/D12*100 -> 0 | AC12: 0.016978193 | AD12: =AC12/D12*100 -> 2.2563413 | AF12: 0 | AG12: =AF12/D12*100 -> 0
A13: 01/24/012 | B13: Land north and west of A120 | C13: Residential | D13: 7.2295257 | E13: 0 | F13: 0 | G13: 0 | H13: =D13-E13-F13-G13 -> 7.2295257 | I13: =E13/D13*100 -> 0 | J13: =F13/D13*100 -> 0 | K13: =G13/D13*100 -> 0 | L13: =H13/D13*100 -> 100 | M13: 0.076998301 | N13: 0.068961879 | O13: 0.23442925 | P13: =D13-SUM(M13,N13,O13) -> 6.8491363 | Q13: =M13/D13*100 -> 1.0650533 | R13: =N13/D13*100 -> 0.95389216 | S13: =O13/D13*100 -> 3.2426643 | T13: =P13/D13*100 -> 94.73839 | V13: =SUM(I13:L13) -> 100 | W13: =SUM(Q13:R13,S13) -> 5.2616097 | Y13: 0 | Z13: =Y13/D13*100 -> 0 | AA13: 0 | AB13: =AA13/D13*100 -> 0 | AC13: 0.10534482 | AD13: =AC13/D13*100 -> 1.4571471 | AF13: 0 | AG13: =AF13/D13*100 -> 0
... A69: 05/24/009 | B69: Caravan Field | C69: Residential | D69: 18.037806 | E69: 0 | F69: 0 | G69: 0.15189683 | H69: =D69-E69-F69-G69 -> 17.885909 | I69: =E69/D69*100 -> 0 | J69: =F69/D69*100 -> 0 | K69: =G69/D69*100 -> 0.8421026 | L69: =H69/D69*100 -> 99.157897 | M69: 0.038812707 | N69: 0.020006551 | O69: 0.061551224 | P69: =D69-SUM(M69,N69,O69) -> 17.917436 | Q69: =M69/D69*100 -> 0.21517422 | R69: =N69/D69*100 -> 0.11091455 | S69: =O69/D69*100 -> 0.34123454 | T69: =P69/D69*100 -> 99.332677 | V69: =SUM(I69:L69) -> 100 | W69: =SUM(Q69:R69,S69) -> 0.6673233 | Y69: 0 | Z69: =Y69/D69*100 -> 0 | AA69: 0 | AB69: =AA69/D69*100 -> 0 | AC69: 0.034011142 | AD69: =AC69/D69*100 -> 0.18855476 | AF69: 0 | AG69: =AF69/D69*100 -> 0
A70: 05/24/010 | B70: Land at Crane Mead | C70: Residential | D70: 0.13871934 | E70: 0 | F70: 0.0818 | G70: =0.0364+0.0205 -> 0.0569 | H70: =D70-E70-F70-G70 -> 1.9341583e-05 | I70: =E70/D70*100 -> 0 | J70: =F70/D70*100 -> 58.967985 | K70: =G70/D70*100 -> 41.018072 | L70: =H70/D70*100 -> 0.01394296 | M70: 0 | N70: 0 | O70: 0 | P70: =D70-SUM(M70,N70,O70) -> 0.13871934 | Q70: =M70/D70*100 -> 0 | R70: =N70/D70*100 -> 0 | S70: =O70/D70*100 -> 0 | T70: =P70/D70*100 -> 100 | V70: =SUM(I70:L70) -> 100 | W70: =SUM(Q70:R70,S70) -> 0 | Y70: 0 | Z70: =Y70/D70*100 -> 0 | AA70: 0 | AB70: =AA70/D70*100 -> 0 | AC70: 0 | AD70: =AC70/D70*100 -> 0 | AF70: 0 | AG70: =AF70/D70*100 -> 0
A71: 05/24/011 | B71: Land east of Crane Mead | C71: Residential | D71: 2.3509894 | E71: 0.055503253 | F71: =1.4706+0.0065+0.0871-0.055503 -> 1.508697 | G71: =0.3065+0.0008+0.216+0.2526+0.0065+0.002 -> 0.7844 | H71: =D71-E71-F71-G71 -> 0.0023891264 | I71: =E71/D71*100 -> 2.3608466 | J71: =F71/D71*100 -> 64.172855 | K71: =G71/D71*100 -> 33.364676 | L71: =H71/D71*100 -> 0.10162217 | M71: 0 | N71: 0.031000225 | O71: 0.11155119 | P71: =D71-SUM(M71,N71,O71) -> 2.208438 | Q71: =M71/D71*100 -> 0 | R71: =N71/D71*100 -> 1.3186034 | S71: =O71/D71*100 -> 4.7448613 | T71: =P71/D71*100 -> 93.936535 | V71: =SUM(I71:L71) -> 100 | W71: =SUM(Q71:R71,S71) -> 6.0634647 | Y71: 0.0022795721 | Z71: =Y71/D71*100 -> 0.096962246 | AA71: 0 | AB71: =AA71/D71*100 -> 0 | AC71: 0.057657034 | AD71: =AC71/D71*100 -> 2.4524583 | AF71: 0 | AG71: =AF71/D71*100 -> 0
A72: 05/24/012 | B72: Land at Chadwell Springs Golf Course, within title number HD463486 | C72: Residential | D72: 4.0434801 | E72: 0 | F72: 0 | G72: 0 | H72: =D72-E72-F72-G72 -> 4.0434801 | I72: =E72/D72*100 -> 0 | J72: =F72/D72*100 -> 0 | K72: =G72/D72*100 -> 0 | L72: =H72/D72*100 -> 100 | M72: 0 | N72: 0.017605243 | O72: 0.019606813 | P72: =D72-SUM(M72,N72,O72) -> 4.0062681 | Q72: =M72/D72*100 -> 0 | R72: =N72/D72*100 -> 0.43539828 | S72: =O72/D72*100 -> 0.48489946 | T72: =P72/D72*100 -> 99.079702 | V72: =SUM(I72:L72) -> 100 | W72: =SUM(Q72:R72,S72) -> 0.92029773 | Y72: 0 | Z72: =Y72/D72*100 -> 0 | AA72: 0 | AB72: =AA72/D72*100 -> 0 | AC72: 0.013604727 | AD72: =AC72/D72*100 -> 0.33646084 | AF72: 0 | AG72: =AF72/D72*100 -> 0
A73: 05/24/013 | B73: Presdales Pit | C73: Residential | D73: 11.111243 | E73: 0 | F73: 0 | G73: 0 | H73: =D73-E73-F73-G73 -> 11.111243 | I73: =E73/D73*100 -> 0 | J73: =F73/D73*100 -> 0 | K73: =G73/D73*100 -> 0 | L73: =H73/D73*100 -> 100 | M73: 0.16922192 | N73: 0.1833214 | O73: 0.39800191 | P73: =D73-SUM(M73,N73,O73) -> 10.360698 | Q73: =M73/D73*100 -> 1.5229792 | R73: =N73/D73*100 -> 1.649873 | S73: =O73/D73*100 -> 3.5819746 | T73: =P73/D73*100 -> 93.245173 | V73: =SUM(I73:L73) -> 100 | W73: =SUM(Q73:R73,S73) -> 6.7548267 | Y73: 0 | Z73: =Y73/D73*100 -> 0 | AA73: 0 | AB73: =AA73/D73*100 -> 0 | AC73: 0.21810093 | AD73: =AC73/D73*100 -> 1.962885 | AF73: 0 | AG73: =AF73/D73*100 -> 0
A74: 05/24/014 | B74: Land at New River, London Road/Marsh Lane | C74: Mixed use | D74: 5.2498764 | E74: 0 | F74: 0 | G74: 1.9691807 | H74: =D74-E74-F74-G74 -> 3.2806957 | I74: =E74/D74*100 -> 0 | J74: =F74/D74*100 -> 0 | K74: =G74/D74*100 -> 37.509087 | L74: =H74/D74*100 -> 62.490913 | M74: 0.0093098445 | N74: 0.043722991 | O74: 0.39970626 | P74: =D74-SUM(M74,N74,O74) -> 4.7971374 | Q74: =M74/D74*100 -> 0.17733454 | R74: =N74/D74*100 -> 0.83283847 | S74: =O74/D74*100 -> 7.6136317 | T74: =P74/D74*100 -> 91.376195 | V74: =SUM(I74:L74) -> 100 | W74: =SUM(Q74:R74,S74) -> 8.6238047 | Y74: 0 | Z74: =Y74/D74*100 -> 0 | AA74: 0.289 | AB74: =AA74/D74*100 -> 5.5048915 | AC74: 0.17543288 | AD74: =AC74/D74*100 -> 3.3416572 | AF74: 0 | AG74: =AF74/D74*100 -> 0
A75: 05/24/015 | B75: Presdales Pit | C75: Employment | D75: 11.183522 | E75: 0 | F75: 0 | G75: 0 | H75: =D75-E75-F75-G75 -> 11.183522 | I75: =E75/D75*100 -> 0 | J75: =F75/D75*100 -> 0 | K75: =G75/D75*100 -> 0 | L75: =H75/D75*100 -> 100 | M75: 0.17446011 | N75: 0.185664 | O75: 0.41131895 | P75: =D75-SUM(M75,N75,O75) -> 10.412079 | Q75: =M75/D75*100 -> 1.5599746 | R75: =N75/D75*100 -> 1.6601567 | S75: =O75/D75*100 -> 3.6779016 | T75: =P75/D75*100 -> 93.101967 | V75: =SUM(I75:L75) -> 100 | W75: =SUM(Q75:R75,S75) -> 6.898033 | Y75: 0 | Z75: =Y75/D75*100 -> 0 | AA75: 0 | AB75: =AA75/D75*100 -> 0 | AC75: 0.22374338 | AD75: =AC75/D75*100 -> 2.0006522 | AF75: 0 | AG75: =AF75/D75*100 -> 0
A76: 05/24/016 | B76: Land at New River, Lower Road | C76: Residential | D76: 3.9005225 | E76: 0 | F76: 0 | G76: 0 | H76: =D76-E76-F76-G76 -> 3.9005225 | I76: =E76/D76*100 -> 0 | J76: =F76/D76*100 -> 0 | K76: =G76/D76*100 -> 0 | L76: =H76/D76*100 -> 100 | M76: 0.021895144 | N76: 0.051255849 | O76: 0.28246901 | P76: =D76-SUM(M76,N76,O76) -> 3.5449025 | Q76: =M76/D76*100 -> 0.56133874 | R76: =N76/D76*100 -> 1.3140765 | S76: =O76/D76*100 -> 7.2418247 | T76: =P76/D76*100 -> 90.88276 | V76: =SUM(I76:L76) -> 100 | W76: =SUM(Q76:R76,S76) -> 9.11724 | Y76: 0 | Z76: =Y76/D76*100 -> 0 | AA76: 0 | AB76: =AA76/D76*100 -> 0 | AC76: 0.13104657 | AD76: =AC76/D76*100 -> 3.3597183 | AF76: 0 | AG76: =AF76/D76*100 -> 0
A77: 05/24/017 | B77: Wadesmill Park | C77: Residential | D77: 9.8067981 | E77: 0 | F77: 0 | G77: 0 | H77: =D77-E77-F77-G77 -> 9.8067981 | I77: =E77/D77*100 -> 0 | J77: =F77/D77*100 -> 0 | K77: =G77/D77*100 -> 0 | L77: =H77/D77*100 -> 100 | M77: 0.022854321 | N77: 0.019664304 | O77: 0.10418354 | P77: =D77-SUM(M77,N77,O77) -> 9.6600959 | Q77: =M77/D77*100 -> 0.2330457 | R77: =N77/D77*100 -> 0.20051707 | S77: =O77/D77*100 -> 1.0623604 | T77: =P77/D77*100 -> 98.504077 | V77: =SUM(I77:L77) -> 100 | W77: =SUM(Q77:R77,S77) -> 1.4959232 | Y77: 0 | Z77: =Y77/D77*100 -> 0 | AA77: 0 | AB77: =AA77/D77*100 -> 0 | AC77: 0.025947538 | AD77: =AC77/D77*100 -> 0.26458726 | AF77: 0 | AG77: =AF77/D77*100 -> 0
A78: 05/24/018 | B78: Former Brazier Landfill Site | C78: Employment | D78: 57.559797 | E78: 0 | F78: 0 | G78: 0 | H78: =D78-E78-F78-G78 -> 57.559797 | I78: =E78/D78*100 -> 0 | J78: =F78/D78*100 -> 0 | K78: =G78/D78*100 -> 0 | L78: =H78/D78*100 -> 100 | M78: 0.08282946 | N78: 0.23928498 | O78: 0.92985322 | P78: =D78-SUM(M78,N78,O78) -> 56.30783 | Q78: =M78/D78*100 -> 0.14390158 | R78: =N78/D78*100 -> 0.41571547 | S78: =O78/D78*100 -> 1.615456 | T78: =P78/D78*100 -> 97.824927 | V78: =SUM(I78:L78) -> 100 | W78: =SUM(Q78:R78,S78) -> 2.1750731 | Y78: 0 | Z78: =Y78/D78*100 -> 0 | AA78: 0 | AB78: =AA78/D78*100 -> 0 | AC78: 0.50858099 | AD78: =AC78/D78*100 -> 0.88356981 | AF78: 0 | AG78: =AF78/D78*100 -> 0
A79: 05/24/019 | B79: Land adjacent to Appleton Farm, Babbs Green, Wareside | C79: Residential | D79: 0.66345815 | E79: 0 | F79: 0 | G79: 0 | H79: =D79-E79-F79-G79 -> 0.66345815 | I79: =E79/D79*100 -> 0 | J79: =F79/D79*100 -> 0 | K79: =G79/D79*100 -> 0 | L79: =H79/D79*100 -> 100 | M79: 0 | N79: 0 | O79: 0 | P79: =D79-SUM(M79,N79,O79) -> 0.66345815 | Q79: =M79/D79*100 -> 0 | R79: =N79/D79*100 -> 0 | S79: =O79/D79*100 -> 0 | T79: =P79/D79*100 -> 100 | V79: =SUM(I79:L79) -> 100 | W79: =SUM(Q79:R79,S79) -> 0 | Y79: 0 | Z79: =Y79/D79*100 -> 0 | AA79: 0 | AB79: =AA79/D79*100 -> 0 | AC79: 0 | AD79: =AC79/D79*100 -> 0 | AF79: 0 | AG79: =AF79/D79*100 -> 0
A80: 05/24/020 | B80: Land at King George Road former Garage and Community Hall Site | C80: Residential | D80: 0.11067325 | E80: 0 | F80: 0 | G80: 0 | H80: =D80-E80-F80-G80 -> 0.11067325 | I80: =E80/D80*100 -> 0 | J80: =F80/D80*100 -> 0 | K80: =G80/D80*100 -> 0 | L80: =H80/D80*100 -> 100 | M80: 0 | N80: 0 | O80: 0 | P80: =D80-SUM(M80,N80,O80) -> 0.11067325 | Q80: =M80/D80*100 -> 0 | R80: =N80/D80*100 -> 0 | S80: =O80/D80*100 -> 0 | T80: =P80/D80*100 -> 100 | V80: =SUM(I80:L80) -> 100 | W80: =SUM(Q80:R80,S80) -> 0 | Y80: 0 | Z80: =Y80/D80*100 -> 0 | AA80: 0 | AB80: =AA80/D80*100 -> 0 | AC80: 0 | AD80: =AC80/D80*100 -> 0 | AF80: 0 | AG80: =AF80/D80*100 -> 0
A81: 05/24/021 | B81: Pomarium | C81: Residential | D81: 1.2892931 | E81: 0 | F81: 0 | G81: 0 | H81: =D81-E81-F81-G81 -> 1.2892931 | I81: =E81/D81*100 -> 0 | J81: =F81/D81*100 -> 0 | K81: =G81/D81*100 -> 0 | L81: =H81/D81*100 -> 100 | M81: 0.026395701 | N81: 0.00040014422 | O81: 0.0026125568 | P81: =D81-SUM(M81,N81,O81) -> 1.2598847 | Q81: =M81/D81*100 -> 2.0473002 | R81: =N81/D81*100 -> 0.031035938 | S81: =O81/D81*100 -> 0.20263482 | T81: =P81/D81*100 -> 97.719029 | V81: =SUM(I81:L81) -> 100 | W81: =SUM(Q81:R81,S81) -> 2.2809709 | Y81: 0 | Z81: =Y81/D81*100 -> 0 | AA81: 0 | AB81: =AA81/D81*100 -> 0 | AC81: 0.00040014425 | AD81: =AC81/D81*100 -> 0.03103594 | AF81: 0 | AG81: =AF81/D81*100 -> 0
A82: 05/24/022 | B82: land adjacent to the pomarium | C82: Residential | D82: 1.0837639 | E82: 0 | F82: 0 | G82: 0 | H82: =D82-E82-F82-G82 -> 1.0837639 | I82: =E82/D82*100 -> 0 | J82: =F82/D82*100 -> 0 | K82: =G82/D82*100 -> 0 | L82: =H82/D82*100 -> 100 | M82: 0 | N82: 0 | O82: 0 | P82: =D82-SUM(M82,N82,O82) -> 1.0837639 | Q82: =M82/D82*100 -> 0 | R82: =N82/D82*100 -> 0 | S82: =O82/D82*100 -> 0 | T82: =P82/D82*100 -> 100 | V82: =SUM(I82:L82) -> 100 | W82: =SUM(Q82:R82,S82) -> 0 | Y82: 0 | Z82: =Y82/D82*100 -> 0 | AA82: 0 | AB82: =AA82/D82*100 -> 0 | AC82: 0 | AD82: =AC82/D82*100 -> 0 | AF82: 0 | AG82: =AF82/D82*100 -> 0
A83: 06/24/001 | B83: The Old Bell. Anstey | C83: Residential | D83: 4.0634442 | E83: 0.0037420238 | F83: 0.021374368 | G83: 0.10791254 | H83: =D83-E83-F83-G83 -> 3.9304153 | I83: =E83/D83*100 -> 0.092089952 | J83: =F83/D83*100 -> 0.52601604 | K83: =G83/D83*100 -> 2.6556915 | L83: =H83/D83*100 -> 96.726203 | M83: 0.044032878 | N83: 0.022108633 | O83: 0.12818829 | P83: =D83-SUM(M83,N83,O83) -> 3.8691144 | Q83: =M83/D83*100 -> 1.0836344 | R83: =N83/D83*100 -> 0.54408604 | S83: =O83/D83*100 -> 3.1546708 | T83: =P83/D83*100 -> 95.217609 | V83: =SUM(I83:L83) -> 100 | W83: =SUM(Q83:R83,S83) -> 4.7823912 | Y83: 0.017070554 | Z83: =Y83/D83*100 -> 0.4201006 | AA83: 0 | AB83: =AA83/D83*100 -> 0 | AC83: 0.061181512 | AD83: =AC83/D83*100 -> 1.5056565 | AF83: 0 | AG83: =AF83/D83*100 -> 0
... A284: 03/24/019 | B284: County Hall | C284: Residential | D284: 10.369849 | E284: 0 | F284: 0 | G284: 0 | H284: =D284-E284-F284-G284 -> 10.369849 | I284: =E284/D284*100 -> 0 | J284: =F284/D284*100 -> 0 | K284: =G284/D284*100 -> 0 | L284: =H284/D284*100 -> 100 | M284: 0.01 | N284: 0.047 | O284: 0.365 | P284: =D284-SUM(M284,N284,O284) -> 9.9478485 | Q284: =M284/D284*100 -> 0.096433424 | R284: =N284/D284*100 -> 0.45323709 | S284: =O284/D284*100 -> 3.51982 | T284: =P284/D284*100 -> 95.93051 | V284: =SUM(I284:L284) -> 100 | W284: =SUM(Q284:R284,S284) -> 4.0694905 | Y284: 0 | Z284: =Y284/D284*100 -> 0 | AA284: 0 | AB284: =AA284/D284*100 -> 0 | AC284: 0 | AD284: =AC284/D284*100 -> 0 | AF284: 0 | AG284: =AF284/D284*100 -> 0

Sheet Sheet1
A1: SiteRef | B1: Future_FZ_area | C1: Future_FZ_area
A2: 01/24/001 | B2: =_xlfn.XLOOKUP(A2,Reference!$D$2:$D$60,Reference!$H$2:$H$60,"",0,1) -> 0.019 | C2: 0.019
A3: 01/24/002 | B3: =_xlfn.XLOOKUP(A3,Reference!$D$2:$D$60,Reference!$H$2:$H$60,"",0,1) -> 0.019 | C3: 0.019
A4: 01/24/003 | B4: =_xlfn.XLOOKUP(A4,Reference!$D$2:$D$60,Reference!$H$2:$H$60,"",0,1) | C4: 0
A5: 01/24/004 | B5: =_xlfn.XLOOKUP(A5,Reference!$D$2:$D$60,Reference!$H$2:$H$60,"",0,1) | C5: 0
A6: 01/24/005 | B6: =_xlfn.XLOOKUP(A6,Reference!$D$2:$D$60,Reference!$H$2:$H$60,"",0,1) | C6: 0
A7: 01/24/006 | B7: =_xlfn.XLOOKUP(A7,Reference!$D$2:$D$60,Reference!$H$2:$H$60,"",0,1) | C7: 0
A8: 01/24/007 | B8: =_xlfn.XLOOKUP(A8,Reference!$D$2:$D$60,Reference!$H$2:$H$60,"",0,1) | C8: 0
A9: 01/24/008 | B9: =_xlfn.XLOOKUP(A9,Reference!$D$2:$D$60,Reference!$H$2:$H$60,"",0,1) | C9: 0
A10: 01/24/009 | B10: =_xlfn.XLOOKUP(A10,Reference!$D$2:$D$60,Reference!$H$2:$H$60,"",0,1) -> 0.004 | C10: 0.004
A11: 01/24/010 | B11: =_xlfn.XLOOKUP(A11,Reference!$D$2:$D$60,Reference!$H$2:$H$60,"",0,1) | C11: 0
A12: 01/24/011 | B12: =_xlfn.XLOOKUP(A12,Reference!$D$2:$D$60,Reference!$H$2:$H$60,"",0,1) | C12: 0
A13: 01/24/012 | B13: =_xlfn.XLOOKUP(A13,Reference!$D$2:$D$60,Reference!$H$2:$H$60,"",0,1) | C13: 0
... A284: 03/24/019 | B284: =_xlfn.XLOOKUP(A284,Reference!$D$2:$D$60,Reference!$H$2:$H$60,"",0,1) | C284: 0

Sheet Reference
A1: OBJECTID | B1: flood_sour | C1: name | D1: EHSLAA Ref | E1: site_area | F1: Actual Sit | G1: site_area_ | H1: JBA_Area
A2: 272023 | B2: river | C2: Flood Zones plus climate change | D2: 01/24/001 | E2: 0.73 | F2: 0.73 | G2: 0.73 | H2: 0.019
A3: 272087 | B3: river | C3: Flood Zones plus climate change | D3: 01/24/002 | E3: 10 | F3: 11.11 | G3: 0 | H3: 0.019
A4: 271995 | B4: river | C4: Flood Zones plus climate change | D4: 01/24/009 | E4: 2.5 | F4: 2.55 | G4: 2.5 | H4: 0.004
A5: 271967 | B5: river | C5: Flood Zones plus climate change | D5: 01/24/015 | E5: 61 | F5: 61.13 | G5: 36.6 | H5: 0.134
A6: 295105 | B6: river | C6: Flood Zones plus climate change | D6: 02/24/009 | E6: 26.5 | F6: 26.29 | G6: 6 | H6: 1.637
A7: 293321 | B7: river | C7: Flood Zones plus climate change | D7: 02/24/011 | E7: 0.6 | F7: 0.69 | G7: 0.6 | H7: 0
A8: 293509 | B8: river | C8: Flood Zones plus climate change | D8: 02/24/014 | E8: 63.4 | F8: 62.34 | G8: 63.4 | H8: 0
A9: 295127 | B9: river | C9: Flood Zones plus climate change | D9: 02/24/015 | E9: 82.5 | F9: 60.9 | G9: 60.9 | H9: 3.167
A10: 299987 | B10: river | C10: Flood Zones plus climate change | D10: 03/24/003 | E10: 0.57 | F10: 0.57 | G10: 0.39 | H10: 0.003
A11: 299987 | B11: river | C11: Flood Zones plus climate change | D11: 03/24/004 | E11: 2 | F11: 1.96 | G11: 1.6 | H11: 0.008
A12: 299947 | B12: river | C12: Flood Zones plus climate change | D12: 03/24/005 | E12: 14.4 | F12: 14.38 | G12: 14.4 | H12: 0
A13: 300098 | B13: river | C13: Flood Zones plus climate change | D13: 03/24/006 | E13: 0.7 | F13: 0.92 | G13: 0.7 | H13: 0.001
... A60: 271978 | B60: river | C60: Flood Zones plus climate change | D60: 50/24/001 | E60: 22 | F60: 26.07 | G60: 22 | H60: 0.014
